BEGIN:VCALENDAR
VERSION:2.0
PRODID:-//Arbeitskreis Hallesche Auenwälder zu Halle / Saale e.V. (AHA) - ECPv6.15.18//NONSGML v1.0//EN
CALSCALE:GREGORIAN
METHOD:PUBLISH
X-ORIGINAL-URL:https://www.web-conzept-mn.de
X-WR-CALDESC:Veranstaltungen für Arbeitskreis Hallesche Auenwälder zu Halle / Saale e.V. (AHA)
REFRESH-INTERVAL;VALUE=DURATION:PT1H
X-Robots-Tag:noindex
X-PUBLISHED-TTL:PT1H
BEGIN:VTIMEZONE
TZID:Europe/Helsinki
BEGIN:DAYLIGHT
TZOFFSETFROM:+0200
TZOFFSETTO:+0300
TZNAME:EEST
DTSTART:20250330T010000
END:DAYLIGHT
BEGIN:STANDARD
TZOFFSETFROM:+0300
TZOFFSETTO:+0200
TZNAME:EET
DTSTART:20251026T010000
END:STANDARD
BEGIN:DAYLIGHT
TZOFFSETFROM:+0200
TZOFFSETTO:+0300
TZNAME:EEST
DTSTART:20260329T010000
END:DAYLIGHT
BEGIN:STANDARD
TZOFFSETFROM:+0300
TZOFFSETTO:+0200
TZNAME:EET
DTSTART:20261025T010000
END:STANDARD
BEGIN:DAYLIGHT
TZOFFSETFROM:+0200
TZOFFSETTO:+0300
TZNAME:EEST
DTSTART:20270328T010000
END:DAYLIGHT
BEGIN:STANDARD
TZOFFSETFROM:+0300
TZOFFSETTO:+0200
TZNAME:EET
DTSTART:20271031T010000
END:STANDARD
END:VTIMEZONE
BEGIN:VEVENT
DTSTART;TZID=Europe/Helsinki:20260704T100000
DTEND;TZID=Europe/Helsinki:20260704T140000
DTSTAMP:20260424T153337
CREATED:20251221T122644Z
LAST-MODIFIED:20251221T122644Z
UID:63906-1783159200-1783173600@www.web-conzept-mn.de
SUMMARY:Erfassung der Entomofauna des Erlen-Eschenwaldes “Reudener Busch”
DESCRIPTION:Samstag\, den 04.07.\, um 10.00 Uhr\nErfassung der Entomofauna des Erlen-Eschenwaldes “Reudener Busch”\nErfassung der Insektenfauna (Tagfalter\, Laufkäfer\, Libellen\, Heuschrecken)\, Beobachtung und schriftliche Erfassung der gesichteten Tiere in Listen\nBitte bringen Sie ihr eigenes Fernglas mit. Leider können wir Ihnen keine Ferngläser zur Verfügung stel­len. Das betrifft auch Klemmbretter.\nVoranmeldung bis spätestens 22.00 Uhr am Freitag\, dem 03.07.2026\, unter: 0176 – 568 796 31\nTreffpunkt: Bahnhof Wolfen\nDauer: ca. 4 Stunden
URL:https://www.web-conzept-mn.de/event/erfassung-der-entomofauna-des-erlen-eschenwaldes-reudener-busch-5/
END:VEVENT
BEGIN:VEVENT
DTSTART;TZID=Europe/Helsinki:20260704T100000
DTEND;TZID=Europe/Helsinki:20260704T173000
DTSTAMP:20260424T153337
CREATED:20251219T111058Z
LAST-MODIFIED:20251219T111058Z
UID:63799-1783159200-1783186200@www.web-conzept-mn.de
SUMMARY:Radexkursion von Gatersleben nach Staßfurt
DESCRIPTION:Samstag\, den 04.07.\, um 10.00 Uhr\nRadexkursion von Gatersleben nach Staßfurt\nRoute: Parkanlage zum „Oberhof“ der ehemaligen preußischen Staats­domäne in Gatersleben\, NSG Hakel\, Bode mit Aufenthalten an den Mündungsbereichen von Ehle und Röthe sowie im Gaense­further Busch\, Untere Liethe\, Staßfurt\nTreffpunkt: Bahnhof Gatersleben\nEndpunkt: Bahnhof Staßfurt\nDauer: ca. 7\,5 Stunden
URL:https://www.web-conzept-mn.de/event/radexkursion-von-gatersleben-nach-stassfurt-4/
END:VEVENT
BEGIN:VEVENT
DTSTART;TZID=Europe/Helsinki:20260706T190000
DTEND;TZID=Europe/Helsinki:20260706T220000
DTSTAMP:20260424T153337
CREATED:20251218T183731Z
LAST-MODIFIED:20251218T183731Z
UID:63741-1783364400-1783375200@www.web-conzept-mn.de
SUMMARY:Mitgliederversammlung
DESCRIPTION:Montag\, den 06.07.\, um 19.00 Uhr\nMitgliederversammlung\nTreffpunkt: Versammlungsraum Reformhaus\, Große Klausstraße 11
URL:https://www.web-conzept-mn.de/event/mitgliederversammlung-44/
LOCATION:Refomhaus – Haus der Bewegungen\, Große Klausstraße 11\, Halle (Saale)\, 06108\, Deutschland
END:VEVENT
BEGIN:VEVENT
DTSTART;TZID=Europe/Helsinki:20260711T100000
DTEND;TZID=Europe/Helsinki:20260711T160000
DTSTAMP:20260424T153337
CREATED:20251219T111247Z
LAST-MODIFIED:20251219T111247Z
UID:63801-1783764000-1783785600@www.web-conzept-mn.de
SUMMARY:Fahrradrundexkursion entlang des Elbe-Havel-Kanals und der Elbe
DESCRIPTION:Samstag\, den 11.07.\, um 10.00 Uhr\nFahrradrundexkursion entlang des Elbe-Havel-Kanals und der Elbe\nzwischen der Stadt Burg und der Landeshauptstadt Magdeburg entlang des Biederitzer Busches/Niederholz und zum Stadtpark Rotehorn\nTreffpunkt: Bahnhof Burg (bei Magdeburg)\, Bahnhofstraße\nEndpunkt: Ecke Steubenallee/Steinbrücke\, Magdeburg\nDauer: ca. 6 Stunden
URL:https://www.web-conzept-mn.de/event/fahrradrundexkursion-entlang-des-elbe-havel-kanals-und-der-elbe/
END:VEVENT
BEGIN:VEVENT
DTSTART;TZID=Europe/Helsinki:20260718T100000
DTEND;TZID=Europe/Helsinki:20260718T140000
DTSTAMP:20260424T153337
CREATED:20251220T133247Z
LAST-MODIFIED:20251220T133247Z
UID:63850-1784368800-1784383200@www.web-conzept-mn.de
SUMMARY:Arbeitseinsatz auf der Streuobstwiese „Am Landhaus“
DESCRIPTION:Samstag\, den 18.07.\, um 10.00 Uhr\nArbeitseinsatz auf der Streuobstwiese „Am Landhaus“\nTreffpunkt: Pension „Landhaus“ Dessau
URL:https://www.web-conzept-mn.de/event/arbeitseinsatz-auf-der-streuobstwiese-am-landhaus-29/
LOCATION:Streuobstwiese Landhaus Dessau\, Landhaus 1\, Dessau-Roßlau\, 06844\, Deutschland
END:VEVENT
BEGIN:VEVENT
DTSTART;TZID=Europe/Helsinki:20260718T100000
DTEND;TZID=Europe/Helsinki:20260718T140000
DTSTAMP:20260424T153337
CREATED:20251221T122909Z
LAST-MODIFIED:20251221T122909Z
UID:63908-1784368800-1784383200@www.web-conzept-mn.de
SUMMARY:Erfassung der Entomofauna des Auenrestwald "Wolfener Busch"
DESCRIPTION:Samstag\, den 18.07.\, um 10.00 UhrErfassung der Entomofauna des Auenrestwald „Wolfener Busch“\nBeobachtung der im Gebiet vorkommenden Insekten und Spinnen mit dem Luppen und schriftli­che Erfassung der gesichteten Tiere in Listen\nBitte bringen Sie ihre eigene Lupe mit. Leider können wir Ihnen keine Lupen zur Verfügung stel­len. Das betrifft auch Klemmbretter.\nVoranmeldung bis spätestens 22.00 Uhr am Freitag\, dem 17.07.2026\, unter: 0176 – 568 796 31\nTreffpunkt: Bahnhof WolfenDauer: ca. 4 Stunden
URL:https://www.web-conzept-mn.de/event/erfassung-der-entomofauna-des-auenrestwald-wolfener-busch-4/
END:VEVENT
BEGIN:VEVENT
DTSTART;TZID=Europe/Helsinki:20260725T100000
DTEND;TZID=Europe/Helsinki:20260725T160000
DTSTAMP:20260424T153337
CREATED:20251221T114836Z
LAST-MODIFIED:20251221T131950Z
UID:63877-1784973600-1784995200@www.web-conzept-mn.de
SUMMARY:Wanderexkursion zum Stakendorfer Busch und zur Dreieckgrube
DESCRIPTION:Samstag\, den 25.07.\, um 10.00 Uhr\nWanderexkursion zum Stakendorfer Busch und zur Dreieckgrube\nRoute: vom Bahnhof Wolfen zum Südpark\, Überquerung der B 184 und weiter entlang der Grube Johannes bis zur Jahnstraße\, vorbei am Jahnsportplatz und weiter in Richtung Unterführung B183\, nach dem Passieren der Unterführung weiter in Richtung Stakendorfer Busch und Dreieckgrube\, Umrundung der Dreieckgrube weiter zu den im näheren Umfeld befindlichen Grubengewässern\nTreffpunkt: Bahnhof Wolfen\nDauer: ca. 6 Stunden \nVoranmeldung bis spätestens 22.00 Uhr am Freitag\, dem 24.07.2026\, unter: 0176 – 568 796 31
URL:https://www.web-conzept-mn.de/event/wanderexkursion-zum-stakendorfer-busch-und-zur-dreieckgrube-4/
END:VEVENT
BEGIN:VEVENT
DTSTART;TZID=Europe/Helsinki:20260725T100000
DTEND;TZID=Europe/Helsinki:20260725T180000
DTSTAMP:20260424T153337
CREATED:20251219T111443Z
LAST-MODIFIED:20251219T111443Z
UID:63803-1784973600-1785002400@www.web-conzept-mn.de
SUMMARY:Fahrradexkursion entlang der Schwarzen Elster und der Elbe
DESCRIPTION:Samstag\, den 25.07.\, um 10.00 Uhr\nFahrradexkursion entlang der Schwarzen Elster und der Elbe\nzwischen der Stadt Falkenberg (Elster) und der Lutherstadt Wittenberg\nTreffpunkt: Bahnhof Falkenberg (Elster)\, Ecke Friedrich-Engels-Straße/Bahnhofstraße\nEndpunkt: Lutherstadt Wittenberg Hauptbahnhof\nDauer: ca. 8 Stunden
URL:https://www.web-conzept-mn.de/event/fahrradexkursion-entlang-der-schwarzen-elster-und-der-elbe-2/
END:VEVENT
BEGIN:VEVENT
DTSTART;TZID=Europe/Helsinki:20260727T190000
DTEND;TZID=Europe/Helsinki:20260727T220000
DTSTAMP:20260424T153337
CREATED:20251221T125749Z
LAST-MODIFIED:20251221T125749Z
UID:63924-1785178800-1785189600@www.web-conzept-mn.de
SUMMARY:Versammlung der Initiative “Pro Baum”
DESCRIPTION:Montag\, den 27.07.\, um 19.00 Uhr\nVersammlung der Initiative “Pro Baum”\nTreffpunkt: Versammlungsraum Reformhaus\, Große Klausstraße 11
URL:https://www.web-conzept-mn.de/event/versammlung-der-initiative-pro-baum-46/
LOCATION:Refomhaus – Haus der Bewegungen\, Große Klausstraße 11\, Halle (Saale)\, 06108\, Deutschland
END:VEVENT
END:VCALENDAR