BEGIN:VCALENDAR
VERSION:2.0
PRODID:-//Arbeitskreis Hallesche Auenwälder zu Halle / Saale e.V. (AHA) - ECPv6.15.18//NONSGML v1.0//EN
CALSCALE:GREGORIAN
METHOD:PUBLISH
X-ORIGINAL-URL:https://www.web-conzept-mn.de
X-WR-CALDESC:Veranstaltungen für Arbeitskreis Hallesche Auenwälder zu Halle / Saale e.V. (AHA)
REFRESH-INTERVAL;VALUE=DURATION:PT1H
X-Robots-Tag:noindex
X-PUBLISHED-TTL:PT1H
BEGIN:VTIMEZONE
TZID:Europe/Helsinki
BEGIN:DAYLIGHT
TZOFFSETFROM:+0200
TZOFFSETTO:+0300
TZNAME:EEST
DTSTART:20250330T010000
END:DAYLIGHT
BEGIN:STANDARD
TZOFFSETFROM:+0300
TZOFFSETTO:+0200
TZNAME:EET
DTSTART:20251026T010000
END:STANDARD
BEGIN:DAYLIGHT
TZOFFSETFROM:+0200
TZOFFSETTO:+0300
TZNAME:EEST
DTSTART:20260329T010000
END:DAYLIGHT
BEGIN:STANDARD
TZOFFSETFROM:+0300
TZOFFSETTO:+0200
TZNAME:EET
DTSTART:20261025T010000
END:STANDARD
BEGIN:DAYLIGHT
TZOFFSETFROM:+0200
TZOFFSETTO:+0300
TZNAME:EEST
DTSTART:20270328T010000
END:DAYLIGHT
BEGIN:STANDARD
TZOFFSETFROM:+0300
TZOFFSETTO:+0200
TZNAME:EET
DTSTART:20271031T010000
END:STANDARD
END:VTIMEZONE
BEGIN:VEVENT
DTSTART;TZID=Europe/Helsinki:20260502T100000
DTEND;TZID=Europe/Helsinki:20260502T160000
DTSTAMP:20260424T123122
CREATED:20251219T103136Z
LAST-MODIFIED:20251219T103136Z
UID:63778-1777716000-1777737600@www.web-conzept-mn.de
SUMMARY:Gemeinsame Fahrradexkursion zum Rathsbruch
DESCRIPTION:Samstag\, den 02.05.\, um 10.00 Uhr\nGemeinsame Fahrradexkursion zum Rathsbruch\nmit der Zerbst blüht auf e.V. zur Erläuterung seiner Wiedervernässung. Weiterer\nVerlauf zum Kupferhammer Thießen\, zum NSG „Buchholz“ und durch die Rosselaue bis zum Bahnhof Roßlau\nTreffpunkt: Bahnhof Zerbst\nDauer: ca. 6 Stunden
URL:https://www.web-conzept-mn.de/event/gemeinsame-fahrradexkursion-zum-rathsbruch/
END:VEVENT
BEGIN:VEVENT
DTSTART;TZID=Europe/Helsinki:20260504T190000
DTEND;TZID=Europe/Helsinki:20260504T220000
DTSTAMP:20260424T123122
CREATED:20251218T183231Z
LAST-MODIFIED:20251218T183231Z
UID:63737-1777921200-1777932000@www.web-conzept-mn.de
SUMMARY:Mitgliederversammlung
DESCRIPTION:Montag\, den 04.05.\, um 19.00 Uhr\nMitgliederversammlung\nTreffpunkt: Versammlungsraum Reformhaus\, Große Klausstraße 11
URL:https://www.web-conzept-mn.de/event/mitgliederversammlung-42/
LOCATION:Refomhaus – Haus der Bewegungen\, Große Klausstraße 11\, Halle (Saale)\, 06108\, Deutschland
END:VEVENT
BEGIN:VEVENT
DTSTART;TZID=Europe/Helsinki:20260509T100000
DTEND;TZID=Europe/Helsinki:20260509T140000
DTSTAMP:20260424T123122
CREATED:20251221T121912Z
LAST-MODIFIED:20251221T121912Z
UID:63898-1778320800-1778335200@www.web-conzept-mn.de
SUMMARY:Erfassung der Avifauna des Naherholungsgebietes Fuhneaue Wolfen mit dem Gondelteich
DESCRIPTION:Samstag\, den 09.05.\, um 10.00 Uhr\nErfassung der Avifauna des Naherholungsgebietes Fuhneaue Wolfen mit dem Gondelteich\nBeobachtung der im Gebiet vorkommenden Vogelarten mit dem Fernglas und schriftliche Erfassung der gesichteten Tiere in Listen\nBitte bringen Sie ihr eigenes Fernglas mit. Leider können wir Ihnen kein Fernglas zur Verfügung stel­len. Das betrifft auch Klemmbretter.\nVoranmeldung bis spätestens 22.00 Uhr am Freitag\, dem 08.05.2026\, unter: 0176 – 568 796 31\nTreffpunkt: Bahnhof Wolfen\nDauer: ca. 4 Stunden
URL:https://www.web-conzept-mn.de/event/erfassung-der-avifauna-des-naherholungsgebietes-fuhneaue-wolfen-mit-dem-gondelteich-4/
END:VEVENT
BEGIN:VEVENT
DTSTART;TZID=Europe/Helsinki:20260509T100000
DTEND;TZID=Europe/Helsinki:20260509T160000
DTSTAMP:20260424T123122
CREATED:20251219T103309Z
LAST-MODIFIED:20251219T103309Z
UID:63781-1778320800-1778342400@www.web-conzept-mn.de
SUMMARY:Fahrradexkursion durch die Aue der Weißen Elster
DESCRIPTION:Samstag\, den 09.05.\, um 10.00 Uhr\nFahrradexkursion durch die Aue der Weißen Elster\nzwischen Zeitz und Leipzig bis zur Einmündung der Pleiße in die Weiße Elster am Leipziger Eck\nTreffpunkt: Bahnhof Zeitz\, Ausgang Baenschstraße\nDauer: ca. 6 Stunden
URL:https://www.web-conzept-mn.de/event/fahrradexkursion-durch-die-aue-der-weissen-elster-5/
END:VEVENT
BEGIN:VEVENT
DTSTART;TZID=Europe/Helsinki:20260516T100000
DTEND;TZID=Europe/Helsinki:20260516T140000
DTSTAMP:20260424T123122
CREATED:20251220T134325Z
LAST-MODIFIED:20251220T134325Z
UID:63863-1778925600-1778940000@www.web-conzept-mn.de
SUMMARY:Arbeitseinsatz auf der Peißnitz
DESCRIPTION:Samstag\, den 16.05.\, um 10.00 Uhr\nArbeitseinsatz auf der Peißnitz\nTreffpunkt: Peißnitzhaus
URL:https://www.web-conzept-mn.de/event/arbeitseinsatz-auf-der-peissnitz-6/
LOCATION:Peißnitz\, Halle (Saale)
END:VEVENT
BEGIN:VEVENT
DTSTART;TZID=Europe/Helsinki:20260518T190000
DTEND;TZID=Europe/Helsinki:20260518T220000
DTSTAMP:20260424T123122
CREATED:20251221T125510Z
LAST-MODIFIED:20251221T125510Z
UID:63920-1779130800-1779141600@www.web-conzept-mn.de
SUMMARY:Versammlung der Initiative “Pro Baum”
DESCRIPTION:Montag\, den 18.05.\, um 19.00 Uhr\nVersammlung der Initiative “Pro Baum”\nTreffpunkt: Versammlungsraum Reformhaus\, Große Klausstraße 11
URL:https://www.web-conzept-mn.de/event/versammlung-der-initiative-pro-baum-44/
LOCATION:Refomhaus – Haus der Bewegungen\, Große Klausstraße 11\, Halle (Saale)\, 06108\, Deutschland
END:VEVENT
BEGIN:VEVENT
DTSTART;TZID=Europe/Helsinki:20260523T100000
DTEND;TZID=Europe/Helsinki:20260523T170000
DTSTAMP:20260424T123122
CREATED:20251219T103711Z
LAST-MODIFIED:20251219T103711Z
UID:63783-1779530400-1779555600@www.web-conzept-mn.de
SUMMARY:Fahrradexkursion durch die Auen von Elbe und Havel zwischen den Städten Wittenberge und Havelberg
DESCRIPTION:Pfingsten – Samstag\, den 23.05.\, bis Pfingstsonntag\, den 24.05.2026\nZweitägige Fahrradexkursion durch die Auen von Elbe und Havel zwischen den Städten Wittenberge und Tangermünde in zwei Etappen \nErste Etappe Wittenberge bis Havelberg \nSamstag\, den 23.05.\, um 11.00 Uhr\nmit Aufenthalt an den Mündungsgebieten der Havel in die Elbe\nTreffpunkt: Bahnhof Wittenberge\, Am Bahnhof\nDauer: ca. 7 Stunden\nTeilnahme nur mit schriftlicher Voranmeldung möglich!
URL:https://www.web-conzept-mn.de/event/fahrradexkursion-durch-die-auen-von-elbe-und-havel-zwischen-den-staedten-wittenberge-und-havelberg/
END:VEVENT
BEGIN:VEVENT
DTSTART;TZID=Europe/Helsinki:20260524T090000
DTEND;TZID=Europe/Helsinki:20260524T150000
DTSTAMP:20260424T123122
CREATED:20251219T104006Z
LAST-MODIFIED:20251219T104006Z
UID:63785-1779613200-1779634800@www.web-conzept-mn.de
SUMMARY:Fahrradexkursion durch die Auen von Elbe und Havel zwischen den Städten Havelberg und Tangermünde
DESCRIPTION:Pfingsten – Samstag\, den 23.05.\, bis Pfingstsonntag\, den 24.05.2026\nZweitägige Fahrradexkursion durch die Auen von Elbe und Havel zwischen den Städten Wittenberge und Tangermünde in zwei Etappen \nZweite Etappe Havelberg bis Tangermünde \nPfingstsonntag\, den 24.05.\, um 09.00 Uhr\nzum Mündungsbereich der Tanger in die Elbe\nTreffpunkt: Ecke Genthiner Straße/Elbstraße\, Havelberg\nDauer: ca. 6 Stunden\nTeilnahme ohne Voranmeldung möglich!
URL:https://www.web-conzept-mn.de/event/fahrradexkursion-durch-die-auen-von-elbe-und-havel-zwischen-den-staedten-havelberg-und-tangermuende/
END:VEVENT
BEGIN:VEVENT
DTSTART;TZID=Europe/Helsinki:20260529T170000
DTEND;TZID=Europe/Helsinki:20260529T203000
DTSTAMP:20260424T123122
CREATED:20251219T104844Z
LAST-MODIFIED:20260215T224235Z
UID:63787-1780074000-1780086600@www.web-conzept-mn.de
SUMMARY:Teilnahme am 3. Langer Tag der Stadtnatur in Halle (Saale)
DESCRIPTION:Freitag\, den 29.05.\, um 17.00 Uhr\nTeilnahme am 3. Langer Tag der Stadtnatur in Halle (Saale)\nvom 29.05. bis zum 31.05.2026\n43. Jahrestag der Gründung der Patenschaftsgruppe Peißnitz\ndes Arbeitskreises Umweltschutz Halle in der Gesellschaft für Natur und Umwelt im Kulturbund der DDR am 29.05.1983\nGemeinsame Fahrradrundexkursion mit Initiative „Pro Baum“\ndurch Halles zentraler Saaleaue\nRoute: Ecke Neuwerk/Peißnitzstraße ► Steinmühlenbrücke ► entlang des Mühlgrabens ► Würfelwiese ► Pfälzer Ufer ► Franz-Schubert-Straße ► Mühlpforte ► Robert-Franz-Ring ► Mansfelder Straße ► Salinehalbinsel ► Kotgraben ► Sophienhafen ► Hafenstraße ► Teil Altverlauf Wilde Saale ► Mündungsgebiet des Roßgrabens in die Saale ► Sandanger ► Peißnitzinsel/Südspitze/Gimritzer Park ► Peißnitzinsel/Zentralteil ► Peißnitzinsel/Nordteil ► Ziegelwiese ► Ecke Neuwerk/Peißnitzstraße\nTreffpunkt: Ecke Neuwerk/Peißnitzstraße\, Halle (Saale)\nDauer: ca. 3\,5 Stunden
URL:https://www.web-conzept-mn.de/event/teilnahme-am-3-langer-tag-der-stadtnatur-in-halle-saale/
END:VEVENT
BEGIN:VEVENT
DTSTART;TZID=Europe/Helsinki:20260530T100000
DTEND;TZID=Europe/Helsinki:20260530T140000
DTSTAMP:20260424T123122
CREATED:20251221T122153Z
LAST-MODIFIED:20251221T122153Z
UID:63900-1780135200-1780149600@www.web-conzept-mn.de
SUMMARY:Erfassung der Avifauna des Erlen-Eschenwalds "Reudener Busch"
DESCRIPTION:Samstag\, den 30.05.\, um 10.00 UhrErfassung der Avifauna des Erlen-Eschenwalds „Reudener Busch“Beobachtung der im Gebiet vorkommenden Vogelarten mit dem Fernglas und schriftli­che Erfassung der gesichteten Tiere in Listen\nHinweis: Bitte bringen Sie ihr eigenes Fernglas mit. Leider können wir Ihnen keine Ferngläser zur Verfügung stel­len. Das betrifft auch Klemmbretter.\nVoranmeldung bis spätestens 22.00 Uhr am Freitag\, dem 29.05.2026\, unter: 0176 – 568 796 31Treffpunkt: Bahnhof WolfenDauer: ca. 4 Stunden
URL:https://www.web-conzept-mn.de/event/erfassung-der-avifauna-des-erlen-eschenwalds-reudener-busch-12/
END:VEVENT
END:VCALENDAR