BEGIN:VCALENDAR
VERSION:2.0
PRODID:-//Arbeitskreis Hallesche Auenwälder zu Halle / Saale e.V. (AHA) - ECPv6.15.18//NONSGML v1.0//EN
CALSCALE:GREGORIAN
METHOD:PUBLISH
X-WR-CALNAME:Arbeitskreis Hallesche Auenwälder zu Halle / Saale e.V. (AHA)
X-ORIGINAL-URL:https://www.web-conzept-mn.de
X-WR-CALDESC:Veranstaltungen für Arbeitskreis Hallesche Auenwälder zu Halle / Saale e.V. (AHA)
REFRESH-INTERVAL;VALUE=DURATION:PT1H
X-Robots-Tag:noindex
X-PUBLISHED-TTL:PT1H
BEGIN:VTIMEZONE
TZID:Europe/Helsinki
BEGIN:DAYLIGHT
TZOFFSETFROM:+0200
TZOFFSETTO:+0300
TZNAME:EEST
DTSTART:20250330T010000
END:DAYLIGHT
BEGIN:STANDARD
TZOFFSETFROM:+0300
TZOFFSETTO:+0200
TZNAME:EET
DTSTART:20251026T010000
END:STANDARD
BEGIN:DAYLIGHT
TZOFFSETFROM:+0200
TZOFFSETTO:+0300
TZNAME:EEST
DTSTART:20260329T010000
END:DAYLIGHT
BEGIN:STANDARD
TZOFFSETFROM:+0300
TZOFFSETTO:+0200
TZNAME:EET
DTSTART:20261025T010000
END:STANDARD
BEGIN:DAYLIGHT
TZOFFSETFROM:+0200
TZOFFSETTO:+0300
TZNAME:EEST
DTSTART:20270328T010000
END:DAYLIGHT
BEGIN:STANDARD
TZOFFSETFROM:+0300
TZOFFSETTO:+0200
TZNAME:EET
DTSTART:20271031T010000
END:STANDARD
END:VTIMEZONE
BEGIN:VEVENT
DTSTART;TZID=Europe/Helsinki:20260302T190000
DTEND;TZID=Europe/Helsinki:20260302T220000
DTSTAMP:20260424T105808
CREATED:20251218T182832Z
LAST-MODIFIED:20251218T182921Z
UID:63731-1772478000-1772488800@www.web-conzept-mn.de
SUMMARY:Mitgliederversammlung
DESCRIPTION:Montag\, den 02.03.\, um 19.00 Uhr\nMitgliederversammlung\nTreffpunkt: Versammlungsraum Reformhaus\, Große Klausstraße 11
URL:https://www.web-conzept-mn.de/event/mitgliederversammlung-40/
LOCATION:Refomhaus – Haus der Bewegungen\, Große Klausstraße 11\, Halle (Saale)\, 06108\, Deutschland
END:VEVENT
BEGIN:VEVENT
DTSTART;TZID=Europe/Helsinki:20260307T100000
DTEND;TZID=Europe/Helsinki:20260307T160000
DTSTAMP:20260424T105808
CREATED:20251218T191437Z
LAST-MODIFIED:20251218T191437Z
UID:63754-1772877600-1772899200@www.web-conzept-mn.de
SUMMARY:Fahrradexkursion entlang der Saale
DESCRIPTION:Samstag\, den 07.03.\, um 10.00 Uhr\nFahrradexkursion entlang der Saale\nzwischen den Städten Saalfeld und Rudolstadt mit Aufenthalt an der Einmündung\nder Schwarza\nTreffpunkt: Bahnhof Saalfeld\nEnde: Bahnhof Rudolstadt\nDauer: ca. 6 Stunden
URL:https://www.web-conzept-mn.de/event/fahrradexkursion-entlang-der-saale-2/
END:VEVENT
BEGIN:VEVENT
DTSTART;TZID=Europe/Helsinki:20260314T100000
DTEND;TZID=Europe/Helsinki:20260314T160000
DTSTAMP:20260424T105808
CREATED:20251218T192919Z
LAST-MODIFIED:20251218T192919Z
UID:63756-1773482400-1773504000@www.web-conzept-mn.de
SUMMARY:Fahrradexkursion entlang der Querne und Waida
DESCRIPTION:Samstag\, den 14.03.\, um 11.00 Uhr\nFahrradexkursion entlang der Querne und Waida\nzwischen der Stadt Querfurt und der Gemeinde Seegebiet Mansfelder Land\, Ortsteil Röblingen am See mit Aufenthalten an Querne/Weida\, im NSG „Kuckenburger Hagen“ und am Salzigen See\nTreffpunkt: Ecke Parkstraße/Allstedter Straße\, Lodersleben (Querfurt)\nEnde: Salziger See in Gemeinde Seegebiet Mansfelder Land\, Ortsteil Röblingen am See\nDauer: ca. 6 Stunden
URL:https://www.web-conzept-mn.de/event/fahrradexkursion-entlang-der-querne-und-waida/
END:VEVENT
BEGIN:VEVENT
DTSTART;TZID=Europe/Helsinki:20260314T100000
DTEND;TZID=Europe/Helsinki:20260314T160000
DTSTAMP:20260424T105808
CREATED:20251220T134940Z
LAST-MODIFIED:20251220T135534Z
UID:63867-1773482400-1773504000@www.web-conzept-mn.de
SUMMARY:Wanderexkursion zur „Alten Leine“
DESCRIPTION:Samstag\, den 14.03.\, um 10.00 Uhr\nWanderexkursion zur „Alten Leine“\nRoute: Bahnhof Wolfen\, Überqueren der Eisenbahnbrücke am Wolfener Busch\, weiter zur Salegaster Chaussee\, Überquerung der Salegaster Chaussee und weiter durch den Salegaster Forst bis zur Wegekreuzung „Invalidendreieck“ und von dort weiter bis zur Katzenbrücke im Salegaster Forst\, Fortsetzung der Wanderung durch die Mulde-Leine-Aue bis zum Muldewehr und weiter entlang der Mulde bis zur „Alten Leine“\nTreffpunkt: Bahnhof Wolfen\nDauer: ca. 6 Stunden \nVoranmeldung bis spätestens 22.00 Uhr am Freitag\, dem 13.03.2026\, unter: 0176 – 568 796 31
URL:https://www.web-conzept-mn.de/event/wanderexkursion-zur-alten-leine-5/
END:VEVENT
BEGIN:VEVENT
DTSTART;TZID=Europe/Helsinki:20260321T100000
DTEND;TZID=Europe/Helsinki:20260321T140000
DTSTAMP:20260424T105808
CREATED:20251220T132915Z
LAST-MODIFIED:20251220T132915Z
UID:63846-1774087200-1774101600@www.web-conzept-mn.de
SUMMARY:Arbeitseinsatz auf der Streuobstwiese „Am Landhaus“
DESCRIPTION:Samstag\, den 21.03.\, um 10.00 Uhr\nArbeitseinsatz auf der Streuobstwiese „Am Landhaus“\nTreffpunkt: Pension „Landhaus“ Dessau
URL:https://www.web-conzept-mn.de/event/arbeitseinsatz-auf-der-streuobstwiese-am-landhaus-27/
LOCATION:Streuobstwiese Landhaus Dessau\, Landhaus 1\, Dessau-Roßlau\, 06844\, Deutschland
END:VEVENT
BEGIN:VEVENT
DTSTART;TZID=Europe/Helsinki:20260321T100000
DTEND;TZID=Europe/Helsinki:20260321T200000
DTSTAMP:20260424T105808
CREATED:20251221T115625Z
LAST-MODIFIED:20251221T115625Z
UID:63881-1774087200-1774123200@www.web-conzept-mn.de
SUMMARY:Erfassung der Avifauna des Auenrestwald "Wolfener Busch"
DESCRIPTION:Samstag\, den 21.03.\, um 10.00 UhrErfassung der Avifauna des Auenrestwald „Wolfener Busch“\nBeobachtung der im Gebiet vorkommenden Vogelarten mit dem Fernglas und schriftli­che Erfassung der gesichteten Tiere in Listen\nBitte bringen Sie ihr eigenes Fernglas mit. Leider können wir Ihnen keine Ferngläser zur Verfügung stel­len. Das betrifft auch Klemmbretter.\nVoranmeldung bis spätestens 22.00 Uhr am Freitag\, dem 20.03.2026\, unter: 0176 – 568 796 31\nTreffpunkt: Bahnhof WolfenDauer: ca. 4 Stunden
URL:https://www.web-conzept-mn.de/event/erfassung-der-avifauna-des-auenrestwald-wolfener-busch-14/
END:VEVENT
BEGIN:VEVENT
DTSTART;TZID=Europe/Helsinki:20260328T100000
DTEND;TZID=Europe/Helsinki:20260328T140000
DTSTAMP:20260424T105808
CREATED:20251218T193535Z
LAST-MODIFIED:20251218T193535Z
UID:63758-1774692000-1774706400@www.web-conzept-mn.de
SUMMARY:Exkursion zur „Fasanerie“ östlich von Merseburg
DESCRIPTION:Samstag\, den 28.03.\, um 10.00 Uhr\nExkursion zur „Fasanerie“ östlich von Merseburg\nRoute: Durch das Stadtzentrum entlang des ehemaligen Geiselverlaufes über die Neumarktbrücke gelangen wir in das LSG „Venetien“ entlang der Alten Saale zur „Fasanerie“. Gemäß der Jahreszeit ist mit üppiger Frühjahrsvegetation zu rechnen.\nEnde ist in der UBM\, wo mit Hilfe der Fachliteratur und dem Mikroskop Bestimmungen durchgeführt werden können.\nTreffpunkt: Hauptbahnhof Merseburg\nDauer: ca. 4 Stunden
URL:https://www.web-conzept-mn.de/event/exkursion-zur-fasanerie-oestlich-von-merseburg-4/
END:VEVENT
BEGIN:VEVENT
DTSTART;TZID=Europe/Helsinki:20260330T190000
DTEND;TZID=Europe/Helsinki:20260330T220000
DTSTAMP:20260424T105808
CREATED:20251221T125207Z
LAST-MODIFIED:20251221T125207Z
UID:63916-1774897200-1774908000@www.web-conzept-mn.de
SUMMARY:Versammlung der Initiative “Pro Baum”
DESCRIPTION:Montag\, den 30.03.\, um 19.00 Uhr\nVersammlung der Initiative “Pro Baum”\nTreffpunkt: Versammlungsraum Reformhaus\, Große Klausstraße 11
URL:https://www.web-conzept-mn.de/event/versammlung-der-initiative-pro-baum-42/
LOCATION:Refomhaus – Haus der Bewegungen\, Große Klausstraße 11\, Halle (Saale)\, 06108\, Deutschland
END:VEVENT
END:VCALENDAR