BEGIN:VCALENDAR
VERSION:2.0
PRODID:-//Arbeitskreis Hallesche Auenwälder zu Halle / Saale e.V. (AHA) - ECPv6.15.18//NONSGML v1.0//EN
CALSCALE:GREGORIAN
METHOD:PUBLISH
X-WR-CALNAME:Arbeitskreis Hallesche Auenwälder zu Halle / Saale e.V. (AHA)
X-ORIGINAL-URL:https://www.web-conzept-mn.de
X-WR-CALDESC:Veranstaltungen für Arbeitskreis Hallesche Auenwälder zu Halle / Saale e.V. (AHA)
REFRESH-INTERVAL;VALUE=DURATION:PT1H
X-Robots-Tag:noindex
X-PUBLISHED-TTL:PT1H
BEGIN:VTIMEZONE
TZID:Europe/Helsinki
BEGIN:DAYLIGHT
TZOFFSETFROM:+0200
TZOFFSETTO:+0300
TZNAME:EEST
DTSTART:20250330T010000
END:DAYLIGHT
BEGIN:STANDARD
TZOFFSETFROM:+0300
TZOFFSETTO:+0200
TZNAME:EET
DTSTART:20251026T010000
END:STANDARD
BEGIN:DAYLIGHT
TZOFFSETFROM:+0200
TZOFFSETTO:+0300
TZNAME:EEST
DTSTART:20260329T010000
END:DAYLIGHT
BEGIN:STANDARD
TZOFFSETFROM:+0300
TZOFFSETTO:+0200
TZNAME:EET
DTSTART:20261025T010000
END:STANDARD
BEGIN:DAYLIGHT
TZOFFSETFROM:+0200
TZOFFSETTO:+0300
TZNAME:EEST
DTSTART:20270328T010000
END:DAYLIGHT
BEGIN:STANDARD
TZOFFSETFROM:+0300
TZOFFSETTO:+0200
TZNAME:EET
DTSTART:20271031T010000
END:STANDARD
END:VTIMEZONE
BEGIN:VEVENT
DTSTART;TZID=Europe/Helsinki:20260202T190000
DTEND;TZID=Europe/Helsinki:20260202T220000
DTSTAMP:20260424T080351
CREATED:20251218T182701Z
LAST-MODIFIED:20251218T182701Z
UID:63729-1770058800-1770069600@www.web-conzept-mn.de
SUMMARY:Mitgliederversammlung
DESCRIPTION:Montag\, den 02.02.\, um 19.00 Uhr\nMitgliederversammlung\nTreffpunkt: Versammlungsraum Reformhaus\, Große Klausstraße 11
URL:https://www.web-conzept-mn.de/event/mitgliederversammlung-39/
LOCATION:Refomhaus – Haus der Bewegungen\, Große Klausstraße 11\, Halle (Saale)\, 06108\, Deutschland
END:VEVENT
BEGIN:VEVENT
DTSTART;TZID=Europe/Helsinki:20260207T100000
DTEND;TZID=Europe/Helsinki:20260207T120000
DTSTAMP:20260424T080351
CREATED:20251217T143209Z
LAST-MODIFIED:20251217T143209Z
UID:63720-1770458400-1770465600@www.web-conzept-mn.de
SUMMARY:Winterwanderung in die Fasanerie in Köthen
DESCRIPTION:Samstag\, den 07.02.\, um 10.00 Uhr\nWinterwanderung in die Fasanerie in Köthen\nGemeinsam mit der InteressenGemeinschaft „Bürger~Werte~Politik in Köthen (Anhalt)“\nTreffpunkt: Ecke Fasanerieallee/Joachimiallee\, Köthen (Anhalt)\nParkplatz Hochschule\, Zufahrt Creperie\nDauer: ca. 2 Stunden
URL:https://www.web-conzept-mn.de/event/winterwanderung-in-die-fasanerie-in-koethen-2/
END:VEVENT
BEGIN:VEVENT
DTSTART;TZID=Europe/Helsinki:20260214T100000
DTEND;TZID=Europe/Helsinki:20260214T140000
DTSTAMP:20260424T080351
CREATED:20251217T143352Z
LAST-MODIFIED:20251217T143352Z
UID:63722-1771063200-1771077600@www.web-conzept-mn.de
SUMMARY:Winterexkursion zur Rabeninsel in Halle (Saale)
DESCRIPTION:Samstag\, den 14.02.\, um 10.00 Uhr\nWinterexkursion zur Rabeninsel in Halle (Saale)\nüber den Holzplatz\, zu den Pulverweiden\, zur Unteren Aue\nTreffpunkt: Ecke Holzplatz/Mansfelder Straße\, Halle (Saale)\nDauer: ca. 4 Stunden
URL:https://www.web-conzept-mn.de/event/winterexkursion-zur-rabeninsel-in-halle-saale-4/
END:VEVENT
BEGIN:VEVENT
DTSTART;TZID=Europe/Helsinki:20260214T100000
DTEND;TZID=Europe/Helsinki:20260214T140000
DTSTAMP:20260424T080351
CREATED:20251221T121736Z
LAST-MODIFIED:20251221T121736Z
UID:63896-1771063200-1771077600@www.web-conzept-mn.de
SUMMARY:Erfassung der Avifauna des Naherholungsgebietes Fuhneaue Wolfen mit dem Gondelteich
DESCRIPTION:Samstag\, den 14.02.\, um 10.00 Uhr\nErfassung der Avifauna des Naherholungsgebietes Fuhneaue Wolfen mit dem Gondelteich\nBeobachtung der im Gebiet vorkommenden Vogelarten mit dem Fernglas und schriftliche Erfassung der gesichteten Tiere in Listen\nBitte bringen Sie ihr eigenes Fernglas mit. Leider können wir Ihnen kein Fernglas zur Verfügung stel­len. Das betrifft auch Klemmbretter.\nVoranmeldung bis spätestens 22.00 Uhr am Freitag\, dem 13.02.2026\, unter: 0176 – 568 796 31\nTreffpunkt: Bahnhof Wolfen\nDauer: ca. 4 Stunden
URL:https://www.web-conzept-mn.de/event/erfassung-der-avifauna-des-naherholungsgebietes-fuhneaue-wolfen-mit-dem-gondelteich-3/
END:VEVENT
BEGIN:VEVENT
DTSTART;TZID=Europe/Helsinki:20260221T100000
DTEND;TZID=Europe/Helsinki:20260221T140000
DTSTAMP:20260424T080351
CREATED:20251220T132811Z
LAST-MODIFIED:20251220T132811Z
UID:63844-1771668000-1771682400@www.web-conzept-mn.de
SUMMARY:Arbeitseinsatz auf der Streuobstwiese „Am Landhaus“
DESCRIPTION:Samstag\, den 21.02.\, um 10.00 Uhr\nArbeitseinsatz auf der Streuobstwiese „Am Landhaus“\nTreffpunkt: Pension „Landhaus“ Dessau
URL:https://www.web-conzept-mn.de/event/arbeitseinsatz-auf-der-streuobstwiese-am-landhaus-26/
LOCATION:Streuobstwiese Landhaus Dessau\, Landhaus 1\, Dessau-Roßlau\, 06844\, Deutschland
END:VEVENT
BEGIN:VEVENT
DTSTART;TZID=Europe/Helsinki:20260223T190000
DTEND;TZID=Europe/Helsinki:20260223T220000
DTSTAMP:20260424T080351
CREATED:20251221T125042Z
LAST-MODIFIED:20251221T130702Z
UID:63914-1771873200-1771884000@www.web-conzept-mn.de
SUMMARY:Versammlung der Initiative “Pro Baum”
DESCRIPTION:Montag\, den 23.02.\, um 19.00 Uhr\nVersammlung der Initiative “Pro Baum”\nTreffpunkt: Versammlungsraum Reformhaus\, Große Klausstraße 11
URL:https://www.web-conzept-mn.de/event/versammlung-der-initiative-pro-baum-41/
LOCATION:Refomhaus – Haus der Bewegungen\, Große Klausstraße 11\, Halle (Saale)\, 06108\, Deutschland
END:VEVENT
BEGIN:VEVENT
DTSTART;TZID=Europe/Helsinki:20260228T100000
DTEND;TZID=Europe/Helsinki:20260228T180000
DTSTAMP:20260424T080351
CREATED:20251217T143810Z
LAST-MODIFIED:20251217T143810Z
UID:63724-1772272800-1772301600@www.web-conzept-mn.de
SUMMARY:35 Jahre Arbeitskreis Hallesche Auenwälder zu Halle (Saale) e.V.
DESCRIPTION:Samstag\, den 28.02.\, um 10.00 Uhr\n35 Jahre Arbeitskreis Hallesche Auenwälder zu Halle (Saale) e.V.\nVeranstaltung zum 35. Jahrestag der Gründung des Arbeitskreises Halle­sche Auenwälder zu Halle (Saale) e.V. (AHA) am 23.02.1991 mit Winter­exkursion zur Weißen Elster und Floßgraben\nNäheres wird noch rechtzeitig bekannt gegeben.\nOrt: Klubhaus Crossen\, Hauptstraße 12 in 07613 Crossen
URL:https://www.web-conzept-mn.de/event/35-jahre-arbeitskreis-hallesche-auenwaelder-zu-halle-saale-e-v/
LOCATION:Klubhaus Crossen\, Hauptstraße 12\, Crossen an der Elster\, 07613\, Germany
END:VEVENT
END:VCALENDAR