BEGIN:VCALENDAR
VERSION:2.0
PRODID:-//Arbeitskreis Hallesche Auenwälder zu Halle / Saale e.V. (AHA) - ECPv6.15.18//NONSGML v1.0//EN
CALSCALE:GREGORIAN
METHOD:PUBLISH
X-WR-CALNAME:Arbeitskreis Hallesche Auenwälder zu Halle / Saale e.V. (AHA)
X-ORIGINAL-URL:https://www.web-conzept-mn.de
X-WR-CALDESC:Veranstaltungen für Arbeitskreis Hallesche Auenwälder zu Halle / Saale e.V. (AHA)
REFRESH-INTERVAL;VALUE=DURATION:PT1H
X-Robots-Tag:noindex
X-PUBLISHED-TTL:PT1H
BEGIN:VTIMEZONE
TZID:Europe/Helsinki
BEGIN:DAYLIGHT
TZOFFSETFROM:+0200
TZOFFSETTO:+0300
TZNAME:EEST
DTSTART:20250330T010000
END:DAYLIGHT
BEGIN:STANDARD
TZOFFSETFROM:+0300
TZOFFSETTO:+0200
TZNAME:EET
DTSTART:20251026T010000
END:STANDARD
BEGIN:DAYLIGHT
TZOFFSETFROM:+0200
TZOFFSETTO:+0300
TZNAME:EEST
DTSTART:20260329T010000
END:DAYLIGHT
BEGIN:STANDARD
TZOFFSETFROM:+0300
TZOFFSETTO:+0200
TZNAME:EET
DTSTART:20261025T010000
END:STANDARD
BEGIN:DAYLIGHT
TZOFFSETFROM:+0200
TZOFFSETTO:+0300
TZNAME:EEST
DTSTART:20270328T010000
END:DAYLIGHT
BEGIN:STANDARD
TZOFFSETFROM:+0300
TZOFFSETTO:+0200
TZNAME:EET
DTSTART:20271031T010000
END:STANDARD
END:VTIMEZONE
BEGIN:VEVENT
DTSTART;TZID=Europe/Helsinki:20260103T100000
DTEND;TZID=Europe/Helsinki:20260103T120000
DTSTAMP:20260424T074743
CREATED:20251217T124251Z
LAST-MODIFIED:20251217T124251Z
UID:63700-1767434400-1767441600@www.web-conzept-mn.de
SUMMARY:Neujahreswanderung zum NSG Hakel
DESCRIPTION:Samstag\, den 03.01.\, um 10.00 Uhr\nNeujahreswanderung zum NSG Hakel\nGemeinsam mit der Bürgerinitiative Hakelwald\nTreffpunkt: Waldrand des Hakels\, Hakelstraße\, außerhalb von Heteborn\nDauer: ca. 2 Stunden
URL:https://www.web-conzept-mn.de/event/neujahreswanderung-zum-nsg-hakel-3/
LOCATION:Hakel\, Hakelstraße\, Heteborn\, 06458\, Deutschland
END:VEVENT
BEGIN:VEVENT
DTSTART;TZID=Europe/Helsinki:20260110T100000
DTEND;TZID=Europe/Helsinki:20260110T130000
DTSTAMP:20260424T074743
CREATED:20251217T124438Z
LAST-MODIFIED:20251221T211319Z
UID:63702-1768039200-1768050000@www.web-conzept-mn.de
SUMMARY:Neujahresrundwanderung von Teutschenthal zum Würdebach
DESCRIPTION:Samstag\, den 10.01.\, um 10.00 Uhr\nNeujahresrundwanderung von Teutschenthal zum Würdebach\nGemeinsame Neujahresrundwanderung mit der Bürgerinitiative Gegen eine Giftmüll- und Deponieregion Halle-Saalekreis e.V. in Teutschenthal\nRoute: Eisenbahnhaltepunkt Teutschenthal Ost\, Würdebach\, Steinkistengrab in Köchstedt\, Kiessandabbau im Abbaufeld Köchstedt\, Querung des Würdebaches\, Eisenbahnhaltepunkt Teutschenthal Ost\nTreffpunkt: Eisenbahnhaltepunkt Teutschenthal Ost\nDauer: ca. 3 Stunden
URL:https://www.web-conzept-mn.de/event/neujahresrundwanderung-von-teutschethal-zum-wuerdebach-2/
LOCATION:Teutschenthal\, Teutschenthal\, 06179\, Germany
END:VEVENT
BEGIN:VEVENT
DTSTART;TZID=Europe/Helsinki:20260110T100000
DTEND;TZID=Europe/Helsinki:20260110T150000
DTSTAMP:20260424T074743
CREATED:20251220T134803Z
LAST-MODIFIED:20251220T135414Z
UID:63865-1768039200-1768057200@www.web-conzept-mn.de
SUMMARY:Neujahrsexkursion zum Forsthaus Salegast
DESCRIPTION:Samstag\, den 10.01.\, um 10.00 Uhr\nNeujahrsexkursion zum Forsthaus Salegast\nRoute: Auenrestwald „Wolfener Busch“\, Salegaster Chaussee\, Waldweg zur Wegekreuzung „Invalidendreieck“\, Katzenbrücke\, Wanderweg in Richtung Forsthaus und Conradi- Linde\, Rückmarsch über die Auenwiesen Jeßnitz\, Mittellache\, Salegaster Chaussee in Richtung Wolfen\nTreffpunkt: Bahnhof Wolfen\nca. 5 Stunden \nVoranmeldung bis spätestens 22.00 Uhr am Freitag\, dem 09.01.2026\, unter: 0176 – 568 796 31
URL:https://www.web-conzept-mn.de/event/neujahrsexkursion-zum-forsthaus-salegast-4/
END:VEVENT
BEGIN:VEVENT
DTSTART;TZID=Europe/Helsinki:20260112T190000
DTEND;TZID=Europe/Helsinki:20260112T220000
DTSTAMP:20260424T074743
CREATED:20251217T141249Z
LAST-MODIFIED:20251217T141249Z
UID:63716-1768244400-1768255200@www.web-conzept-mn.de
SUMMARY:Mitgliederversammlung
DESCRIPTION:Montag\, den 12.01.\, um 19.00 Uhr\nMitgliederversammlung\nTreffpunkt: Versammlungsraum Reformhaus\, Große Klausstraße 11
URL:https://www.web-conzept-mn.de/event/mitgliederversammlung-38/
LOCATION:Refomhaus – Haus der Bewegungen\, Große Klausstraße 11\, Halle (Saale)\, 06108\, Deutschland
END:VEVENT
BEGIN:VEVENT
DTSTART;TZID=Europe/Helsinki:20260117T100000
DTEND;TZID=Europe/Helsinki:20260117T130000
DTSTAMP:20260424T074743
CREATED:20251217T125112Z
LAST-MODIFIED:20251217T130327Z
UID:63708-1768644000-1768654800@www.web-conzept-mn.de
SUMMARY:Arbeitseinsatz auf dem Forstwerder
DESCRIPTION:Samstag\, den 17.01.\, um 10.00 Uhr\nArbeitseinsatz auf dem Forstwerder\nTreffpunkt: Bogenbrücke zum Forstwerder\, Pfarrstraße\, Halle-Trotha
URL:https://www.web-conzept-mn.de/event/arbeitseinsatz-auf-dem-forstwerder-10/
LOCATION:Forstwerder\, Halle (Saale)
END:VEVENT
BEGIN:VEVENT
DTSTART;TZID=Europe/Helsinki:20260124T100000
DTEND;TZID=Europe/Helsinki:20260124T140000
DTSTAMP:20260424T074743
CREATED:20251217T130541Z
LAST-MODIFIED:20251221T131143Z
UID:63710-1769248800-1769263200@www.web-conzept-mn.de
SUMMARY:Erfassung der Avifauna des Auenrestwald "Wolfener Busch"
DESCRIPTION:Samstag\, den 24.01.\, um 10.00 UhrErfassung der Avifauna des Auenrestwald „Wolfener Busch“\nBeobachtung der im Gebiet vorkommenden Vogelarten mit dem Fernglas und schriftli­che Erfassung der gesichteten Tiere in Listen\nBitte bringen Sie ihr eigenes Fernglas mit. Leider können wir Ihnen keine Ferngläser zur Verfügung stel­len. Das betrifft auch Klemmbretter.\nVoranmeldung bis spätestens 22.00 Uhr am Freitag\, dem 23.01.2026\, unter: 0176 – 568 796 31\nTreffpunkt: Bahnhof WolfenDauer: ca. 4 Stunden
URL:https://www.web-conzept-mn.de/event/erfassung-der-avifauna-des-auenrestwald-wolfener-busch-13/
END:VEVENT
BEGIN:VEVENT
DTSTART;TZID=Europe/Helsinki:20260124T103000
DTEND;TZID=Europe/Helsinki:20260124T153000
DTSTAMP:20260424T074743
CREATED:20251217T124658Z
LAST-MODIFIED:20251217T124658Z
UID:63704-1769250600-1769268600@www.web-conzept-mn.de
SUMMARY:Kombinierte gemeinsame Neujahresfahrrad- und Fußwanderung
DESCRIPTION:Samstag\, den 24.01.\, um 10.30 Uhr\nKombinierte gemeinsame Neujahresfahrrad- und Fußwanderung\nmit der Bürgerinitiative Pro Südharz – Gegen Gipsabbau\, dem Bund für Umwelt und Naturschutz\, Kreisgruppe Mansfeld-Südharz und dem Naturschutzbund\, Kreisverband Mansfeld-Südharz e.V.\nZu den laut Zweitem Entwurf zur Neuaufstellung Landesentwicklungsplan\nSachsen-Anhalt geplanten „Weißflächen“ im Landschaftsschutzgebiet „Harz und Vorländer“\, Codierung: LSG0032___\, Teilgebiet Landschaftsschutzgebiet „Harz und südliches Harzvorland“\nTreffpunkt: Bushaltestelle Uftrungen\nDauer: ca. 5 Stunden
URL:https://www.web-conzept-mn.de/event/kombinierte-gemeinsame-neujahresfahrrad-und-fusswanderung/
END:VEVENT
BEGIN:VEVENT
DTSTART;TZID=Europe/Helsinki:20260126T190000
DTEND;TZID=Europe/Helsinki:20260126T220000
DTSTAMP:20260424T074743
CREATED:20251217T141525Z
LAST-MODIFIED:20251217T141525Z
UID:63718-1769454000-1769464800@www.web-conzept-mn.de
SUMMARY:Versammlung der Initiative “Pro Baum”
DESCRIPTION:Montag\, den 26.01.\, um 19.00 Uhr\nVersammlung der Initiative “Pro Baum”\nTreffpunkt: Versammlungsraum Reformhaus\, Große Klausstraße 11
URL:https://www.web-conzept-mn.de/event/versammlung-der-initiative-pro-baum-40/
LOCATION:Refomhaus – Haus der Bewegungen\, Große Klausstraße 11\, Halle (Saale)\, 06108\, Deutschland
END:VEVENT
BEGIN:VEVENT
DTSTART;TZID=Europe/Helsinki:20260131T100000
DTEND;TZID=Europe/Helsinki:20260131T140000
DTSTAMP:20260424T074743
CREATED:20251217T124900Z
LAST-MODIFIED:20251217T124900Z
UID:63706-1769853600-1769868000@www.web-conzept-mn.de
SUMMARY:Protestrundexkursion um Niemberg zum Burgstetten
DESCRIPTION:Samstag\, den 31.01.\, um 10.00 Uhr\nProtestrundexkursion um Niemberg zum Burgstetten\nGemeinsam mit dem Burgstetten e.V.\nTreffpunkt: Bahnhof Niemberg\nDauer: ca. 4 Stunden
URL:https://www.web-conzept-mn.de/event/protestrundexkursion-um-niemberg-zum-burgstetten-2/
LOCATION:Burgstetten\, 51°33'03.4"N 12°05'46.3"E\, Landsberg\, 06188\, Deutschland
END:VEVENT
BEGIN:VEVENT
DTSTART;TZID=Europe/Helsinki:20260131T100000
DTEND;TZID=Europe/Helsinki:20260131T140000
DTSTAMP:20260424T074743
CREATED:20251217T130827Z
LAST-MODIFIED:20251221T131400Z
UID:63713-1769853600-1769868000@www.web-conzept-mn.de
SUMMARY:Erfassung der Avifauna des Salegaster Forsts
DESCRIPTION:Samstag\, den 31.01.\, um 10.00 UhrErfassung der Avifauna des Salegaster Forsts\nBeobachtung der im Gebiet vorkommenden Vogelarten mit dem Fernglas und schriftliche Erfassung der gesichteten Tiere in Listen\nBitte bringen Sie ihr eigenes Fernglas mit. Leider können wir Ihnen kein Fernglas zur Verfügung stel­len. Das betrifft auch Klemmbretter.\nVoranmeldung bis spätestens 22.00 Uhr am Freitag\, dem 30.01.2026\, unter: 0176 – 568 796 31\nTreffpunkt: Bahnhof WolfenDauer: ca. 4 Stunden
URL:https://www.web-conzept-mn.de/event/erfassung-der-avifauna-des-salegaster-forsts-11/
LOCATION:Salegaster Forst\, Bitterfeld-Wolfen
END:VEVENT
END:VCALENDAR