BEGIN:VCALENDAR
VERSION:2.0
PRODID:-//Arbeitskreis Hallesche Auenwälder zu Halle / Saale e.V. (AHA) - ECPv6.15.18//NONSGML v1.0//EN
CALSCALE:GREGORIAN
METHOD:PUBLISH
X-WR-CALNAME:Arbeitskreis Hallesche Auenwälder zu Halle / Saale e.V. (AHA)
X-ORIGINAL-URL:https://www.web-conzept-mn.de
X-WR-CALDESC:Veranstaltungen für Arbeitskreis Hallesche Auenwälder zu Halle / Saale e.V. (AHA)
REFRESH-INTERVAL;VALUE=DURATION:PT1H
X-Robots-Tag:noindex
X-PUBLISHED-TTL:PT1H
BEGIN:VTIMEZONE
TZID:Europe/Helsinki
BEGIN:DAYLIGHT
TZOFFSETFROM:+0200
TZOFFSETTO:+0300
TZNAME:EEST
DTSTART:20240331T010000
END:DAYLIGHT
BEGIN:STANDARD
TZOFFSETFROM:+0300
TZOFFSETTO:+0200
TZNAME:EET
DTSTART:20241027T010000
END:STANDARD
BEGIN:DAYLIGHT
TZOFFSETFROM:+0200
TZOFFSETTO:+0300
TZNAME:EEST
DTSTART:20250330T010000
END:DAYLIGHT
BEGIN:STANDARD
TZOFFSETFROM:+0300
TZOFFSETTO:+0200
TZNAME:EET
DTSTART:20251026T010000
END:STANDARD
BEGIN:DAYLIGHT
TZOFFSETFROM:+0200
TZOFFSETTO:+0300
TZNAME:EEST
DTSTART:20260329T010000
END:DAYLIGHT
BEGIN:STANDARD
TZOFFSETFROM:+0300
TZOFFSETTO:+0200
TZNAME:EET
DTSTART:20261025T010000
END:STANDARD
END:VTIMEZONE
BEGIN:VEVENT
DTSTART;TZID=Europe/Helsinki:20251201T190000
DTEND;TZID=Europe/Helsinki:20251201T213000
DTSTAMP:20260424T045354
CREATED:20250326T001825Z
LAST-MODIFIED:20250326T001825Z
UID:57357-1764615600-1764624600@www.web-conzept-mn.de
SUMMARY:Mitgliederversammlung
DESCRIPTION:Montag\, den 01.12.\, um 19.00 Uhr\nMitgliederversammlung\nTreffpunkt: Versammlungsraum Reformhaus\, Große Klausstraße 11
URL:https://www.web-conzept-mn.de/event/mitgliederversammlung-37/
LOCATION:Refomhaus – Haus der Bewegungen\, Große Klausstraße 11\, Halle (Saale)\, 06108\, Deutschland
END:VEVENT
BEGIN:VEVENT
DTSTART;TZID=Europe/Helsinki:20251206T100000
DTEND;TZID=Europe/Helsinki:20251206T130000
DTSTAMP:20260424T045354
CREATED:20250325T235801Z
LAST-MODIFIED:20250325T235801Z
UID:57335-1765015200-1765026000@www.web-conzept-mn.de
SUMMARY:Arbeitseinsatz auf dem Forstwerder
DESCRIPTION:Samstag\, den 06.12.\, um 10.00 Uhr\nArbeitseinsatz auf dem Forstwerder\nTreffpunkt: Bogenbrücke zum Forstwerder\, Pfarrstraße\, Halle-Trotha
URL:https://www.web-conzept-mn.de/event/arbeitseinsatz-auf-dem-forstwerder-9/
LOCATION:Forstwerder\, Halle (Saale)
END:VEVENT
BEGIN:VEVENT
DTSTART;TZID=Europe/Helsinki:20251206T100000
DTEND;TZID=Europe/Helsinki:20251206T140000
DTSTAMP:20260424T045354
CREATED:20250326T093515Z
LAST-MODIFIED:20250326T093515Z
UID:57414-1765015200-1765029600@www.web-conzept-mn.de
SUMMARY:Erfassung der Avifauna des Erlen-Eschenwalds "Reudener Busch"
DESCRIPTION:Samstag\, den 06.12.\, um 10.00 UhrErfassung der Avifauna des Erlen-Eschenwalds „Reudener Busch“Beobachtung der im Gebiet vorkommenden Vogelarten mit dem Fernglas und schriftli­che Erfassung der gesichteten Tiere in Listen\nHinweis: Bitte bringen Sie ihr eigenes Fernglas mit. Leider können wir Ihnen keine Ferngläser zur Verfügung stel­len. Das betrifft auch Klemmbretter.\nVoranmeldung bis spätestens 22.00 Uhr am Freitag\, dem 05.12.2025\, unter: 0176 – 568 796 31Treffpunkt: Bahnhof WolfenDauer: ca. 4 Stunden
URL:https://www.web-conzept-mn.de/event/erfassung-der-avifauna-des-erlen-eschenwalds-reudener-busch-11/
LOCATION:Erlen-Eschenwalds „Reudener Busch“\, Bitterfeld-Wolfen
END:VEVENT
BEGIN:VEVENT
DTSTART;TZID=Europe/Helsinki:20251212T180000
DTEND;TZID=Europe/Helsinki:20251212T220000
DTSTAMP:20260424T045354
CREATED:20250325T234024Z
LAST-MODIFIED:20250325T234024Z
UID:57317-1765562400-1765576800@www.web-conzept-mn.de
SUMMARY:Weihnachtsfeier
DESCRIPTION:Freitag\, den 12.12.\, um 18.00 Uhr\nWeihnachtsfeier\nBitte Gebäck und Getränke mitbringen!\nOrt: Versammlungsraum Reformhaus e.V.\, Große Klausstraße 11 in Halle (Saale)
URL:https://www.web-conzept-mn.de/event/weihnachtsfeier-3/
LOCATION:Refomhaus – Haus der Bewegungen\, Große Klausstraße 11\, Halle (Saale)\, 06108\, Deutschland
END:VEVENT
BEGIN:VEVENT
DTSTART;TZID=Europe/Helsinki:20251213T100000
DTEND;TZID=Europe/Helsinki:20251213T140000
DTSTAMP:20260424T045354
CREATED:20250326T092101Z
LAST-MODIFIED:20250326T092101Z
UID:57403-1765620000-1765634400@www.web-conzept-mn.de
SUMMARY:Erfassung der Avifauna des Salegaster Forsts
DESCRIPTION:Samstag\, den 13.12.\, um 10.00 UhrErfassung der Avifauna des Salegaster Forsts\nBeobachtung der im Gebiet vorkommenden Vogelarten mit dem Fernglas und schriftliche Erfassung der gesichteten Tiere in Listen\nBitte bringen Sie ihr eigenes Fernglas mit. Leider können wir Ihnen kein Fernglas zur Verfügung stel­len. Das betrifft auch Klemmbretter.\nVoranmeldung bis spätestens 22.00 Uhr am Freitag\, dem 12.12.2025\, unter: 0176 – 568 796 31\nTreffpunkt: Bahnhof WolfenDauer: ca. 4 Stunden
URL:https://www.web-conzept-mn.de/event/erfassung-der-avifauna-des-salegaster-forsts-10/
LOCATION:Salegaster Forst\, Bitterfeld-Wolfen
END:VEVENT
BEGIN:VEVENT
DTSTART;TZID=Europe/Helsinki:20251213T100000
DTEND;TZID=Europe/Helsinki:20251213T150000
DTSTAMP:20260424T045354
CREATED:20250325T234148Z
LAST-MODIFIED:20250325T234148Z
UID:57319-1765620000-1765638000@www.web-conzept-mn.de
SUMMARY:Herbstexkursion in und um Kröllwitz
DESCRIPTION:Samstag\, den 13.12.\, um 10.00 Uhr\nHerbstexkursion in und um Kröllwitz\nüber den Amselgrund und die Kreuzer Teiche\, zu den Brandbergen\, zum Hechtgraben\, zur Kiesgrube Kröllwitz\, zum Saalwerder\, zum Ochsenberg und zum Park der früheren Papierfabrik Kröllwitz\nTreffpunkt: Eingang Bergschenke\, Kröllwitzer Straße\, Halle (Saale)\nDauer: ca. 5 Stunden
URL:https://www.web-conzept-mn.de/event/herbstexkursion-in-und-um-kroellwitz-4/
END:VEVENT
BEGIN:VEVENT
DTSTART;TZID=Europe/Helsinki:20251215T190000
DTEND;TZID=Europe/Helsinki:20251215T190000
DTSTAMP:20260424T045354
CREATED:20250326T003914Z
LAST-MODIFIED:20250326T003914Z
UID:57376-1765825200-1765825200@www.web-conzept-mn.de
SUMMARY:Versammlung der Initiative “Pro Baum”
DESCRIPTION:Montag\, den 15.12.\, um 19.00 Uhr\nVersammlung der Initiative “Pro Baum”\nTreffpunkt: Versammlungsraum Reformhaus\, Große Klausstraße 11
URL:https://www.web-conzept-mn.de/event/versammlung-der-initiative-pro-baum-39/
LOCATION:Refomhaus – Haus der Bewegungen\, Große Klausstraße 11\, Halle (Saale)\, 06108\, Deutschland
END:VEVENT
BEGIN:VEVENT
DTSTART;TZID=Europe/Helsinki:20251219T080000
DTEND;TZID=Europe/Helsinki:20251219T170000
DTSTAMP:20260424T045354
CREATED:20251219T110831Z
LAST-MODIFIED:20251219T110831Z
UID:63797-1766131200-1766163600@www.web-conzept-mn.de
SUMMARY:Fahrradrundexkursion durch die Elbaue in Dresden und Pirna
DESCRIPTION:Samstag\, den 27.06.\, um 10.00 Uhr\nFahrradrundexkursion durch die Elbaue in Dresden und Pirna\nu.a. mit Aufenthalt an den Mündungen der Weißeritz\, des Zschorner­bach\, der Prießnitz und des Mordgrundbaches in die Elbe\, Blick zum NSG Pillnitzer Elbinsel\, Aufenthalt an der Wesenitz sowie an den Einmün­dungen von Gottleuba\, Muglitz und Lockwitzbach in die Elbe\nMit den Wendepunkten elbabwärts Mündung der Weißeritz in die Elbe und elbaufwärts Mündung der Gottleuba in die Elbe in der Großen Kreis­stadt Pirna.\nTreffpunkt: Ecke Hasenberg/Terrassenufer\, Dresden\nDauer: ca. 7 Stunden
URL:https://www.web-conzept-mn.de/event/fahrradrundexkursion-durch-die-elbaue-in-dresden-und-pirna-2/
END:VEVENT
BEGIN:VEVENT
DTSTART;TZID=Europe/Helsinki:20251220T100000
DTEND;TZID=Europe/Helsinki:20251220T140000
DTSTAMP:20260424T045354
CREATED:20250326T094224Z
LAST-MODIFIED:20250326T094224Z
UID:57420-1766224800-1766239200@www.web-conzept-mn.de
SUMMARY:Erfassung der Avifauna des Auenrestwald „Wolfener Busch“
DESCRIPTION:Samstag\, den 20.12.\, um 10.00 UhrErfassung der Avifauna des Auenrestwald „Wolfener Busch“\nBeobachtung der im Gebiet vorkommenden Vogelarten mit dem Fernglas und schriftli­che Erfassung der gesichteten Tiere in Listen\nBitte bringen Sie ihr eigenes Fernglas mit. Leider können wir Ihnen keine Ferngläser zur Verfügung stel­len. Das betrifft auch Klemmbretter.\nVoranmeldung bis spätestens 22.00 Uhr am Freitag\, dem 19.12.2025\, unter: 0176 – 568 796 31\nTreffpunkt: Bahnhof WolfenDauer: ca. 4 Stunden
URL:https://www.web-conzept-mn.de/event/erfassung-der-avifauna-des-auenrestwald-wolfener-busch-12/
END:VEVENT
END:VCALENDAR