BEGIN:VCALENDAR
VERSION:2.0
PRODID:-//Arbeitskreis Hallesche Auenwälder zu Halle / Saale e.V. (AHA) - ECPv6.15.18//NONSGML v1.0//EN
CALSCALE:GREGORIAN
METHOD:PUBLISH
X-ORIGINAL-URL:https://www.web-conzept-mn.de
X-WR-CALDESC:Veranstaltungen für Arbeitskreis Hallesche Auenwälder zu Halle / Saale e.V. (AHA)
REFRESH-INTERVAL;VALUE=DURATION:PT1H
X-Robots-Tag:noindex
X-PUBLISHED-TTL:PT1H
BEGIN:VTIMEZONE
TZID:Europe/Helsinki
BEGIN:DAYLIGHT
TZOFFSETFROM:+0200
TZOFFSETTO:+0300
TZNAME:EEST
DTSTART:20240331T010000
END:DAYLIGHT
BEGIN:STANDARD
TZOFFSETFROM:+0300
TZOFFSETTO:+0200
TZNAME:EET
DTSTART:20241027T010000
END:STANDARD
BEGIN:DAYLIGHT
TZOFFSETFROM:+0200
TZOFFSETTO:+0300
TZNAME:EEST
DTSTART:20250330T010000
END:DAYLIGHT
BEGIN:STANDARD
TZOFFSETFROM:+0300
TZOFFSETTO:+0200
TZNAME:EET
DTSTART:20251026T010000
END:STANDARD
BEGIN:DAYLIGHT
TZOFFSETFROM:+0200
TZOFFSETTO:+0300
TZNAME:EEST
DTSTART:20260329T010000
END:DAYLIGHT
BEGIN:STANDARD
TZOFFSETFROM:+0300
TZOFFSETTO:+0200
TZNAME:EET
DTSTART:20261025T010000
END:STANDARD
END:VTIMEZONE
BEGIN:VEVENT
DTSTART;TZID=Europe/Helsinki:20251101T093000
DTEND;TZID=Europe/Helsinki:20251101T133000
DTSTAMP:20260424T031350
CREATED:20250325T233312Z
LAST-MODIFIED:20251004T093103Z
UID:57309-1761989400-1762003800@www.web-conzept-mn.de
SUMMARY:Fahrradrundexkursion zur Helme und zum Helmestausee
DESCRIPTION:Samstag\, den 01.11.\, um 09.30 Uhr\nFahrradrundexkursion zur Helme und zum Helmestausee bei Ber­ga-Kelbra\nTreffpunkt: Bahnhof Berga-Kelbra\nDauer: ca. 4 Stunden
URL:https://www.web-conzept-mn.de/event/fahrradrundexkursion-zur-helme-und-zum-helmestausee/
END:VEVENT
BEGIN:VEVENT
DTSTART;TZID=Europe/Helsinki:20251103T190000
DTEND;TZID=Europe/Helsinki:20251103T213000
DTSTAMP:20260424T031350
CREATED:20250326T001655Z
LAST-MODIFIED:20250326T001655Z
UID:57355-1762196400-1762205400@www.web-conzept-mn.de
SUMMARY:Mitgliederversammlung
DESCRIPTION:Montag\, den 03.11.\, um 19.00 Uhr\nMitgliederversammlung\nTreffpunkt: Versammlungsraum Reformhaus\, Große Klausstraße 11
URL:https://www.web-conzept-mn.de/event/mitgliederversammlung-36/
LOCATION:Refomhaus – Haus der Bewegungen\, Große Klausstraße 11\, Halle (Saale)\, 06108\, Deutschland
END:VEVENT
BEGIN:VEVENT
DTSTART;TZID=Europe/Helsinki:20251108T100000
DTEND;TZID=Europe/Helsinki:20251108T133000
DTSTAMP:20260424T031350
CREATED:20250325T233508Z
LAST-MODIFIED:20250325T233508Z
UID:57311-1762596000-1762608600@www.web-conzept-mn.de
SUMMARY:Herbstexkursion in die Pleiße-Elster-Aue in der Stadt Leipzig
DESCRIPTION:Samstag\, den 08.11.\, um 10.00 Uhr\nHerbstexkursion in die Pleiße-Elster-Aue in der Stadt Leipzig\nTreffpunkt: Haltestelle „Koburger Brücke“ (Bus 70: Richtung „Markleeberg-West“)\, Leipzig\nEndpunkt: Hauptbahnhof Leipzig\nDauer: ca. 3\,5 Stunden
URL:https://www.web-conzept-mn.de/event/herbstexkursion-in-die-pleisse-elster-aue-in-der-stadt-leipzig-4/
END:VEVENT
BEGIN:VEVENT
DTSTART;TZID=Europe/Helsinki:20251108T100000
DTEND;TZID=Europe/Helsinki:20251108T140000
DTSTAMP:20260424T031350
CREATED:20250326T093322Z
LAST-MODIFIED:20250326T093322Z
UID:57412-1762596000-1762610400@www.web-conzept-mn.de
SUMMARY:Erfassung der Avifauna des Erlen-Eschenwalds "Reudener Busch"
DESCRIPTION:Samstag\, den 08.11.\, um 10.00 UhrErfassung der Avifauna des Erlen-Eschenwalds „Reudener Busch“Beobachtung der im Gebiet vorkommenden Vogelarten mit dem Fernglas und schriftli­che Erfassung der gesichteten Tiere in Listen\nHinweis: Bitte bringen Sie ihr eigenes Fernglas mit. Leider können wir Ihnen keine Ferngläser zur Verfügung stel­len. Das betrifft auch Klemmbretter.\nVoranmeldung bis spätestens 22.00 Uhr am Freitag\, dem 07.11.2025\, unter: 0176 – 568 796 31Treffpunkt: Bahnhof WolfenDauer: ca. 4 Stunden
URL:https://www.web-conzept-mn.de/event/erfassung-der-avifauna-des-erlen-eschenwalds-reudener-busch-10/
LOCATION:Erlen-Eschenwalds „Reudener Busch“\, Bitterfeld-Wolfen
END:VEVENT
BEGIN:VEVENT
DTSTART;TZID=Europe/Helsinki:20251115T100000
DTEND;TZID=Europe/Helsinki:20251115T140000
DTSTAMP:20260424T031350
CREATED:20250325T235610Z
LAST-MODIFIED:20250325T235610Z
UID:57333-1763200800-1763215200@www.web-conzept-mn.de
SUMMARY:Arbeitseinsatz auf der Streuobstwiese „Am Landhaus“
DESCRIPTION:Samstag\, den 15.11.\, um 10.00 Uhr\nArbeitseinsatz auf der Streuobstwiese „Am Landhaus“\nTreffpunkt: Pension „Landhaus“ Dessau
URL:https://www.web-conzept-mn.de/event/arbeitseinsatz-auf-der-streuobstwiese-am-landhaus-25/
LOCATION:Streuobstwiese Landhaus Dessau\, Landhaus 1\, Dessau-Roßlau\, 06844\, Deutschland
END:VEVENT
BEGIN:VEVENT
DTSTART;TZID=Europe/Helsinki:20251115T100000
DTEND;TZID=Europe/Helsinki:20251115T140000
DTSTAMP:20260424T031350
CREATED:20250326T091857Z
LAST-MODIFIED:20250326T091857Z
UID:57400-1763200800-1763215200@www.web-conzept-mn.de
SUMMARY:Erfassung der Avifauna des Salegaster Forsts
DESCRIPTION:Samstag\, den 15.11.\, um 10.00 UhrErfassung der Avifauna des Salegaster Forsts\nBeobachtung der im Gebiet vorkommenden Vogelarten mit dem Fernglas und schriftliche Erfassung der gesichteten Tiere in Listen\nBitte bringen Sie ihr eigenes Fernglas mit. Leider können wir Ihnen kein Fernglas zur Verfügung stel­len. Das betrifft auch Klemmbretter.\nVoranmeldung bis spätestens 22.00 Uhr am Freitag\, dem 14.11.2025\, unter: 0176 – 568 796 31\nTreffpunkt: Bahnhof WolfenDauer: ca. 4 Stunden
URL:https://www.web-conzept-mn.de/event/erfassung-der-avifauna-des-salegaster-forsts-9/
LOCATION:Salegaster Forst\, Bitterfeld-Wolfen
END:VEVENT
BEGIN:VEVENT
DTSTART;TZID=Europe/Helsinki:20251122T100000
DTEND;TZID=Europe/Helsinki:20251122T150000
DTSTAMP:20260424T031350
CREATED:20250325T233638Z
LAST-MODIFIED:20250325T233638Z
UID:57313-1763805600-1763823600@www.web-conzept-mn.de
SUMMARY:Herbstrundexkursion durch die Saaleauenlandschaft
DESCRIPTION:Samstag\, den 22.11.\, um 10.00 Uhr\nHerbstrundexkursion durch die Saaleauenlandschaft\nzwischen Merseburg (Gotthardteich\, Rischmühleninsel)\, entlang der Al­ten Saale (Wehr-Ruine Werder) und Leuna (Waldbad) mit Abschluss und anschließende Auswertung in der Umweltbibliothek Merseburg „Jürgen Bernt-Bärtl“\, inklusive Bestimmungen mit Hilfe Fachliteratur und Mikro­skop\nTreffpunkt: Bahnhof Merseburg\nDauer: ca. 5 Stunden
URL:https://www.web-conzept-mn.de/event/herbstrundexkursion-durch-die-saaleauenlandschaft-4/
END:VEVENT
BEGIN:VEVENT
DTSTART;TZID=Europe/Helsinki:20251124T190000
DTEND;TZID=Europe/Helsinki:20251124T213000
DTSTAMP:20260424T031350
CREATED:20250326T003726Z
LAST-MODIFIED:20250326T003726Z
UID:57374-1764010800-1764019800@www.web-conzept-mn.de
SUMMARY:Versammlung der Initiative “Pro Baum”
DESCRIPTION:Montag\, den 24.11.\, um 19.00 Uhr\nVersammlung der Initiative “Pro Baum”\nTreffpunkt: Versammlungsraum Reformhaus\, Große Klausstraße 11
URL:https://www.web-conzept-mn.de/event/versammlung-der-initiative-pro-baum-38/
LOCATION:Refomhaus – Haus der Bewegungen\, Große Klausstraße 11\, Halle (Saale)\, 06108\, Deutschland
END:VEVENT
BEGIN:VEVENT
DTSTART;TZID=Europe/Helsinki:20251129T100000
DTEND;TZID=Europe/Helsinki:20251129T133000
DTSTAMP:20260424T031350
CREATED:20250325T233810Z
LAST-MODIFIED:20250325T233810Z
UID:57315-1764410400-1764423000@www.web-conzept-mn.de
SUMMARY:Herbstexkursion zur Burgaue in der Stadt Leipzig
DESCRIPTION:Samstag\, den 29.11.\, um 10.00 Uhr\nHerbstexkursion zur Burgaue in der Stadt Leipzig\nTreffpunkt: Haus „Auensee“\, Leipzig-Wahren\nDauer: ca. 3\,5 Stunden
URL:https://www.web-conzept-mn.de/event/herbstexkursion-zur-burgaue-in-der-stadt-leipzig-4/
END:VEVENT
BEGIN:VEVENT
DTSTART;TZID=Europe/Helsinki:20251129T100000
DTEND;TZID=Europe/Helsinki:20251129T140000
DTSTAMP:20260424T031350
CREATED:20250326T094031Z
LAST-MODIFIED:20250326T094031Z
UID:57418-1764410400-1764424800@www.web-conzept-mn.de
SUMMARY:Erfassung der Avifauna des Auenrestwald „Wolfener Busch“
DESCRIPTION:Samstag\, den 29.11.\, um 10.00 UhrErfassung der Avifauna des Auenrestwald „Wolfener Busch“\nBeobachtung der im Gebiet vorkommenden Vogelarten mit dem Fernglas und schriftli­che Erfassung der gesichteten Tiere in Listen\nBitte bringen Sie ihr eigenes Fernglas mit. Leider können wir Ihnen keine Ferngläser zur Verfügung stel­len. Das betrifft auch Klemmbretter.\nVoranmeldung bis spätestens 22.00 Uhr am Freitag\, dem 28.11.2025\, unter: 0176 – 568 796 31\nTreffpunkt: Bahnhof WolfenDauer: ca. 4 Stunden
URL:https://www.web-conzept-mn.de/event/erfassung-der-avifauna-des-auenrestwald-wolfener-busch-11/
END:VEVENT
END:VCALENDAR