BEGIN:VCALENDAR
VERSION:2.0
PRODID:-//Arbeitskreis Hallesche Auenwälder zu Halle / Saale e.V. (AHA) - ECPv6.15.18//NONSGML v1.0//EN
CALSCALE:GREGORIAN
METHOD:PUBLISH
X-ORIGINAL-URL:https://www.web-conzept-mn.de
X-WR-CALDESC:Veranstaltungen für Arbeitskreis Hallesche Auenwälder zu Halle / Saale e.V. (AHA)
REFRESH-INTERVAL;VALUE=DURATION:PT1H
X-Robots-Tag:noindex
X-PUBLISHED-TTL:PT1H
BEGIN:VTIMEZONE
TZID:Europe/Helsinki
BEGIN:DAYLIGHT
TZOFFSETFROM:+0200
TZOFFSETTO:+0300
TZNAME:EEST
DTSTART:20240331T010000
END:DAYLIGHT
BEGIN:STANDARD
TZOFFSETFROM:+0300
TZOFFSETTO:+0200
TZNAME:EET
DTSTART:20241027T010000
END:STANDARD
BEGIN:DAYLIGHT
TZOFFSETFROM:+0200
TZOFFSETTO:+0300
TZNAME:EEST
DTSTART:20250330T010000
END:DAYLIGHT
BEGIN:STANDARD
TZOFFSETFROM:+0300
TZOFFSETTO:+0200
TZNAME:EET
DTSTART:20251026T010000
END:STANDARD
BEGIN:DAYLIGHT
TZOFFSETFROM:+0200
TZOFFSETTO:+0300
TZNAME:EEST
DTSTART:20260329T010000
END:DAYLIGHT
BEGIN:STANDARD
TZOFFSETFROM:+0300
TZOFFSETTO:+0200
TZNAME:EET
DTSTART:20261025T010000
END:STANDARD
END:VTIMEZONE
BEGIN:VEVENT
DTSTART;TZID=Europe/Helsinki:20251004T100000
DTEND;TZID=Europe/Helsinki:20251004T140000
DTSTAMP:20260424T013840
CREATED:20250325T232504Z
LAST-MODIFIED:20250325T232504Z
UID:57302-1759572000-1759586400@www.web-conzept-mn.de
SUMMARY:Exkursion teilweise durch den Schillerpark
DESCRIPTION:Samstag\, den 04.10.\, um 10.00 Uhr\nExkursion teilweise durch den Schillerpark\, zum NSG „Untere Mulde“ und das ND „Eichendom“\nsowie zu den Streuobstwiesen „Am Landhaus“ und „Braunsche Lache“\nTreffpunkt: Ecke Walderseestraße/Albrechtstraße (ARAL-Tankstelle)\, Dessau-Roßlau\nDauer: ca. 4 Stunden
URL:https://www.web-conzept-mn.de/event/exkursion-teilweise-durch-den-schillerpark/
END:VEVENT
BEGIN:VEVENT
DTSTART;TZID=Europe/Helsinki:20251006T190000
DTEND;TZID=Europe/Helsinki:20251006T213000
DTSTAMP:20260424T013840
CREATED:20250326T001521Z
LAST-MODIFIED:20250326T001521Z
UID:57353-1759777200-1759786200@www.web-conzept-mn.de
SUMMARY:Mitgliederversammlung
DESCRIPTION:Montag\, den 06.10.\, um 19.00 Uhr\nMitgliederversammlung\nTreffpunkt: Versammlungsraum Reformhaus\, Große Klausstraße 11
URL:https://www.web-conzept-mn.de/event/mitgliederversammlung-35/
LOCATION:Refomhaus – Haus der Bewegungen\, Große Klausstraße 11\, Halle (Saale)\, 06108\, Deutschland
END:VEVENT
BEGIN:VEVENT
DTSTART;TZID=Europe/Helsinki:20251011T100000
DTEND;TZID=Europe/Helsinki:20251011T140000
DTSTAMP:20260424T013840
CREATED:20250325T232923Z
LAST-MODIFIED:20250325T232923Z
UID:57304-1760176800-1760191200@www.web-conzept-mn.de
SUMMARY:Mykologische Exkursion zum Dieskauer Park
DESCRIPTION:Samstag\, den 11.10.\, um 10.00 Uhr\nMykologische Exkursion zum Dieskauer Park\nmit der Fachgruppe „Mykologie“ des Naturschutzbundes Deutschland\, Regionalverband Halle/Saalkreis e.V.\nTreffpunkt: Eingang Dieskauer Schloss\, Kabelsketal\nDauer: ca. 4 Stunden
URL:https://www.web-conzept-mn.de/event/mykologische-exkursion-zum-dieskauer-park-3/
END:VEVENT
BEGIN:VEVENT
DTSTART;TZID=Europe/Helsinki:20251018T100000
DTEND;TZID=Europe/Helsinki:20251018T140000
DTSTAMP:20260424T013840
CREATED:20250325T235409Z
LAST-MODIFIED:20250325T235409Z
UID:57331-1760781600-1760796000@www.web-conzept-mn.de
SUMMARY:Arbeitseinsatz auf der Streuobstwiese „Am Landhaus“
DESCRIPTION:Samstag\, den 18.10.\, um 10.00 Uhr\nArbeitseinsatz auf der Streuobstwiese „Am Landhaus“\nTreffpunkt: Pension „Landhaus“ Dessau
URL:https://www.web-conzept-mn.de/event/arbeitseinsatz-auf-der-streuobstwiese-am-landhaus-24/
LOCATION:Streuobstwiese Landhaus Dessau\, Landhaus 1\, Dessau-Roßlau\, 06844\, Deutschland
END:VEVENT
BEGIN:VEVENT
DTSTART;TZID=Europe/Helsinki:20251018T100000
DTEND;TZID=Europe/Helsinki:20251018T160000
DTSTAMP:20260424T013840
CREATED:20250326T091525Z
LAST-MODIFIED:20250326T091525Z
UID:57398-1760781600-1760803200@www.web-conzept-mn.de
SUMMARY:Herbstwanderung zum Schlangenberg
DESCRIPTION:Samstag\, den 18.10.\, um 10.00 Uhr\nHerbstwanderung zum Schlangenberg\nRoute: Auenrestwald „Wolfener Busch“\, Waldweg von der Wegekreuzung „Invalidendreieck“ bis zur Katzenbrücke\, auf dem Waldweg – am Schlangengraben entlang – durch den Salegaster Forst bis nach Jeßnitz zum Schlangenberg\, Rückmarsch über die Auenwiesen Jeßnitz zur Mittellache\, Feldweg zur Salegaster Chaussee\, weiter über die Salegaster Chaussee zum Feldweg in Richtung Wolfen\, durch den Wolfener Busch entlang der Kleingartenanlage „Am Busch“ und vorbei am Tennisplatz\, Überquerung der Eisenbahnbrücke\nTreffpunkt: Bahnhof Wolfen\nDauer: ca. 6 Stunden \nVoranmeldung bis spätestens 22.00 Uhr am Freitag\, dem 17.10.2025\, unter: 0176 – 568 796 31
URL:https://www.web-conzept-mn.de/event/herbstwanderung-zum-schlangenberg-4/
END:VEVENT
BEGIN:VEVENT
DTSTART;TZID=Europe/Helsinki:20251025T100000
DTEND;TZID=Europe/Helsinki:20251025T140000
DTSTAMP:20260424T013840
CREATED:20250326T093842Z
LAST-MODIFIED:20250326T093842Z
UID:57416-1761386400-1761400800@www.web-conzept-mn.de
SUMMARY:Erfassung der Avifauna des Auenrestwald „Wolfener Busch“
DESCRIPTION:Samstag\, den 25.10.\, um 10.00 UhrErfassung der Avifauna des Auenrestwald „Wolfener Busch“\nBeobachtung der im Gebiet vorkommenden Vogelarten mit dem Fernglas und schriftli­che Erfassung der gesichteten Tiere in Listen\nBitte bringen Sie ihr eigenes Fernglas mit. Leider können wir Ihnen keine Ferngläser zur Verfügung stel­len. Das betrifft auch Klemmbretter.\nVoranmeldung bis spätestens 22.00 Uhr am Freitag\, dem 24.10.2025\, unter: 0176 – 568 796 31\nTreffpunkt: Bahnhof WolfenDauer: ca. 4 Stunden
URL:https://www.web-conzept-mn.de/event/erfassung-der-avifauna-des-auenrestwald-wolfener-busch-10/
END:VEVENT
BEGIN:VEVENT
DTSTART;TZID=Europe/Helsinki:20251025T100000
DTEND;TZID=Europe/Helsinki:20251025T150000
DTSTAMP:20260424T013840
CREATED:20250325T233125Z
LAST-MODIFIED:20250325T233125Z
UID:57307-1761386400-1761404400@www.web-conzept-mn.de
SUMMARY:Rundexkursion in das Unterluch in Dessau-Roßlau
DESCRIPTION:Samstag\, den 25.10.\, um 10.00 Uhr\nRundexkursion in das Unterluch in Dessau-Roßlau\nmit Aufenthalt an der Mündung der Rossel in die Elbe sowie Blick zum NSG „Saalberghau“ und zur Mündung der Mulde in die Elbe\nTreffpunkt: Bahnhof Roßlau\nDauer: ca. 5 Stunden
URL:https://www.web-conzept-mn.de/event/rundexkursion-in-das-unterluch-in-dessau-rosslau-2/
END:VEVENT
BEGIN:VEVENT
DTSTART;TZID=Europe/Helsinki:20251027T190000
DTEND;TZID=Europe/Helsinki:20251027T213000
DTSTAMP:20260424T013840
CREATED:20250326T003449Z
LAST-MODIFIED:20250326T003449Z
UID:57372-1761591600-1761600600@www.web-conzept-mn.de
SUMMARY:Versammlung der Initiative “Pro Baum”
DESCRIPTION:Montag\, den 27.10.\, um 19.00 Uhr\nVersammlung der Initiative “Pro Baum”\nTreffpunkt: Versammlungsraum Reformhaus\, Große Klausstraße 11
URL:https://www.web-conzept-mn.de/event/versammlung-der-initiative-pro-baum-37/
END:VEVENT
END:VCALENDAR