BEGIN:VCALENDAR
VERSION:2.0
PRODID:-//Arbeitskreis Hallesche Auenwälder zu Halle / Saale e.V. (AHA) - ECPv6.15.18//NONSGML v1.0//EN
CALSCALE:GREGORIAN
METHOD:PUBLISH
X-WR-CALNAME:Arbeitskreis Hallesche Auenwälder zu Halle / Saale e.V. (AHA)
X-ORIGINAL-URL:https://www.web-conzept-mn.de
X-WR-CALDESC:Veranstaltungen für Arbeitskreis Hallesche Auenwälder zu Halle / Saale e.V. (AHA)
REFRESH-INTERVAL;VALUE=DURATION:PT1H
X-Robots-Tag:noindex
X-PUBLISHED-TTL:PT1H
BEGIN:VTIMEZONE
TZID:Europe/Helsinki
BEGIN:DAYLIGHT
TZOFFSETFROM:+0200
TZOFFSETTO:+0300
TZNAME:EEST
DTSTART:20240331T010000
END:DAYLIGHT
BEGIN:STANDARD
TZOFFSETFROM:+0300
TZOFFSETTO:+0200
TZNAME:EET
DTSTART:20241027T010000
END:STANDARD
BEGIN:DAYLIGHT
TZOFFSETFROM:+0200
TZOFFSETTO:+0300
TZNAME:EEST
DTSTART:20250330T010000
END:DAYLIGHT
BEGIN:STANDARD
TZOFFSETFROM:+0300
TZOFFSETTO:+0200
TZNAME:EET
DTSTART:20251026T010000
END:STANDARD
BEGIN:DAYLIGHT
TZOFFSETFROM:+0200
TZOFFSETTO:+0300
TZNAME:EEST
DTSTART:20260329T010000
END:DAYLIGHT
BEGIN:STANDARD
TZOFFSETFROM:+0300
TZOFFSETTO:+0200
TZNAME:EET
DTSTART:20261025T010000
END:STANDARD
END:VTIMEZONE
BEGIN:VEVENT
DTSTART;TZID=Europe/Helsinki:20250901T190000
DTEND;TZID=Europe/Helsinki:20250901T213000
DTSTAMP:20260424T132517
CREATED:20250326T001350Z
LAST-MODIFIED:20250326T001350Z
UID:57351-1756753200-1756762200@www.web-conzept-mn.de
SUMMARY:Mitgliederversammlung
DESCRIPTION:Montag\, den 01.09.\, um 19.00 Uhr\nMitgliederversammlung\nTreffpunkt: Versammlungsraum Reformhaus\, Große Klausstraße 11
URL:https://www.web-conzept-mn.de/event/mitgliederversammlung-34/
LOCATION:Refomhaus – Haus der Bewegungen\, Große Klausstraße 11\, Halle (Saale)\, 06108\, Deutschland
END:VEVENT
BEGIN:VEVENT
DTSTART;TZID=Europe/Helsinki:20250903T173000
DTEND;TZID=Europe/Helsinki:20250903T203000
DTSTAMP:20260424T132517
CREATED:20250805T101216Z
LAST-MODIFIED:20250805T101216Z
UID:60935-1756920600-1756931400@www.web-conzept-mn.de
SUMMARY:Abendexkursion zum halleschen Hufeisensee
DESCRIPTION:Mittwoch\, den 03.09.\nAbendexkursion zum halleschen Hufeisensee\nTreff: 17.30 Uhr\, Straßenbahnhaltestelle Bitterfelder Straße\nDauer: ca. 3 Stunden
URL:https://www.web-conzept-mn.de/event/abendexkursion-zum-halleschen-hufeisensee/
END:VEVENT
BEGIN:VEVENT
DTSTART;TZID=Europe/Helsinki:20250906T100000
DTEND;TZID=Europe/Helsinki:20250906T140000
DTSTAMP:20260424T132517
CREATED:20250325T231924Z
LAST-MODIFIED:20250325T231924Z
UID:57296-1757152800-1757167200@www.web-conzept-mn.de
SUMMARY:Exkursion durch das LSG Dölauer Heide
DESCRIPTION:Samstag\, den 06.09.\, um 10.00 Uhr\nExkursion durch das LSG Dölauer Heide\nzum Thema: „Erkenntnispfad durch die Dölauer Heide“\nTreffpunkt: Gaststätte Waldkater\, Halle (Saale)\nDauer: ca. 4 Stunden
URL:https://www.web-conzept-mn.de/event/exkursion-durch-das-lsg-doelauer-heide-4/
LOCATION:Dölauer Heide
END:VEVENT
BEGIN:VEVENT
DTSTART;TZID=Europe/Helsinki:20250907T100000
DTEND;TZID=Europe/Helsinki:20250907T140000
DTSTAMP:20260424T132517
CREATED:20250326T004425Z
LAST-MODIFIED:20250825T180519Z
UID:57380-1757239200-1757253600@www.web-conzept-mn.de
SUMMARY:Wanderung zum Tag des Geotops
DESCRIPTION:Sonntag\, den 07.09.\, um 10.00 Uhr\nIn Gedenken an Dieter Vopel (1958 – 2025)\nWanderung zum Tag des Geotops\nWanderung zum Tag des Geotops durch das Ackertal von Bornstedt entlang der Rohne nach Klosterrode und zurück.\nTreffpunkt: Kirche in Bornstedt\, Bauernsteinstraße\nDauer: ca. 4 Stunden
URL:https://www.web-conzept-mn.de/event/wanderung-zum-tag-des-geotops-4/
END:VEVENT
BEGIN:VEVENT
DTSTART;TZID=Europe/Helsinki:20250913T100000
DTEND;TZID=Europe/Helsinki:20250913T140000
DTSTAMP:20260424T132517
CREATED:20250326T094744Z
LAST-MODIFIED:20250326T094744Z
UID:57424-1757757600-1757772000@www.web-conzept-mn.de
SUMMARY:Erfassung der Entomofauna des Auenrestwald "Wolfener Busch"
DESCRIPTION:Samstag\, den 13.09.\, um 10.00 UhrErfassung der Entomofauna des Auenrestwald „Wolfener Busch“\nBeobachtung der im Gebiet vorkommenden Insekten und Spinnen mit dem Luppen und schriftli­che Erfassung der gesichteten Tiere in Listen\nBitte bringen Sie ihre eigene Lupe mit. Leider können wir Ihnen keine Lupen zur Verfügung stel­len. Das betrifft auch Klemmbretter.\nVoranmeldung bis spätestens 22.00 Uhr am Freitag\, dem 12.09.2024\, unter: 0176 – 568 796 31\nTreffpunkt: Bahnhof WolfenDauer: ca. 4 Stunden
URL:https://www.web-conzept-mn.de/event/erfassung-der-entomofauna-des-auenrestwald-wolfener-busch-3/
END:VEVENT
BEGIN:VEVENT
DTSTART;TZID=Europe/Helsinki:20250913T100000
DTEND;TZID=Europe/Helsinki:20250913T170000
DTSTAMP:20260424T132517
CREATED:20250325T232047Z
LAST-MODIFIED:20250325T232047Z
UID:57298-1757757600-1757782800@www.web-conzept-mn.de
SUMMARY:Fahrradexkursion entlang der Gera
DESCRIPTION:Samstag\, den 13.09.\, um 10.00 Uhr\nFahrradexkursion entlang der Gera\nab Erfurt bis zur Einmündung in die Unstrut bei Gebesee\nTreffpunkt: Hauptbahnhof Erfurt\, Ausgang Schillerstraße\nEnde: Bahnhof Gebesee/Ringleben\nDauer: ca. 7 Stunden
URL:https://www.web-conzept-mn.de/event/fahrradexkursion-entlang-der-gera-4/
END:VEVENT
BEGIN:VEVENT
DTSTART;TZID=Europe/Helsinki:20250920T100000
DTEND;TZID=Europe/Helsinki:20250920T140000
DTSTAMP:20260424T132517
CREATED:20250325T235230Z
LAST-MODIFIED:20250325T235230Z
UID:57329-1758362400-1758376800@www.web-conzept-mn.de
SUMMARY:Arbeitseinsatz auf der Streuobstwiese „Am Landhaus“
DESCRIPTION:Samstag\, den 20.09.\, um 10.00 Uhr\nArbeitseinsatz auf der Streuobstwiese „Am Landhaus“\nTreffpunkt: Pension „Landhaus“ Dessau
URL:https://www.web-conzept-mn.de/event/arbeitseinsatz-auf-der-streuobstwiese-am-landhaus-23/
LOCATION:Streuobstwiese Landhaus Dessau\, Landhaus 1\, Dessau-Roßlau\, 06844\, Deutschland
END:VEVENT
BEGIN:VEVENT
DTSTART;TZID=Europe/Helsinki:20250921T100000
DTEND;TZID=Europe/Helsinki:20250921T130000
DTSTAMP:20260424T132517
CREATED:20250326T004616Z
LAST-MODIFIED:20250326T004616Z
UID:57382-1758448800-1758459600@www.web-conzept-mn.de
SUMMARY:Exkursion zum Tag des Geotops
DESCRIPTION:Sonntag\, den 21.09.\, um 10.00 Uhr\nExkursion zum Tag des Geotops\nGeologisch-bergbauhistorisch-zoologisch-botanische Wanderung auf dem Karl-Hebener-Weg\, Lutherstadt Eisleben-Wimmelburg und zurück über die Hüne­burg (Kuckucksbaum)\nTreffpunkt: Ecke Friedensstraße/Fritz-Wenkstraße\, Lutherstadt Eisleben\nDauer: ca. 3 Stunden
URL:https://www.web-conzept-mn.de/event/exkursion-zum-tag-des-geotops-4/
END:VEVENT
BEGIN:VEVENT
DTSTART;TZID=Europe/Helsinki:20250927T100000
DTEND;TZID=Europe/Helsinki:20250927T160000
DTSTAMP:20260424T132517
CREATED:20250325T232231Z
LAST-MODIFIED:20250325T232231Z
UID:57300-1758967200-1758988800@www.web-conzept-mn.de
SUMMARY:Radexkursion zum Gut Mößlitz
DESCRIPTION:Samstag\, den 27.09.\, um 10.00 Uhr\nRadexkursion zum Gut Mößlitz\nentlang der Fuhne zum Gondelteich\, zum Erlen-Eschen-Wald „Reudener Busch“\, zur Brödelgrabeneinmündung\, zur Fuhnevogtei\, zum Quellgebiet der Fuhne mit Fuhnebifurkation\, zum Quellbusch sowie entlang des Zör­biger Strengbaches\nTreffpunkt: Bahnhof Wolfen\nDauer: ca. 6 Stunden
URL:https://www.web-conzept-mn.de/event/radexkursion-zum-gut-moesslitz-4/
END:VEVENT
BEGIN:VEVENT
DTSTART;TZID=Europe/Helsinki:20250929T190000
DTEND;TZID=Europe/Helsinki:20250929T213000
DTSTAMP:20260424T132517
CREATED:20250326T003251Z
LAST-MODIFIED:20250326T003251Z
UID:57370-1759172400-1759181400@www.web-conzept-mn.de
SUMMARY:Versammlung der Initiative “Pro Baum”
DESCRIPTION:Montag\, den 29.09.\, um 19.00 Uhr\nVersammlung der Initiative “Pro Baum”\nTreffpunkt: Versammlungsraum Reformhaus\, Große Klausstraße 11
URL:https://www.web-conzept-mn.de/event/versammlung-der-initiative-pro-baum-36/
LOCATION:Refomhaus – Haus der Bewegungen\, Große Klausstraße 11\, Halle (Saale)\, 06108\, Deutschland
END:VEVENT
END:VCALENDAR