BEGIN:VCALENDAR
VERSION:2.0
PRODID:-//Arbeitskreis Hallesche Auenwälder zu Halle / Saale e.V. (AHA) - ECPv6.15.18//NONSGML v1.0//EN
CALSCALE:GREGORIAN
METHOD:PUBLISH
X-WR-CALNAME:Arbeitskreis Hallesche Auenwälder zu Halle / Saale e.V. (AHA)
X-ORIGINAL-URL:https://www.web-conzept-mn.de
X-WR-CALDESC:Veranstaltungen für Arbeitskreis Hallesche Auenwälder zu Halle / Saale e.V. (AHA)
REFRESH-INTERVAL;VALUE=DURATION:PT1H
X-Robots-Tag:noindex
X-PUBLISHED-TTL:PT1H
BEGIN:VTIMEZONE
TZID:Europe/Helsinki
BEGIN:DAYLIGHT
TZOFFSETFROM:+0200
TZOFFSETTO:+0300
TZNAME:EEST
DTSTART:20240331T010000
END:DAYLIGHT
BEGIN:STANDARD
TZOFFSETFROM:+0300
TZOFFSETTO:+0200
TZNAME:EET
DTSTART:20241027T010000
END:STANDARD
BEGIN:DAYLIGHT
TZOFFSETFROM:+0200
TZOFFSETTO:+0300
TZNAME:EEST
DTSTART:20250330T010000
END:DAYLIGHT
BEGIN:STANDARD
TZOFFSETFROM:+0300
TZOFFSETTO:+0200
TZNAME:EET
DTSTART:20251026T010000
END:STANDARD
BEGIN:DAYLIGHT
TZOFFSETFROM:+0200
TZOFFSETTO:+0300
TZNAME:EEST
DTSTART:20260329T010000
END:DAYLIGHT
BEGIN:STANDARD
TZOFFSETFROM:+0300
TZOFFSETTO:+0200
TZNAME:EET
DTSTART:20261025T010000
END:STANDARD
END:VTIMEZONE
BEGIN:VEVENT
DTSTART;TZID=Europe/Helsinki:20250802T100000
DTEND;TZID=Europe/Helsinki:20250802T150000
DTSTAMP:20260422T194226
CREATED:20250325T225243Z
LAST-MODIFIED:20250325T225243Z
UID:57288-1754128800-1754146800@www.web-conzept-mn.de
SUMMARY:Fahrradexkursion entlang bzw. durch die Aue der Zorge
DESCRIPTION:Samstag\, den 02.08.\, um 10.00 Uhr\nFahrradexkursion entlang bzw. durch die Aue der Zorge\nab der Stadt Nordhausen sowie entlang der Helme bis Bahnhof Ber­ga-Kelbra mit Aufenthalt am Mündungsbereich der Thyra\nTreffpunkt: Bahnhof Nordhausen\nDauer: ca. 5 Stunden
URL:https://www.web-conzept-mn.de/event/fahrradexkursion-entlang-bzw-durch-die-aue-der-zorge-2/
END:VEVENT
BEGIN:VEVENT
DTSTART;TZID=Europe/Helsinki:20250804T190000
DTEND;TZID=Europe/Helsinki:20250804T213000
DTSTAMP:20260422T194226
CREATED:20250326T001208Z
LAST-MODIFIED:20250326T001208Z
UID:57349-1754334000-1754343000@www.web-conzept-mn.de
SUMMARY:Mitgliederversammlung
DESCRIPTION:Montag\, den 04.08.\, um 19.00 Uhr\nMitgliederversammlung\nTreffpunkt: Versammlungsraum Reformhaus\, Große Klausstraße 11
URL:https://www.web-conzept-mn.de/event/mitgliederversammlung-33/
LOCATION:Refomhaus – Haus der Bewegungen\, Große Klausstraße 11\, Halle (Saale)\, 06108\, Deutschland
END:VEVENT
BEGIN:VEVENT
DTSTART;TZID=Europe/Helsinki:20250809T100000
DTEND;TZID=Europe/Helsinki:20250809T180000
DTSTAMP:20260422T194226
CREATED:20250325T225419Z
LAST-MODIFIED:20250805T085614Z
UID:57290-1754733600-1754762400@www.web-conzept-mn.de
SUMMARY:Fahrradrundexkursion entlang der Elbe
DESCRIPTION:Samstag\, den 09.08.\, um 10.00 Uhr\nFahrradrundexkursion entlang der Elbe\nzwischen der Großen Kreisstadt Torgau und der Stadt Mühlberg (Elbe)\nTreffpunkt: Bahnhof Torgau\nDauer: ca. 8 Stunden
URL:https://www.web-conzept-mn.de/event/fahrradrundexkursion-entlang-der-elbe-8/
END:VEVENT
BEGIN:VEVENT
DTSTART;TZID=Europe/Helsinki:20250816T100000
DTEND;TZID=Europe/Helsinki:20250816T180000
DTSTAMP:20260422T194226
CREATED:20250325T230040Z
LAST-MODIFIED:20250325T230839Z
UID:57292-1755338400-1755367200@www.web-conzept-mn.de
SUMMARY:Ganztagesradexkursion entlang der Selke
DESCRIPTION:Samstag\, den 16.08.\, um 12.00 Uhr\nGanztagesradexkursion entlang der Selke\nab Quellgebiet bei Stiege bis zur Parkanlage zum „Oberhof“ der ehemali­gen preußischen Staatsdomäne in Gatersleben\nTreffpunkt: Bahnhof Stiege\nEnde: Bahnhof in Gatersleben\nDauer: ca. 8 Stunden
URL:https://www.web-conzept-mn.de/event/ganztagesradexkursion-entlang-der-selke-4/
END:VEVENT
BEGIN:VEVENT
DTSTART;TZID=Europe/Helsinki:20250823T100000
DTEND;TZID=Europe/Helsinki:20250823T140000
DTSTAMP:20260422T194226
CREATED:20250326T094938Z
LAST-MODIFIED:20250326T094938Z
UID:57426-1755943200-1755957600@www.web-conzept-mn.de
SUMMARY:Erfassung der Entomofauna des Salegaster Forsts
DESCRIPTION:Samstag\, den 23.08.\, um 10.00 UhrErfassung der Entomofauna des Salegaster Forsts\nBeobachtung der im Gebiet vorkommenden Insekten und Spinnen mit dem Luppen und schriftli­che Erfassung der gesichteten Tiere in Listen\nBitte bringen Sie ihre eigene Lupe mit. Leider können wir Ihnen keine Lupen zur Verfügung stel­len. Das betrifft auch Klemmbretter.\nVoranmeldung bis spätestens 22.00 Uhr am Freitag\, dem 22.08.2024\, unter: 0176 – 568 796 31\nTreffpunkt: Bahnhof WolfenDauer: ca. 4 Stunden
URL:https://www.web-conzept-mn.de/event/erfassung-der-entomofauna-des-salegaster-forsts-7/
LOCATION:Salegaster Forst\, Bitterfeld-Wolfen
END:VEVENT
BEGIN:VEVENT
DTSTART;TZID=Europe/Helsinki:20250823T100000
DTEND;TZID=Europe/Helsinki:20250823T170000
DTSTAMP:20260422T194226
CREATED:20250325T231150Z
LAST-MODIFIED:20250325T231150Z
UID:57294-1755943200-1755968400@www.web-conzept-mn.de
SUMMARY:Fahrradexkursion durch die Dübener Heide und Muldeaue
DESCRIPTION:Samstag\, den 23.08.\, um 10.00 Uhr\nFahrradexkursion durch die Dübener Heide und Muldeaue\nzwischen Radis und Eilenburg\nTreffpunkt: Bahnhof Radis\nEndpunkt: Bahnhof Eilenburg\nDauer: ca. 7 Stunden
URL:https://www.web-conzept-mn.de/event/fahrradexkursion-durch-die-duebener-heide-und-muldeaue/
END:VEVENT
BEGIN:VEVENT
DTSTART;TZID=Europe/Helsinki:20250825T190000
DTEND;TZID=Europe/Helsinki:20250825T213000
DTSTAMP:20260422T194226
CREATED:20250326T003018Z
LAST-MODIFIED:20250326T003018Z
UID:57368-1756148400-1756157400@www.web-conzept-mn.de
SUMMARY:Versammlung der Initiative “Pro Baum”
DESCRIPTION:Montag\, den 25.08.\, um 19.00 Uhr\nVersammlung der Initiative “Pro Baum”\nTreffpunkt: Versammlungsraum Reformhaus\, Große Klausstraße 11
URL:https://www.web-conzept-mn.de/event/versammlung-der-initiative-pro-baum-35/
LOCATION:Refomhaus – Haus der Bewegungen\, Große Klausstraße 11\, Halle (Saale)\, 06108\, Deutschland
END:VEVENT
BEGIN:VEVENT
DTSTART;TZID=Europe/Helsinki:20250830T100000
DTEND;TZID=Europe/Helsinki:20250830T140000
DTSTAMP:20260422T194226
CREATED:20250325T235012Z
LAST-MODIFIED:20250325T235012Z
UID:57326-1756548000-1756562400@www.web-conzept-mn.de
SUMMARY:Arbeitseinsatz auf der Streuobstwiese „Am Landhaus“
DESCRIPTION:Samstag\, den 30.08.\, um 10.00 Uhr\nArbeitseinsatz auf der Streuobstwiese „Am Landhaus“\nTreffpunkt: Pension „Landhaus“ Dessau
URL:https://www.web-conzept-mn.de/event/arbeitseinsatz-auf-der-streuobstwiese-am-landhaus-22/
LOCATION:Streuobstwiese Landhaus Dessau\, Landhaus 1\, Dessau-Roßlau\, 06844\, Deutschland
END:VEVENT
END:VCALENDAR