BEGIN:VCALENDAR
VERSION:2.0
PRODID:-//Arbeitskreis Hallesche Auenwälder zu Halle / Saale e.V. (AHA) - ECPv6.15.18//NONSGML v1.0//EN
CALSCALE:GREGORIAN
METHOD:PUBLISH
X-WR-CALNAME:Arbeitskreis Hallesche Auenwälder zu Halle / Saale e.V. (AHA)
X-ORIGINAL-URL:https://www.web-conzept-mn.de
X-WR-CALDESC:Veranstaltungen für Arbeitskreis Hallesche Auenwälder zu Halle / Saale e.V. (AHA)
REFRESH-INTERVAL;VALUE=DURATION:PT1H
X-Robots-Tag:noindex
X-PUBLISHED-TTL:PT1H
BEGIN:VTIMEZONE
TZID:Europe/Helsinki
BEGIN:DAYLIGHT
TZOFFSETFROM:+0200
TZOFFSETTO:+0300
TZNAME:EEST
DTSTART:20240331T010000
END:DAYLIGHT
BEGIN:STANDARD
TZOFFSETFROM:+0300
TZOFFSETTO:+0200
TZNAME:EET
DTSTART:20241027T010000
END:STANDARD
BEGIN:DAYLIGHT
TZOFFSETFROM:+0200
TZOFFSETTO:+0300
TZNAME:EEST
DTSTART:20250330T010000
END:DAYLIGHT
BEGIN:STANDARD
TZOFFSETFROM:+0300
TZOFFSETTO:+0200
TZNAME:EET
DTSTART:20251026T010000
END:STANDARD
BEGIN:DAYLIGHT
TZOFFSETFROM:+0200
TZOFFSETTO:+0300
TZNAME:EEST
DTSTART:20260329T010000
END:DAYLIGHT
BEGIN:STANDARD
TZOFFSETFROM:+0300
TZOFFSETTO:+0200
TZNAME:EET
DTSTART:20261025T010000
END:STANDARD
END:VTIMEZONE
BEGIN:VEVENT
DTSTART;TZID=Europe/Helsinki:20250602T190000
DTEND;TZID=Europe/Helsinki:20250602T213000
DTSTAMP:20260422T164317
CREATED:20250326T000902Z
LAST-MODIFIED:20250326T000902Z
UID:57345-1748890800-1748899800@www.web-conzept-mn.de
SUMMARY:Mitgliederversammlung
DESCRIPTION:Montag\, den 02.06.\, um 19.00 Uhr\nMitgliederversammlung\nTreffpunkt: Versammlungsraum Reformhaus\, Große Klausstraße 11
URL:https://www.web-conzept-mn.de/event/mitgliederversammlung-31/
LOCATION:Refomhaus – Haus der Bewegungen\, Große Klausstraße 11\, Halle (Saale)\, 06108\, Deutschland
END:VEVENT
BEGIN:VEVENT
DTSTART;TZID=Europe/Helsinki:20250605T180000
DTEND;TZID=Europe/Helsinki:20250605T210000
DTSTAMP:20260422T164317
CREATED:20250325T223836Z
LAST-MODIFIED:20250325T223836Z
UID:57274-1749146400-1749157200@www.web-conzept-mn.de
SUMMARY:Fahrradexkursion zu den Elbauen der Lutherstadt Wittenberg - Großer Anger
DESCRIPTION:Donnerstag\, den 05.06.\, um 18.00 Uhr\nFahrradexkursion zu den Elbauen der Lutherstadt Wittenberg – Großer Anger\nTreffpunkt: Hauptbahnhof Lutherstadt Wittenberg\nEnde: Bahnhof Lutherstadt Wittenberg Altstadt\nDauer: ca. 3 Stunden
URL:https://www.web-conzept-mn.de/event/fahrradexkursion-zu-den-elbauen-der-lutherstadt-wittenberg-grosser-anger/
END:VEVENT
BEGIN:VEVENT
DTSTART;TZID=Europe/Helsinki:20250607T100000
DTEND;TZID=Europe/Helsinki:20250607T140000
DTSTAMP:20260422T164317
CREATED:20250326T090246Z
LAST-MODIFIED:20250326T090818Z
UID:57392-1749290400-1749304800@www.web-conzept-mn.de
SUMMARY:Wanderexkursion anlässlich des Tages der Umwelt
DESCRIPTION:Samstag\, den 07.06.\, um 10.00 Uhr\nWanderexkursion anlässlich des Tages der Umwelt (vom 05.06.2025)\nzum Erlen-Eschen-Wald „Reudener Busch“\nRoute: Eisenbahnstraße (Wolfen)\, Naherholungsgebiet „Fuhneaue“ Wolfen\, vorbei an der Gaststätte „Am Rodelberg“\, Kleingartensparte „Am Betonwerk“ e.V.\, Fuhnetalweg\nTreffpunkt: Bahnhof Wolfen\nDauer: ca. 4 Stunden \nVoranmeldung bis spätestens 22.00 Uhr am Freitag\, dem 06.06.2025\, unter: 0176 – 568 796 31
URL:https://www.web-conzept-mn.de/event/wanderexkursion-anlaesslich-des-tages-der-umwelt/
END:VEVENT
BEGIN:VEVENT
DTSTART;TZID=Europe/Helsinki:20250614T100000
DTEND;TZID=Europe/Helsinki:20250614T120000
DTSTAMP:20260422T164317
CREATED:20250326T004119Z
LAST-MODIFIED:20250326T004119Z
UID:57378-1749895200-1749902400@www.web-conzept-mn.de
SUMMARY:Orchideenspaziergang in Wimmelburg
DESCRIPTION:Samstag\, den 14.06.\, um 10.00 Uhr\nOrchideenspaziergang in Wimmelburg\nTreffpunkt: Gaststätte „Zur Hüneburg“\, Unterdorf 3 in Wimmelburg\nDauer: ca. 2 Stunden
URL:https://www.web-conzept-mn.de/event/orchideenspaziergang-in-wimmelburg-4/
LOCATION:Wimmelburg
END:VEVENT
BEGIN:VEVENT
DTSTART;TZID=Europe/Helsinki:20250614T100000
DTEND;TZID=Europe/Helsinki:20250614T150000
DTSTAMP:20260422T164317
CREATED:20250325T224054Z
LAST-MODIFIED:20250325T224054Z
UID:57276-1749895200-1749913200@www.web-conzept-mn.de
SUMMARY:Fahrradexkursion zum Thema: „Die Parthe durch Stadt und Land“
DESCRIPTION:Samstag\, den 14.06.\, um 10.00 Uhr\nFahrradexkursion zum Thema: „Die Parthe durch Stadt und Land“\nentlang der Parthe von Taucha nach Leipzig bis zur Mündung in die Wei­ße Elster\nTreffpunkt: Bahnhof Taucha\nDauer: ca. 5 Stunden
URL:https://www.web-conzept-mn.de/event/fahrradexkursion-zum-thema-die-parthe-durch-stadt-und-land-4/
END:VEVENT
BEGIN:VEVENT
DTSTART;TZID=Europe/Helsinki:20250621T100000
DTEND;TZID=Europe/Helsinki:20250621T140000
DTSTAMP:20260422T164317
CREATED:20250325T234638Z
LAST-MODIFIED:20250325T234638Z
UID:57321-1750500000-1750514400@www.web-conzept-mn.de
SUMMARY:Arbeitseinsatz auf der Streuobstwiese „Am Landhaus“
DESCRIPTION:Samstag\, den 21.06.\, um 10.00 Uhr\nArbeitseinsatz auf der Streuobstwiese „Am Landhaus“\nTreffpunkt: Pension „Landhaus“ Dessau
URL:https://www.web-conzept-mn.de/event/arbeitseinsatz-auf-der-streuobstwiese-am-landhaus-20/
END:VEVENT
BEGIN:VEVENT
DTSTART;TZID=Europe/Helsinki:20250621T100000
DTEND;TZID=Europe/Helsinki:20250621T180000
DTSTAMP:20260422T164317
CREATED:20250325T224257Z
LAST-MODIFIED:20250325T224257Z
UID:57278-1750500000-1750528800@www.web-conzept-mn.de
SUMMARY:Teilnahme an den Merseburger Schlossfestspielen
DESCRIPTION:Samstag\, den 21.06.\nTeilnahme an den Merseburger Schlossfestspielen vom 20.06 bis 22.06.2025\nGenaueres wird noch bekanntgegeben
URL:https://www.web-conzept-mn.de/event/teilnahme-an-den-merseburger-schlossfestspielen-2/
LOCATION:Merseburg\, Bahnhofsplatz 1\, Merseburg\, 06217\, Deutschland
END:VEVENT
BEGIN:VEVENT
DTSTART;TZID=Europe/Helsinki:20250628T100000
DTEND;TZID=Europe/Helsinki:20250628T170000
DTSTAMP:20260422T164317
CREATED:20250325T224449Z
LAST-MODIFIED:20250325T224449Z
UID:57280-1751104800-1751130000@www.web-conzept-mn.de
SUMMARY:Fahrradexkursion durch die Elbaue
DESCRIPTION:Samstag\, den 28.06.\, um 10.00 Uhr\nFahrradexkursion durch die Elbaue\nzwischen Děčín und Dresden\nTreffpunkt: Děčín hlavní nádraží (Děčín Hauptbahnhof)\, Ein- und Ausgang im Osten\, Prace\nDauer: ca. 7 Stunden
URL:https://www.web-conzept-mn.de/event/fahrradexkursion-durch-die-elbaue-3/
END:VEVENT
BEGIN:VEVENT
DTSTART;TZID=Europe/Helsinki:20250630T190000
DTEND;TZID=Europe/Helsinki:20250630T213000
DTSTAMP:20260422T164317
CREATED:20250326T002631Z
LAST-MODIFIED:20250326T002656Z
UID:57363-1751310000-1751319000@www.web-conzept-mn.de
SUMMARY:Versammlung der Initiative “Pro Baum”
DESCRIPTION:Montag\, den 30.06.\, um 19.00 Uhr\nVersammlung der Initiative “Pro Baum”\nTreffpunkt: Versammlungsraum Reformhaus\, Große Klausstraße 11
URL:https://www.web-conzept-mn.de/event/versammlung-der-initiative-pro-baum-33/
LOCATION:Refomhaus – Haus der Bewegungen\, Große Klausstraße 11\, Halle (Saale)\, 06108\, Deutschland
END:VEVENT
END:VCALENDAR