BEGIN:VCALENDAR
VERSION:2.0
PRODID:-//Arbeitskreis Hallesche Auenwälder zu Halle / Saale e.V. (AHA) - ECPv6.15.18//NONSGML v1.0//EN
CALSCALE:GREGORIAN
METHOD:PUBLISH
X-WR-CALNAME:Arbeitskreis Hallesche Auenwälder zu Halle / Saale e.V. (AHA)
X-ORIGINAL-URL:https://www.web-conzept-mn.de
X-WR-CALDESC:Veranstaltungen für Arbeitskreis Hallesche Auenwälder zu Halle / Saale e.V. (AHA)
REFRESH-INTERVAL;VALUE=DURATION:PT1H
X-Robots-Tag:noindex
X-PUBLISHED-TTL:PT1H
BEGIN:VTIMEZONE
TZID:Europe/Helsinki
BEGIN:DAYLIGHT
TZOFFSETFROM:+0200
TZOFFSETTO:+0300
TZNAME:EEST
DTSTART:20240331T010000
END:DAYLIGHT
BEGIN:STANDARD
TZOFFSETFROM:+0300
TZOFFSETTO:+0200
TZNAME:EET
DTSTART:20241027T010000
END:STANDARD
BEGIN:DAYLIGHT
TZOFFSETFROM:+0200
TZOFFSETTO:+0300
TZNAME:EEST
DTSTART:20250330T010000
END:DAYLIGHT
BEGIN:STANDARD
TZOFFSETFROM:+0300
TZOFFSETTO:+0200
TZNAME:EET
DTSTART:20251026T010000
END:STANDARD
BEGIN:DAYLIGHT
TZOFFSETFROM:+0200
TZOFFSETTO:+0300
TZNAME:EEST
DTSTART:20260329T010000
END:DAYLIGHT
BEGIN:STANDARD
TZOFFSETFROM:+0300
TZOFFSETTO:+0200
TZNAME:EET
DTSTART:20261025T010000
END:STANDARD
END:VTIMEZONE
BEGIN:VEVENT
DTSTART;TZID=Europe/Helsinki:20250503T100000
DTEND;TZID=Europe/Helsinki:20250503T150000
DTSTAMP:20260422T151341
CREATED:20250325T222909Z
LAST-MODIFIED:20250325T222909Z
UID:57265-1746266400-1746284400@www.web-conzept-mn.de
SUMMARY:Exkursion durch die Bodeaue
DESCRIPTION:Samstag\, den 03.05.\, um 10.00 Uhr\nExkursion durch die Bodeaue\nzwischen den Städten Thale und Quedlinburg\nTreffpunkt: Bahnhof Thale\nEndpunkt: Brühl in Quedlinburg\nDauer: ca. 5 Stunden
URL:https://www.web-conzept-mn.de/event/exkursion-durch-die-bodeaue-3/
END:VEVENT
BEGIN:VEVENT
DTSTART;TZID=Europe/Helsinki:20250505T190000
DTEND;TZID=Europe/Helsinki:20250505T213000
DTSTAMP:20260422T151341
CREATED:20250326T000734Z
LAST-MODIFIED:20250326T000734Z
UID:57343-1746471600-1746480600@www.web-conzept-mn.de
SUMMARY:Mitgliederversammlung
DESCRIPTION:Montag\, den 05.05.\, um 19.00 Uhr\nMitgliederversammlung\nTreffpunkt: Versammlungsraum Reformhaus\, Große Klausstraße 11
URL:https://www.web-conzept-mn.de/event/mitgliederversammlung-30/
LOCATION:Refomhaus – Haus der Bewegungen\, Große Klausstraße 11\, Halle (Saale)\, 06108\, Deutschland
END:VEVENT
BEGIN:VEVENT
DTSTART;TZID=Europe/Helsinki:20250510T100000
DTEND;TZID=Europe/Helsinki:20250510T160000
DTSTAMP:20260422T151341
CREATED:20250325T223132Z
LAST-MODIFIED:20250326T111653Z
UID:57267-1746871200-1746892800@www.web-conzept-mn.de
SUMMARY:Fahrradexkursion durch die Aue der Weißen Elster
DESCRIPTION:Samstag\, den 10.05.\, um 10.00 Uhr\nFahrradexkursion durch die Aue der Weißen Elster\nzwischen Gera und Zeitz\nTreffpunkt: Bahnhof Gera\, Ausgang Bahnhofsstraße\nEnde: Bahnhof Zeitz\, Ausgang Baenschstraße\nDauer: ca. 6 Stunden
URL:https://www.web-conzept-mn.de/event/fahrradexkursion-durch-die-aue-der-weissen-elster-4/
END:VEVENT
BEGIN:VEVENT
DTSTART;TZID=Europe/Helsinki:20250517T100000
DTEND;TZID=Europe/Helsinki:20250517T140000
DTSTAMP:20260422T151341
CREATED:20250326T000335Z
LAST-MODIFIED:20250515T184635Z
UID:57339-1747476000-1747490400@www.web-conzept-mn.de
SUMMARY:Erfassungsexkursion auf der Peißnitz
DESCRIPTION:Samstag\, den 17.05.\, um 10.00 Uhr\nErfassungsexkursion auf der Peißnitz\nim Rahmen der Freiwilligentage 2025 in Halle (Saale)\nBitte bringen Sie ihre eigene Lupe bzw. ihr eigenes Fernglas mit. Leider können wir Ihnen keine Lupen bzw. Ferngläser zur Verfügung stel­len. Das betrifft auch Klemmbretter.\nBesonders wichtig: ein vollgeladenes Smartphone.\nMit Hilfe von einigen Bestimmungs-Apps können Sie die Tiere und Pflanzen bestimmen. Bei der Begrüßung zur Erfassungsexkursion werden Sie über die Apps informiert und können diese aus ihren App-Stores herunterladen.\nTreffpunkt: Peißnitzhaus \nDer ursprünglich geplante Arbeitseinsatz findet nicht statt.
URL:https://www.web-conzept-mn.de/event/arbeitseinsatz-auf-der-peissnitz-5/
LOCATION:Peißnitz\, Halle (Saale)
END:VEVENT
BEGIN:VEVENT
DTSTART;TZID=Europe/Helsinki:20250524T100000
DTEND;TZID=Europe/Helsinki:20250524T140000
DTSTAMP:20260422T151341
CREATED:20250326T092503Z
LAST-MODIFIED:20250326T092503Z
UID:57406-1748080800-1748095200@www.web-conzept-mn.de
SUMMARY:Erfassung der Entomofauna der Fuhneaue Wolfen\, um den Gondelteich
DESCRIPTION:Samstag\, den 24.05.\, um 10.00 UhrErfassung der Entomofauna der Fuhneaue Wolfen\, um den Gondelteich\nBeobachtung der im Gebiet vorkommenden Insekten und Spinnen mit dem Luppen und schriftli­che Erfassung der gesichteten Tiere in Listen\nBitte bringen Sie ihre eigene Lupe mit. Leider können wir Ihnen keine Lupen zur Verfügung stel­len. Das betrifft auch Klemmbretter.\nVoranmeldung bis spätestens 22.00 Uhr am Freitag\, dem 23.05.2024\, unter: 0176 – 568 796 31\nTreffpunkt: Bahnhof WolfenDauer: ca. 4 Stunden
URL:https://www.web-conzept-mn.de/event/erfassung-der-entomofauna-der-fuhneaue-wolfen-um-den-gondelteich-2/
END:VEVENT
BEGIN:VEVENT
DTSTART;TZID=Europe/Helsinki:20250526T190000
DTEND;TZID=Europe/Helsinki:20250526T213000
DTSTAMP:20260422T151341
CREATED:20250326T002319Z
LAST-MODIFIED:20250326T002319Z
UID:57361-1748286000-1748295000@www.web-conzept-mn.de
SUMMARY:Versammlung der Initiative “Pro Baum”
DESCRIPTION:Montag\, den 26.05.\, um 19.00 Uhr\nVersammlung der Initiative “Pro Baum”\nTreffpunkt: Versammlungsraum Reformhaus\, Große Klausstraße 11
URL:https://www.web-conzept-mn.de/event/versammlung-der-initiative-pro-baum-32/
LOCATION:Refomhaus – Haus der Bewegungen\, Große Klausstraße 11\, Halle (Saale)\, 06108\, Deutschland
END:VEVENT
BEGIN:VEVENT
DTSTART;TZID=Europe/Helsinki:20250528T170000
DTEND;TZID=Europe/Helsinki:20250528T200000
DTSTAMP:20260422T151341
CREATED:20250325T223345Z
LAST-MODIFIED:20250325T223414Z
UID:57269-1748451600-1748462400@www.web-conzept-mn.de
SUMMARY:Exkursion durch das Naturschutzgebiet „Nordspitze Peißnitz“
DESCRIPTION:Mittwoch\, den 28.05.\, um 17.00 Uhr\n42. Jahrestag der Gründung der Patenschaftsgruppe Peißnitz\ndes Ar­beitskreises Umweltschutz Halle in der Gesellschaft für Natur und Um­welt im Kulturbund der DDR am 29.05.1983\nExkursion durch das Naturschutzgebiet „Nordspitze Peißnitz“\nTreffpunkt: Peißnitzhaus\, Halle (Saale)\nDauer: ca. 3 Stunden
URL:https://www.web-conzept-mn.de/event/exkursion-durch-das-naturschutzgebiet-nordspitze-peissnitz/
LOCATION:Peißnitz\, Halle (Saale)
END:VEVENT
BEGIN:VEVENT
DTSTART;TZID=Europe/Helsinki:20250531T100000
DTEND;TZID=Europe/Helsinki:20250531T140000
DTSTAMP:20260422T151341
CREATED:20250326T092816Z
LAST-MODIFIED:20250326T092816Z
UID:57408-1748685600-1748700000@www.web-conzept-mn.de
SUMMARY:Erfassung der Avifauna des Erlen-Eschenwalds "Reudener Busch"
DESCRIPTION:Samstag\, den 31.05.\, um 10.00 UhrErfassung der Avifauna des Erlen-Eschenwalds „Reudener Busch“Beobachtung der im Gebiet vorkommenden Vogelarten mit dem Fernglas und schriftli­che Erfassung der gesichteten Tiere in Listen\nHinweis: Bitte bringen Sie ihr eigenes Fernglas mit. Leider können wir Ihnen keine Ferngläser zur Verfügung stel­len. Das betrifft auch Klemmbretter.\nVoranmeldung bis spätestens 22.00 Uhr am Freitag\, dem 30.05.2025\, unter: 0176 – 568 796 31Treffpunkt: Bahnhof WolfenDauer: ca. 4 Stunden
URL:https://www.web-conzept-mn.de/event/erfassung-der-avifauna-des-erlen-eschenwalds-reudener-busch-9/
END:VEVENT
BEGIN:VEVENT
DTSTART;TZID=Europe/Helsinki:20250531T100000
DTEND;TZID=Europe/Helsinki:20250531T150000
DTSTAMP:20260422T151341
CREATED:20250325T223633Z
LAST-MODIFIED:20250325T223633Z
UID:57272-1748685600-1748703600@www.web-conzept-mn.de
SUMMARY:Fahrradexkursion zur Fuhne-Mündung in die Saale in Bernburg
DESCRIPTION:Samstag\, den 31.05.\, um 10.00 Uhr\nFahrradexkursion anlässlich des Tages der Umwelt (05.06.)\nzur Fuhne-Mündung in die Saale in Bernburg\nüber den Ziethebusch\, zur Ziethe und zum Mündungsbereich in die Fuh­ne bei Plömnitz sowie entlang der Fuhne\nTreffpunkt: Bahnhof Köthen\nEnde: Bahnhof Bernburg\nDauer: ca. 5 Stunden
URL:https://www.web-conzept-mn.de/event/fahrradexkursion-zur-fuhne-muendung-in-die-saale-in-bernburg-2/
END:VEVENT
END:VCALENDAR