BEGIN:VCALENDAR
VERSION:2.0
PRODID:-//Arbeitskreis Hallesche Auenwälder zu Halle / Saale e.V. (AHA) - ECPv6.15.18//NONSGML v1.0//EN
CALSCALE:GREGORIAN
METHOD:PUBLISH
X-WR-CALNAME:Arbeitskreis Hallesche Auenwälder zu Halle / Saale e.V. (AHA)
X-ORIGINAL-URL:https://www.web-conzept-mn.de
X-WR-CALDESC:Veranstaltungen für Arbeitskreis Hallesche Auenwälder zu Halle / Saale e.V. (AHA)
REFRESH-INTERVAL;VALUE=DURATION:PT1H
X-Robots-Tag:noindex
X-PUBLISHED-TTL:PT1H
BEGIN:VTIMEZONE
TZID:Europe/Helsinki
BEGIN:DAYLIGHT
TZOFFSETFROM:+0200
TZOFFSETTO:+0300
TZNAME:EEST
DTSTART:20230326T010000
END:DAYLIGHT
BEGIN:STANDARD
TZOFFSETFROM:+0300
TZOFFSETTO:+0200
TZNAME:EET
DTSTART:20231029T010000
END:STANDARD
BEGIN:DAYLIGHT
TZOFFSETFROM:+0200
TZOFFSETTO:+0300
TZNAME:EEST
DTSTART:20240331T010000
END:DAYLIGHT
BEGIN:STANDARD
TZOFFSETFROM:+0300
TZOFFSETTO:+0200
TZNAME:EET
DTSTART:20241027T010000
END:STANDARD
BEGIN:DAYLIGHT
TZOFFSETFROM:+0200
TZOFFSETTO:+0300
TZNAME:EEST
DTSTART:20250330T010000
END:DAYLIGHT
BEGIN:STANDARD
TZOFFSETFROM:+0300
TZOFFSETTO:+0200
TZNAME:EET
DTSTART:20251026T010000
END:STANDARD
END:VTIMEZONE
BEGIN:VEVENT
DTSTART;TZID=Europe/Helsinki:20241101T080000
DTEND;TZID=Europe/Helsinki:20241101T170000
DTSTAMP:20260422T054633
CREATED:20240806T105636Z
LAST-MODIFIED:20240806T105636Z
UID:52147-1730448000-1730480400@www.web-conzept-mn.de
SUMMARY:Öffnungszeit der Umweltbibliothek Merseburg
DESCRIPTION:Freitag\, den 01.11.\, ab 15.00 bis 18.00 Uhr\nÖffnungszeit der Umweltbibliothek Merseburg\nTreffpunkt: Umweltbibliothek Merseburg\, Weiße Mauer 33\, Merseburg
URL:https://www.web-conzept-mn.de/event/oeffnungszeit-der-umweltbibliothek-merseburg-83/
LOCATION:Umweltbibliothek Merseburg\, Weiße Mauer 33\, Merseburg\, 06217\, Deutschland
END:VEVENT
BEGIN:VEVENT
DTSTART;TZID=Europe/Helsinki:20241102T100000
DTEND;TZID=Europe/Helsinki:20241102T140000
DTSTAMP:20260422T054633
CREATED:20240728T103440Z
LAST-MODIFIED:20240728T103440Z
UID:51851-1730541600-1730556000@www.web-conzept-mn.de
SUMMARY:Fahrradrundexkursion zur Helme und zum Helmestausee bei Ber­ga-Kelbra
DESCRIPTION:Samstag\, den 02.11.\, um 10.00 Uhr\nFahrradrundexkursion zur Helme und zum Helmestausee bei Ber­ga-Kelbra\nTreffpunkt: Bahnhof Berga-Kelbra\nDauer: ca. 4 Stunden
URL:https://www.web-conzept-mn.de/event/fahrradrundexkursion-zur-helme-und-zum-helmestausee-bei-berga-kelbra-3/
END:VEVENT
BEGIN:VEVENT
DTSTART;TZID=Europe/Helsinki:20241104T190000
DTEND;TZID=Europe/Helsinki:20241104T213000
DTSTAMP:20260422T054633
CREATED:20240728T095728Z
LAST-MODIFIED:20240728T095728Z
UID:51815-1730746800-1730755800@www.web-conzept-mn.de
SUMMARY:Mitgliederversammlung
DESCRIPTION:Montag\, den 04.11.\, um 19.00 Uhr\nMitgliederversammlung\nTreffpunkt: Versammlungsraum Reformhaus\, Große Klausstraße 11
URL:https://www.web-conzept-mn.de/event/mitgliederversammlung-24/
LOCATION:Refomhaus – Haus der Bewegungen\, Große Klausstraße 11\, Halle (Saale)\, 06108\, Deutschland
END:VEVENT
BEGIN:VEVENT
DTSTART;TZID=Europe/Helsinki:20241109T100000
DTEND;TZID=Europe/Helsinki:20241109T133000
DTSTAMP:20260422T054633
CREATED:20240728T105101Z
LAST-MODIFIED:20240728T105101Z
UID:51853-1731146400-1731159000@www.web-conzept-mn.de
SUMMARY:Herbstexkursion in die Pleiße-Elster-Aue in der Stadt Leipzig
DESCRIPTION:Samstag\, den 09.11.\, um 10.00 Uhr\nHerbstexkursion in die Pleiße-Elster-Aue in der Stadt Leipzig\nTreffpunkt: Haltestelle „Koburger Brücke“\n(Bus 70: Richtung „Markleeberg-West“)\nEndpunkt: Hauptbahnhof Leipzig\nDauer: ca. 3\,5 Stunden
URL:https://www.web-conzept-mn.de/event/herbstexkursion-in-die-pleisse-elster-aue-in-der-stadt-leipzig-3/
END:VEVENT
BEGIN:VEVENT
DTSTART;TZID=Europe/Helsinki:20241116T100000
DTEND;TZID=Europe/Helsinki:20241116T140000
DTSTAMP:20260422T054633
CREATED:20240728T112530Z
LAST-MODIFIED:20240728T112530Z
UID:51876-1731751200-1731765600@www.web-conzept-mn.de
SUMMARY:Erfassung der Avifauna des Erlen-Eschenwalds "Reudener Busch"
DESCRIPTION:Samstag\, den 16.11.\, um 10.00 UhrErfassung der Avifauna des Erlen-Eschenwalds „Reudener Busch“Beobachtung der im Gebiet vorkommenden Vogelarten mit dem Fernglas und schriftli­che Erfassung der gesichteten Tiere in Listen\nHinweis: Bitte bringen Sie ihr eigenes Fernglas mit. Leider können wir Ihnen keine Ferngläser zur Verfügung stel­len. Das betrifft auch Klemmbretter.\nVoranmeldung bis spätestens 22.00 Uhr am Freitag\, dem 15.11.2024\, unter: 0176 – 568 796 31Treffpunkt: Bahnhof WolfenDauer: ca. 4 Stunden
URL:https://www.web-conzept-mn.de/event/erfassung-der-avifauna-des-erlen-eschenwalds-reudener-busch-7/
END:VEVENT
BEGIN:VEVENT
DTSTART;TZID=Europe/Helsinki:20241116T100000
DTEND;TZID=Europe/Helsinki:20241116T140000
DTSTAMP:20260422T054633
CREATED:20240728T120555Z
LAST-MODIFIED:20240728T120555Z
UID:51901-1731751200-1731765600@www.web-conzept-mn.de
SUMMARY:Arbeitseinsatz auf der Streuobstwiese „Am Landhaus“
DESCRIPTION:Samstag\, den 16.11.\, um 10.00 UhrArbeitseinsatz auf der Streuobstwiese „Am Landhaus“Treffpunkt: Pension „Landhaus“ Dessau
URL:https://www.web-conzept-mn.de/event/arbeitseinsatz-auf-der-streuobstwiese-am-landhaus-15/
LOCATION:Streuobstwiese Landhaus Dessau\, Landhaus 1\, Dessau-Roßlau\, 06844\, Deutschland
END:VEVENT
BEGIN:VEVENT
DTSTART;TZID=Europe/Helsinki:20241116T100000
DTEND;TZID=Europe/Helsinki:20241116T140000
DTSTAMP:20260422T054633
CREATED:20240728T120911Z
LAST-MODIFIED:20240728T120911Z
UID:51905-1731751200-1731765600@www.web-conzept-mn.de
SUMMARY:Arbeitseinsatz auf dem Forstwerder
DESCRIPTION:Samstag\, den 16.11.\, um 10.00 Uhr\nArbeitseinsatz auf dem Forstwerder\nTreffpunkt: Bogenbrücke zum Forstwerder\, Pfarrstraße\, Halle-Trotha
URL:https://www.web-conzept-mn.de/event/arbeitseinsatz-auf-dem-forstwerder-7/
LOCATION:Forstwerder\, Halle (Saale)
END:VEVENT
BEGIN:VEVENT
DTSTART;TZID=Europe/Helsinki:20241122T150000
DTEND;TZID=Europe/Helsinki:20241122T180000
DTSTAMP:20260422T054633
CREATED:20240806T113650Z
LAST-MODIFIED:20240806T113650Z
UID:52153-1732287600-1732298400@www.web-conzept-mn.de
SUMMARY:Öffnungszeit der Umweltbibliothek Merseburg
DESCRIPTION:Freitag\, den 22.11.\, ab 15.00 bis 18.00 Uhr\nÖffnungszeit der Umweltbibliothek Merseburg\nTreffpunkt: Umweltbibliothek Merseburg\, Weiße Mauer 33\, Merseburg
URL:https://www.web-conzept-mn.de/event/oeffnungszeit-der-umweltbibliothek-merseburg-86/
LOCATION:Umweltbibliothek Merseburg\, Weiße Mauer 33\, Merseburg\, 06217\, Deutschland
END:VEVENT
BEGIN:VEVENT
DTSTART;TZID=Europe/Helsinki:20241123T100000
DTEND;TZID=Europe/Helsinki:20241123T140000
DTSTAMP:20260422T054633
CREATED:20240728T113531Z
LAST-MODIFIED:20240728T113531Z
UID:51884-1732356000-1732370400@www.web-conzept-mn.de
SUMMARY:Erfassung der Avifauna des Salegaster Forsts
DESCRIPTION:Samstag\, den 23.11.\, um 10.00 UhrErfassung der Avifauna des Salegaster Forsts\nBeobachtung der im Gebiet vorkommenden Vogelarten mit dem Fernglas und schriftli­che Erfassung der gesichteten Tiere in Listen\nHinweis: Bitte bringen Sie ihr eigenes Fernglas mit. Leider können wir Ihnen keine Ferngläser zur Verfügung stel­len. Das betrifft auch Klemmbretter.\nVoranmeldung bis spätestens 22.00 Uhr am Freitag\, dem 22.11.2024\, unter: 0176 – 568 796 31\nTreffpunkt: Bahnhof WolfenDauer: ca. 4 Stunden
URL:https://www.web-conzept-mn.de/event/erfassung-der-avifauna-des-salegaster-forsts-6/
END:VEVENT
BEGIN:VEVENT
DTSTART;TZID=Europe/Helsinki:20241123T100000
DTEND;TZID=Europe/Helsinki:20241123T150000
DTSTAMP:20260422T054633
CREATED:20240728T105333Z
LAST-MODIFIED:20240728T105333Z
UID:51856-1732356000-1732374000@www.web-conzept-mn.de
SUMMARY:Herbstrundexkursion durch die Saaleauenlandschaft
DESCRIPTION:Samstag\, den 23.11.\, um 10.00 Uhr\nHerbstrundexkursion durch die Saaleauenlandschaft\nzwischen Merseburg (Gotthardteich\, Rischmühleninsel)\, entlang der Al­ten Saale (Wehr-Ruine Werder) und Leuna (Waldbad) mit Abschluss und anschließende Auswertung in der Umweltbibliothek Merseburg „Jürgen Bernt-Bärtl“\, inklusive Bestimmungen mit Hilfe Fachliteratur und Mikro­skop\nTreffpunkt: Bahnhof Merseburg\nDauer: ca. 5 Stunden
URL:https://www.web-conzept-mn.de/event/herbstrundexkursion-durch-die-saaleauenlandschaft-3/
END:VEVENT
BEGIN:VEVENT
DTSTART;TZID=Europe/Helsinki:20241125T190000
DTEND;TZID=Europe/Helsinki:20241125T213000
DTSTAMP:20260422T054633
CREATED:20240728T100459Z
LAST-MODIFIED:20240728T100459Z
UID:51827-1732561200-1732570200@www.web-conzept-mn.de
SUMMARY:Versammlung der Initiative “Pro Baum”
DESCRIPTION:Montag\, den 25.11.\, um 19.00 Uhr\nVersammlung der Initiative “Pro Baum”\nTreffpunkt: Versammlungsraum Reformhaus\, Große Klausstraße 11
URL:https://www.web-conzept-mn.de/event/versammlung-der-initiative-pro-baum-26/
LOCATION:Refomhaus – Haus der Bewegungen\, Große Klausstraße 11\, Halle (Saale)\, 06108\, Deutschland
END:VEVENT
BEGIN:VEVENT
DTSTART;TZID=Europe/Helsinki:20241129T150000
DTEND;TZID=Europe/Helsinki:20241129T180000
DTSTAMP:20260422T054633
CREATED:20240806T113801Z
LAST-MODIFIED:20240806T113801Z
UID:52155-1732892400-1732903200@www.web-conzept-mn.de
SUMMARY:Öffnungszeit der Umweltbibliothek Merseburg
DESCRIPTION:Freitag\, den 29.11.\, ab 15.00 bis 18.00 Uhr\nÖffnungszeit der Umweltbibliothek Merseburg\nTreffpunkt: Umweltbibliothek Merseburg\, Weiße Mauer 33\, Merseburg
URL:https://www.web-conzept-mn.de/event/oeffnungszeit-der-umweltbibliothek-merseburg-87/
LOCATION:Umweltbibliothek Merseburg\, Weiße Mauer 33\, Merseburg\, 06217\, Deutschland
END:VEVENT
BEGIN:VEVENT
DTSTART;TZID=Europe/Helsinki:20241130T100000
DTEND;TZID=Europe/Helsinki:20241130T133000
DTSTAMP:20260422T054633
CREATED:20240728T105643Z
LAST-MODIFIED:20240728T105643Z
UID:51858-1732960800-1732973400@www.web-conzept-mn.de
SUMMARY:Herbstexkursion zur Burgaue in der Stadt Leipzig
DESCRIPTION:Samstag\, den 30.11.\, um 10.00 Uhr\nHerbstexkursion zur Burgaue in der Stadt Leipzig\nTreffpunkt: Haus „Auensee“\, Leipzig-Wahren\nDauer: ca. 3\,5 Stunden
URL:https://www.web-conzept-mn.de/event/herbstexkursion-zur-burgaue-in-der-stadt-leipzig-3/
LOCATION:Burgaue Leipzig\, Gustav-Esche-Straße 6\, Leipzig\, Sachsen\, 04159\, Deutschland
END:VEVENT
BEGIN:VEVENT
DTSTART;TZID=Europe/Helsinki:20241130T100000
DTEND;TZID=Europe/Helsinki:20241130T140000
DTSTAMP:20260422T054633
CREATED:20240728T113131Z
LAST-MODIFIED:20240728T113131Z
UID:51880-1732960800-1732975200@www.web-conzept-mn.de
SUMMARY:Erfassung der Avifauna des Auenrestwald "Wolfener Busch"
DESCRIPTION:Samstag\, den 30.11.\, um 10.00 UhrErfassung der Avifauna des Auenrestwald „Wolfener Busch“\nBeobachtung der im Gebiet vorkommenden Vogelarten mit dem Fernglas und schriftli­che Erfassung der gesichteten Tiere in Listen\nBitte bringen Sie ihr eigenes Fernglas mit. Leider können wir Ihnen keine Ferngläser zur Verfügung stel­len. Das betrifft auch Klemmbretter.\nVoranmeldung bis spätestens 22.00 Uhr am Freitag\, dem 29.11.2024\, unter: 0176 – 568 796 31\nTreffpunkt: Bahnhof WolfenDauer: ca. 4 Stunden
URL:https://www.web-conzept-mn.de/event/erfassung-der-avifauna-des-auenrestwald-wolfener-busch-6/
END:VEVENT
END:VCALENDAR