BEGIN:VCALENDAR
VERSION:2.0
PRODID:-//Arbeitskreis Hallesche Auenwälder zu Halle / Saale e.V. (AHA) - ECPv6.15.18//NONSGML v1.0//EN
CALSCALE:GREGORIAN
METHOD:PUBLISH
X-ORIGINAL-URL:https://www.web-conzept-mn.de
X-WR-CALDESC:Veranstaltungen für Arbeitskreis Hallesche Auenwälder zu Halle / Saale e.V. (AHA)
REFRESH-INTERVAL;VALUE=DURATION:PT1H
X-Robots-Tag:noindex
X-PUBLISHED-TTL:PT1H
BEGIN:VTIMEZONE
TZID:Europe/Helsinki
BEGIN:DAYLIGHT
TZOFFSETFROM:+0200
TZOFFSETTO:+0300
TZNAME:EEST
DTSTART:20230326T010000
END:DAYLIGHT
BEGIN:STANDARD
TZOFFSETFROM:+0300
TZOFFSETTO:+0200
TZNAME:EET
DTSTART:20231029T010000
END:STANDARD
BEGIN:DAYLIGHT
TZOFFSETFROM:+0200
TZOFFSETTO:+0300
TZNAME:EEST
DTSTART:20240331T010000
END:DAYLIGHT
BEGIN:STANDARD
TZOFFSETFROM:+0300
TZOFFSETTO:+0200
TZNAME:EET
DTSTART:20241027T010000
END:STANDARD
BEGIN:DAYLIGHT
TZOFFSETFROM:+0200
TZOFFSETTO:+0300
TZNAME:EEST
DTSTART:20250330T010000
END:DAYLIGHT
BEGIN:STANDARD
TZOFFSETFROM:+0300
TZOFFSETTO:+0200
TZNAME:EET
DTSTART:20251026T010000
END:STANDARD
END:VTIMEZONE
BEGIN:VEVENT
DTSTART;TZID=Europe/Helsinki:20240803T100000
DTEND;TZID=Europe/Helsinki:20240803T150000
DTSTAMP:20260422T005533
CREATED:20240728T101046Z
LAST-MODIFIED:20240728T101046Z
UID:51831-1722679200-1722697200@www.web-conzept-mn.de
SUMMARY:Fahrradexkursion entlang bzw. durch die Aue der Zorge
DESCRIPTION:Samstag\, den 03.08.\, um 10.00 Uhr\nFahrradexkursion entlang bzw. durch die Aue der Zorge\nab der Stadt Nordhausen sowie entlang der Helme bis Bahnhof Ber­ga-Kelbra mit Aufenthalt am Mündungsbereich der Thyra\nTreffpunkt: Bahnhof Nordhausen\nDauer: ca. 5 Stunden
URL:https://www.web-conzept-mn.de/event/fahrradexkursion-entlang-bzw-durch-die-aue-der-zorge/
END:VEVENT
BEGIN:VEVENT
DTSTART;TZID=Europe/Helsinki:20240805T190000
DTEND;TZID=Europe/Helsinki:20240805T213000
DTSTAMP:20260422T005533
CREATED:20240728T094805Z
LAST-MODIFIED:20240728T094805Z
UID:51802-1722884400-1722893400@www.web-conzept-mn.de
SUMMARY:Mitgliederversammlung
DESCRIPTION:Montag\, den 05.08.\, um 19.00 Uhr\nMitgliederversammlung\nTreffpunkt: Versammlungsraum Reformhaus\, Große Klausstraße 11
URL:https://www.web-conzept-mn.de/event/mitgliederversammlung-21/
LOCATION:Refomhaus – Haus der Bewegungen\, Große Klausstraße 11\, Halle (Saale)\, 06108\, Deutschland
END:VEVENT
BEGIN:VEVENT
DTSTART;TZID=Europe/Helsinki:20240809T150000
DTEND;TZID=Europe/Helsinki:20240809T180000
DTSTAMP:20260422T005533
CREATED:20240806T095945Z
LAST-MODIFIED:20240806T095945Z
UID:52127-1723215600-1723226400@www.web-conzept-mn.de
SUMMARY:Öffnungszeit der Umweltbibliothek Merseburg
DESCRIPTION:Freitag\, den 09.08.\, ab 15.00 bis 18.00 Uhr\nÖffnungszeit der Umweltbibliothek Merseburg\nTreffpunkt: Umweltbibliothek Merseburg\, Weiße Mauer 33\, Merseburg
URL:https://www.web-conzept-mn.de/event/oeffnungszeit-der-umweltbibliothek-merseburg-74/
LOCATION:Umweltbibliothek Merseburg\, Weiße Mauer 33\, Merseburg\, 06217\, Deutschland
END:VEVENT
BEGIN:VEVENT
DTSTART;TZID=Europe/Helsinki:20240810T100000
DTEND;TZID=Europe/Helsinki:20240810T180000
DTSTAMP:20260422T005533
CREATED:20240728T101319Z
LAST-MODIFIED:20240728T101319Z
UID:51833-1723284000-1723312800@www.web-conzept-mn.de
SUMMARY:Fahrradrundexkursion entlang der Elbe
DESCRIPTION:Samstag\, den 10.08.\, um 10.00 Uhr\nFahrradrundexkursion entlang der Elbe\nzwischen der Großen Kreisstadt Torgau und der Stadt Mühlberg (Elbe)\nTreffpunkt: Bahnhof Torgau\nDauer: ca. 8 Stunden
URL:https://www.web-conzept-mn.de/event/fahrradrundexkursion-entlang-der-elbe-6/
END:VEVENT
BEGIN:VEVENT
DTSTART;TZID=Europe/Helsinki:20240816T150000
DTEND;TZID=Europe/Helsinki:20240816T180000
DTSTAMP:20260422T005533
CREATED:20240806T095442Z
LAST-MODIFIED:20240806T095442Z
UID:52120-1723820400-1723831200@www.web-conzept-mn.de
SUMMARY:Öffnungszeit der Umweltbibliothek Merseburg
DESCRIPTION:Freitag\, den 16.08.\, ab 15.00 bis 18.00 Uhr\nÖffnungszeit der Umweltbibliothek Merseburg\nTreffpunkt: Umweltbibliothek Merseburg\, Weiße Mauer 33\, Merseburg
URL:https://www.web-conzept-mn.de/event/oeffnungszeit-der-umweltbibliothek-merseburg-71/
LOCATION:Umweltbibliothek Merseburg\, Weiße Mauer 33\, Merseburg\, 06217\, Deutschland
END:VEVENT
BEGIN:VEVENT
DTSTART;TZID=Europe/Helsinki:20240817T100000
DTEND;TZID=Europe/Helsinki:20240817T180000
DTSTAMP:20260422T005533
CREATED:20240728T101525Z
LAST-MODIFIED:20240728T101525Z
UID:51835-1723888800-1723917600@www.web-conzept-mn.de
SUMMARY:Fahrradexkursion zu den Sülldorfer Salzquellen
DESCRIPTION:Samstag\, den 17.08.\, um 10.00 Uhr\nFahrradexkursion zu den Sülldorfer Salzquellen\nRoute: Stationen Frohser Berg (Flora/Fauna)\, Sohlen entlang der Sülze über Dodendorf nach Sülldorf\, Sülzetalradweg weiter über Lan­genweddingen/Osterweddingen nach Beyendorf\, Station in den Sohlener Bergen mit Endpunkt Einmündung der Sülze in die Elbe\nTreffpunkt: S-Bahnstation Schönebeck-Frohse\nDauer: ca. 8 Stunden
URL:https://www.web-conzept-mn.de/event/fahrradexkursion-zu-den-suelldorfer-salzquellen-3/
END:VEVENT
BEGIN:VEVENT
DTSTART;TZID=Europe/Helsinki:20240823T150000
DTEND;TZID=Europe/Helsinki:20240823T180000
DTSTAMP:20260422T005533
CREATED:20240806T095550Z
LAST-MODIFIED:20240806T095550Z
UID:52122-1724425200-1724436000@www.web-conzept-mn.de
SUMMARY:Öffnungszeit der Umweltbibliothek Merseburg
DESCRIPTION:Freitag\, den 23.08.\, ab 15.00 bis 18.00 Uhr\nÖffnungszeit der Umweltbibliothek Merseburg\nTreffpunkt: Umweltbibliothek Merseburg\, Weiße Mauer 33\, Merseburg
URL:https://www.web-conzept-mn.de/event/oeffnungszeit-der-umweltbibliothek-merseburg-72/
LOCATION:Umweltbibliothek Merseburg\, Weiße Mauer 33\, Merseburg\, 06217\, Deutschland
END:VEVENT
BEGIN:VEVENT
DTSTART;TZID=Europe/Helsinki:20240824T100000
DTEND;TZID=Europe/Helsinki:20240824T140000
DTSTAMP:20260422T005533
CREATED:20240728T115040Z
LAST-MODIFIED:20240822T231722Z
UID:51891-1724493600-1724508000@www.web-conzept-mn.de
SUMMARY:Erfassung der Entomofauna des Salegaster Forsts
DESCRIPTION:Samstag\, den 24.08.\, um 10.00 UhrErfassung der Entomofauna des Salegaster Forsts\nBeobachtung der im Gebiet vorkommenden Insekten und Spinnen mit dem Luppen und schriftli­che Erfassung der gesichteten Tiere in Listen\nBitte bringen Sie ihre eigene Lupe mit. Leider können wir Ihnen keine Lupen zur Verfügung stel­len. Das betrifft auch Klemmbretter.\nVoranmeldung bis spätestens 22.00 Uhr am Freitag\, dem 23.08.2024\, unter: 0176 – 568 796 31\nTreffpunkt: Bahnhof WolfenDauer: ca. 4 Stunden
URL:https://www.web-conzept-mn.de/event/erfassung-der-entomofauna-des-salegaster-forsts-5/
LOCATION:Salegaster Forst\, Bitterfeld-Wolfen
END:VEVENT
BEGIN:VEVENT
DTSTART;TZID=Europe/Helsinki:20240824T100000
DTEND;TZID=Europe/Helsinki:20240824T140000
DTSTAMP:20260422T005533
CREATED:20240728T120014Z
LAST-MODIFIED:20240728T120014Z
UID:51895-1724493600-1724508000@www.web-conzept-mn.de
SUMMARY:Arbeitseinsatz auf der Streuobstwiese „Am Landhaus“
DESCRIPTION:Samstag\, den 24.08.\, um 10.00 UhrArbeitseinsatz auf der Streuobstwiese „Am Landhaus“Treffpunkt: Pension „Landhaus“ Dessau
URL:https://www.web-conzept-mn.de/event/arbeitseinsatz-auf-der-streuobstwiese-am-landhaus-12/
LOCATION:Streuobstwiese Landhaus Dessau\, Landhaus 1\, Dessau-Roßlau\, 06844\, Deutschland
END:VEVENT
BEGIN:VEVENT
DTSTART;TZID=Europe/Helsinki:20240826T190000
DTEND;TZID=Europe/Helsinki:20240826T213000
DTSTAMP:20260422T005533
CREATED:20240728T100111Z
LAST-MODIFIED:20240728T100111Z
UID:51820-1724698800-1724707800@www.web-conzept-mn.de
SUMMARY:Versammlung der Initiative “Pro Baum”
DESCRIPTION:Montag\, den 26.08.\, um 19.00 Uhr\nVersammlung der Initiative “Pro Baum”\nTreffpunkt: Versammlungsraum Reformhaus\, Große Klausstraße 11
URL:https://www.web-conzept-mn.de/event/versammlung-der-initiative-pro-baum-23/
LOCATION:Refomhaus – Haus der Bewegungen\, Große Klausstraße 11\, Halle (Saale)\, 06108\, Deutschland
END:VEVENT
BEGIN:VEVENT
DTSTART;TZID=Europe/Helsinki:20240830T150000
DTEND;TZID=Europe/Helsinki:20240830T180000
DTSTAMP:20260422T005533
CREATED:20240806T095712Z
LAST-MODIFIED:20240806T095712Z
UID:52124-1725030000-1725040800@www.web-conzept-mn.de
SUMMARY:Öffnungszeit der Umweltbibliothek Merseburg
DESCRIPTION:Freitag\, den 30.08.\, ab 15.00 bis 18.00 Uhr\nÖffnungszeit der Umweltbibliothek Merseburg\nTreffpunkt: Umweltbibliothek Merseburg\, Weiße Mauer 33\, Merseburg
URL:https://www.web-conzept-mn.de/event/oeffnungszeit-der-umweltbibliothek-merseburg-73/
LOCATION:Umweltbibliothek Merseburg\, Weiße Mauer 33\, Merseburg\, 06217\, Deutschland
END:VEVENT
BEGIN:VEVENT
DTSTART;TZID=Europe/Helsinki:20240831T100000
DTEND;TZID=Europe/Helsinki:20240831T170000
DTSTAMP:20260422T005533
CREATED:20240728T101725Z
LAST-MODIFIED:20240806T095028Z
UID:51837-1725098400-1725123600@www.web-conzept-mn.de
SUMMARY:Fahrradexkursion durch die Dübener Heide und Muldeaue
DESCRIPTION:Samstag\, den 31.08.\, um 10.00 Uhr\nFahrradexkursion durch die Dübener Heide und Muldeaue\nzwischen Radis und Eilenburg\nTreffpunkt: Bahnhof Radis\nDauer: ca. 7 Stunden
URL:https://www.web-conzept-mn.de/event/fahrradexkursion-durch-die-duebener-aue-und-muldeaue-3/
END:VEVENT
END:VCALENDAR