BEGIN:VCALENDAR
VERSION:2.0
PRODID:-//Arbeitskreis Hallesche Auenwälder zu Halle / Saale e.V. (AHA) - ECPv6.15.18//NONSGML v1.0//EN
CALSCALE:GREGORIAN
METHOD:PUBLISH
X-ORIGINAL-URL:https://www.web-conzept-mn.de
X-WR-CALDESC:Veranstaltungen für Arbeitskreis Hallesche Auenwälder zu Halle / Saale e.V. (AHA)
REFRESH-INTERVAL;VALUE=DURATION:PT1H
X-Robots-Tag:noindex
X-PUBLISHED-TTL:PT1H
BEGIN:VTIMEZONE
TZID:Europe/Helsinki
BEGIN:DAYLIGHT
TZOFFSETFROM:+0200
TZOFFSETTO:+0300
TZNAME:EEST
DTSTART:20230326T010000
END:DAYLIGHT
BEGIN:STANDARD
TZOFFSETFROM:+0300
TZOFFSETTO:+0200
TZNAME:EET
DTSTART:20231029T010000
END:STANDARD
BEGIN:DAYLIGHT
TZOFFSETFROM:+0200
TZOFFSETTO:+0300
TZNAME:EEST
DTSTART:20240331T010000
END:DAYLIGHT
BEGIN:STANDARD
TZOFFSETFROM:+0300
TZOFFSETTO:+0200
TZNAME:EET
DTSTART:20241027T010000
END:STANDARD
BEGIN:DAYLIGHT
TZOFFSETFROM:+0200
TZOFFSETTO:+0300
TZNAME:EEST
DTSTART:20250330T010000
END:DAYLIGHT
BEGIN:STANDARD
TZOFFSETFROM:+0300
TZOFFSETTO:+0200
TZNAME:EET
DTSTART:20251026T010000
END:STANDARD
END:VTIMEZONE
BEGIN:VEVENT
DTSTART;TZID=Europe/Helsinki:20240705T150000
DTEND;TZID=Europe/Helsinki:20240705T180000
DTSTAMP:20260421T231724
CREATED:20240411T184500Z
LAST-MODIFIED:20240411T184500Z
UID:49111-1720191600-1720202400@www.web-conzept-mn.de
SUMMARY:Öffnungszeit der Umweltbibliothek Merseburg
DESCRIPTION:Freitag\, den 05.07.\, ab 15.00 bis 18.00 Uhr\nÖffnungszeit der Umweltbibliothek Merseburg\nTreffpunkt: Umweltbibliothek Merseburg\, Weiße Mauer 33\, Merseburg
URL:https://www.web-conzept-mn.de/event/oeffnungszeit-der-umweltbibliothek-merseburg-68/
LOCATION:Umweltbibliothek Merseburg\, Weiße Mauer 33\, Merseburg\, 06217\, Deutschland
END:VEVENT
BEGIN:VEVENT
DTSTART;TZID=Europe/Helsinki:20240706T100000
DTEND;TZID=Europe/Helsinki:20240706T140000
DTSTAMP:20260421T231724
CREATED:20240628T122334Z
LAST-MODIFIED:20240628T122345Z
UID:50684-1720260000-1720274400@www.web-conzept-mn.de
SUMMARY:Erfassung der Entomofauna des Erlen-Eschenwaldes “Reudener Busch”
DESCRIPTION:Samstag\, den 06.07.\, um 10.00 Uhr\nErfassung der Entomofauna des Erlen-Eschenwaldes “Reudener Busch”\nErfassung der Insektenfauna (Tagfalter\, Laufkäfer\, Libellen\, Heuschrecken)\, Beobachtung und schriftliche Erfassung der gesichteten Tiere in Listen\nBitte bringen Sie ihr eigenes Fernglas mit. Leider können wir Ihnen keine Ferngläser zur Verfügung stel­len. Das betrifft auch Klemmbretter.\nTreffpunkt: Bahnhof Wolfen\nDauer: ca. 4 Stunden
URL:https://www.web-conzept-mn.de/event/erfassung-der-entomofauna-des-erlen-eschenwaldes-reudener-busch-3/
LOCATION:Erlen-Eschenwalds „Reudener Busch“\, Bitterfeld-Wolfen
END:VEVENT
BEGIN:VEVENT
DTSTART;TZID=Europe/Helsinki:20240706T100000
DTEND;TZID=Europe/Helsinki:20240706T160000
DTSTAMP:20260421T231724
CREATED:20240411T185117Z
LAST-MODIFIED:20240411T185117Z
UID:49119-1720260000-1720281600@www.web-conzept-mn.de
SUMMARY:Fahrradrundexkursion entlang der Elbe
DESCRIPTION:Samstag\, den 06.07.\, um 10.00 Uhr\nFahrradrundexkursion entlang der Elbe\nzum Mündungsgebiet der Sülze in die Elbe\, zum Kreuzhorst und zum Stadtpark Rotehorn\nTreffpunkt: Ecke Steubenallee/Steinbrücke\, Magdeburg\nDauer: ca. 6 Stunden
URL:https://www.web-conzept-mn.de/event/fahrradrundexkursion-entlang-der-elbe-5/
END:VEVENT
BEGIN:VEVENT
DTSTART;TZID=Europe/Helsinki:20240712T150000
DTEND;TZID=Europe/Helsinki:20240712T180000
DTSTAMP:20260421T231724
CREATED:20240411T184435Z
LAST-MODIFIED:20240411T184435Z
UID:49113-1720796400-1720807200@www.web-conzept-mn.de
SUMMARY:Öffnungszeit der Umweltbibliothek Merseburg
DESCRIPTION:Freitag\, den 12.07.\, ab 15.00 bis 18.00 Uhr\nÖffnungszeit der Umweltbibliothek Merseburg\nTreffpunkt: Umweltbibliothek Merseburg\, Weiße Mauer 33\, Merseburg
URL:https://www.web-conzept-mn.de/event/oeffnungszeit-der-umweltbibliothek-merseburg-67/
LOCATION:Umweltbibliothek Merseburg\, Weiße Mauer 33\, Merseburg\, 06217\, Deutschland
END:VEVENT
BEGIN:VEVENT
DTSTART;TZID=Europe/Helsinki:20240713T100000
DTEND;TZID=Europe/Helsinki:20240713T180000
DTSTAMP:20260421T231724
CREATED:20240411T185413Z
LAST-MODIFIED:20240411T185413Z
UID:49121-1720864800-1720893600@www.web-conzept-mn.de
SUMMARY:Fahrradexkursion entlang der Schwarzen Elster und der Elbe
DESCRIPTION:Samstag\, den 13.07.\, um 10.00 Uhr\nFahrradexkursion entlang der Schwarzen Elster und der Elbe\nzwischen der Stadt Falkenberg (Elster) und der Lutherstadt Wittenberg\nTreffpunkt: Ecke Friedrich-Engels-Straße/Bahnhofstraße\, Falkenberg (Elster)\, unweit des Bahnhofs\nDauer: ca. 8 Stunden
URL:https://www.web-conzept-mn.de/event/fahrradexkursion-entlang-der-schwarzen-elster-und-der-elbe/
END:VEVENT
BEGIN:VEVENT
DTSTART;TZID=Europe/Helsinki:20240719T150000
DTEND;TZID=Europe/Helsinki:20240719T180000
DTSTAMP:20260421T231724
CREATED:20240411T184619Z
LAST-MODIFIED:20240411T184619Z
UID:49115-1721401200-1721412000@www.web-conzept-mn.de
SUMMARY:Öffnungszeit der Umweltbibliothek Merseburg
DESCRIPTION:Freitag\, den 19.07.\, ab 15.00 bis 18.00 Uhr\nÖffnungszeit der Umweltbibliothek Merseburg\nTreffpunkt: Umweltbibliothek Merseburg\, Weiße Mauer 33\, Merseburg
URL:https://www.web-conzept-mn.de/event/oeffnungszeit-der-umweltbibliothek-merseburg-69/
LOCATION:Umweltbibliothek Merseburg\, Weiße Mauer 33\, Merseburg\, 06217\, Deutschland
END:VEVENT
BEGIN:VEVENT
DTSTART;TZID=Europe/Helsinki:20240720T100000
DTEND;TZID=Europe/Helsinki:20240720T140000
DTSTAMP:20260421T231724
CREATED:20240411T185941Z
LAST-MODIFIED:20240411T185941Z
UID:49125-1721469600-1721484000@www.web-conzept-mn.de
SUMMARY:Arbeitseinsatz auf der Streuobstwiese „Am Landhaus“
DESCRIPTION:Samstag\, den 20.07.\, um 10.00 UhrArbeitseinsatz auf der Streuobstwiese „Am Landhaus“Treffpunkt: Pension „Landhaus“ Dessau
URL:https://www.web-conzept-mn.de/event/arbeitseinsatz-auf-der-streuobstwiese-am-landhaus-11/
LOCATION:Streuobstwiese Landhaus Dessau\, Landhaus 1\, Dessau-Roßlau\, 06844\, Deutschland
END:VEVENT
BEGIN:VEVENT
DTSTART;TZID=Europe/Helsinki:20240720T100000
DTEND;TZID=Europe/Helsinki:20240720T140000
DTSTAMP:20260421T231724
CREATED:20240628T122647Z
LAST-MODIFIED:20240628T122647Z
UID:50688-1721469600-1721484000@www.web-conzept-mn.de
SUMMARY:Erfassung der Entomofauna des Auenrestwaldes “Wolfener Busch”
DESCRIPTION:Samstag\, den 20.07.\, um 10.00 Uhr\nErfassung der Entomofauna des Auenrestwaldes “Wolfener Busch”\nErfassung der Insektenfauna (Tagfalter\, Laufkäfer\, Libellen\, Heuschrecken)\, Beobachtung und schriftliche Erfassung der gesichteten Tiere in Listen\nBitte bringen Sie ihr eigenes Fernglas mit. Leider können wir Ihnen keine Ferngläser zur Verfügung stel­len. Das betrifft auch Klemmbretter.\nTreffpunkt: Bahnhof Wolfen\nDauer: ca. 4 Stunden
URL:https://www.web-conzept-mn.de/event/erfassung-der-entomofauna-des-auenrestwaldes-wolfener-busch-5/
END:VEVENT
BEGIN:VEVENT
DTSTART;TZID=Europe/Helsinki:20240726T150000
DTEND;TZID=Europe/Helsinki:20240726T180000
DTSTAMP:20260421T231724
CREATED:20240411T184826Z
LAST-MODIFIED:20240411T184826Z
UID:49117-1722006000-1722016800@www.web-conzept-mn.de
SUMMARY:Öffnungszeit der Umweltbibliothek Merseburg
DESCRIPTION:Freitag\, den 26.07.\, ab 15.00 bis 18.00 Uhr\nÖffnungszeit der Umweltbibliothek Merseburg\nTreffpunkt: Umweltbibliothek Merseburg\, Weiße Mauer 33\, Merseburg
URL:https://www.web-conzept-mn.de/event/oeffnungszeit-der-umweltbibliothek-merseburg-70/
LOCATION:Umweltbibliothek Merseburg\, Weiße Mauer 33\, Merseburg\, 06217\, Deutschland
END:VEVENT
BEGIN:VEVENT
DTSTART;TZID=Europe/Helsinki:20240727T100000
DTEND;TZID=Europe/Helsinki:20240727T160000
DTSTAMP:20260421T231724
CREATED:20240411T190415Z
LAST-MODIFIED:20240411T190415Z
UID:49127-1722074400-1722096000@www.web-conzept-mn.de
SUMMARY:Wanderexkursion zum Stakendorfer Busch und zur Dreieckgrube
DESCRIPTION:Samstag\, den 27.07.\, um 10.00 Uhr\nWanderexkursion zum Stakendorfer Busch und zur Dreieckgrube\nRoute: vom Bahnhof Wolfen zum Südpark\, Überquerung der B 184 und weiter entlang der Grube Johannes bis zur Jahnstraße\, vorbei am Jahnsportplatz und weiter in Richtung Unterführung B183\, nach dem Passieren der Unterführung weiter in Richtung Stakendorfer Busch und Dreieckgrube\, Umrundung der Dreieckgrube weiter zu den im näheren Umfeld befindlichen Grubengewässern\nTreffpunkt: Bahnhof Wolfen\nDauer: ca. 6 Stunden
URL:https://www.web-conzept-mn.de/event/wanderexkursion-zum-stakendorfer-busch-und-zur-dreieckgrube-2/
END:VEVENT
BEGIN:VEVENT
DTSTART;TZID=Europe/Helsinki:20240727T120000
DTEND;TZID=Europe/Helsinki:20240727T200000
DTSTAMP:20260421T231724
CREATED:20240411T185635Z
LAST-MODIFIED:20240411T185635Z
UID:49123-1722081600-1722110400@www.web-conzept-mn.de
SUMMARY:Ganztagesradexkursion entlang der Selke
DESCRIPTION:Samstag\, den 27.07.\, um 12.00 Uhr\nGanztagesradexkursion entlang der Selke\nab Quellgebiet bei Stiege bis zur Parkanlage zum „Oberhof“ der ehemali­gen preußischen Staatsdomäne in Gatersleben\nTreffpunkt: Bahnhof Stiege\nDauer: ca. 8 Stunden
URL:https://www.web-conzept-mn.de/event/ganztagesradexkursion-entlang-der-selke-3/
END:VEVENT
BEGIN:VEVENT
DTSTART;TZID=Europe/Helsinki:20240728T080000
DTEND;TZID=Europe/Helsinki:20240728T170000
DTSTAMP:20260421T231724
CREATED:20240728T120705Z
LAST-MODIFIED:20240728T120705Z
UID:51903-1722153600-1722186000@www.web-conzept-mn.de
SUMMARY:Arbeitseinsatz auf der Streuobstwiese „Am Landhaus“
DESCRIPTION:Samstag\, den 07.12.\, um 10.00 UhrArbeitseinsatz auf der Streuobstwiese „Am Landhaus“Treffpunkt: Pension „Landhaus“ Dessau
URL:https://www.web-conzept-mn.de/event/arbeitseinsatz-auf-der-streuobstwiese-am-landhaus-16/
LOCATION:Streuobstwiese Landhaus Dessau\, Landhaus 1\, Dessau-Roßlau\, 06844\, Deutschland
END:VEVENT
BEGIN:VEVENT
DTSTART;TZID=Europe/Helsinki:20240729T190000
DTEND;TZID=Europe/Helsinki:20240729T220000
DTSTAMP:20260421T231724
CREATED:20240628T121046Z
LAST-MODIFIED:20240628T121046Z
UID:50676-1722279600-1722290400@www.web-conzept-mn.de
SUMMARY:Versammlung der Initiative “Pro Baum”
DESCRIPTION:Montag\, den 29.07.\, um 19.00 Uhr\nVersammlung der Initiative “Pro Baum”\nTreffpunkt: Versammlungsraum Reformhaus\, Große Klausstraße 11
URL:https://www.web-conzept-mn.de/event/versammlung-der-initiative-pro-baum-22/
END:VEVENT
BEGIN:VEVENT
DTSTART;TZID=Europe/Helsinki:20240731T170000
DTEND;TZID=Europe/Helsinki:20240731T203000
DTSTAMP:20260421T231724
CREATED:20240724T114727Z
LAST-MODIFIED:20240724T114727Z
UID:51779-1722445200-1722457800@www.web-conzept-mn.de
SUMMARY:Fahrradrundexkursion zum Thema: „Geplante Brückenneubauten von der Franz-Schubert-Straßen zur Salinehalbinsel und Sandanger“
DESCRIPTION:Mittwoch\, den 31.07.\, um 17.00 Uhr\nFahrradrundexkursion zum Thema: „Geplante Brückenneubauten von der Franz-Schubert-Straßen zur Salinehalbinsel und Sandanger“\nRoute: Steinmühle\, entlang des Mühlgrabens\, Franz-Schubert-Straße\, Robert-Franz-Ring\, von der Mansfelder Straße über Salinehalbinsel zur Hafenstaße\, Sandanger\, Gimritzer Park\, NSG Peißnitznordspitze zur Ziegelwiese\nTreffpunkt: Ecke Peißnitzstraße/Neuwerk\nDauer: ca. 3\,5 Stunden \n 
URL:https://www.web-conzept-mn.de/event/fahrradrundexkursion-zum-thema-geplante-brueckenneubauten-von-der-franz-schubert-strassen-zur-salinehalbinsel-und-sandanger/
LOCATION:Peißnitz\, Halle (Saale)
END:VEVENT
END:VCALENDAR