BEGIN:VCALENDAR
VERSION:2.0
PRODID:-//Arbeitskreis Hallesche Auenwälder zu Halle / Saale e.V. (AHA) - ECPv6.15.18//NONSGML v1.0//EN
CALSCALE:GREGORIAN
METHOD:PUBLISH
X-ORIGINAL-URL:https://www.web-conzept-mn.de
X-WR-CALDESC:Veranstaltungen für Arbeitskreis Hallesche Auenwälder zu Halle / Saale e.V. (AHA)
REFRESH-INTERVAL;VALUE=DURATION:PT1H
X-Robots-Tag:noindex
X-PUBLISHED-TTL:PT1H
BEGIN:VTIMEZONE
TZID:Europe/Helsinki
BEGIN:DAYLIGHT
TZOFFSETFROM:+0200
TZOFFSETTO:+0300
TZNAME:EEST
DTSTART:20230326T010000
END:DAYLIGHT
BEGIN:STANDARD
TZOFFSETFROM:+0300
TZOFFSETTO:+0200
TZNAME:EET
DTSTART:20231029T010000
END:STANDARD
BEGIN:DAYLIGHT
TZOFFSETFROM:+0200
TZOFFSETTO:+0300
TZNAME:EEST
DTSTART:20240331T010000
END:DAYLIGHT
BEGIN:STANDARD
TZOFFSETFROM:+0300
TZOFFSETTO:+0200
TZNAME:EET
DTSTART:20241027T010000
END:STANDARD
BEGIN:DAYLIGHT
TZOFFSETFROM:+0200
TZOFFSETTO:+0300
TZNAME:EEST
DTSTART:20250330T010000
END:DAYLIGHT
BEGIN:STANDARD
TZOFFSETFROM:+0300
TZOFFSETTO:+0200
TZNAME:EET
DTSTART:20251026T010000
END:STANDARD
END:VTIMEZONE
BEGIN:VEVENT
DTSTART;TZID=Europe/Helsinki:20240601T100000
DTEND;TZID=Europe/Helsinki:20240601T150000
DTSTAMP:20260421T231728
CREATED:20240326T131153Z
LAST-MODIFIED:20240326T131153Z
UID:48619-1717236000-1717254000@www.web-conzept-mn.de
SUMMARY:Fahrradexkursion anlässlich des Tages der Umwelt (05.06.) zur Fuhne-Mündung
DESCRIPTION:Samstag\, den 01.06.\, um 10.00 Uhr\nFahrradexkursion anlässlich des Tages der Umwelt (05.06.)\nzur Fuhne-Mündung in die Saale in Bernburg\nüber den Ziethebusch\, zur Ziethe und zum Mündungsbereich in die Fuh­ne bei Plömnitz sowie entlang der Fuhne\nTreffpunkt: Bahnhof Köthen\nDauer: ca. 5 Stunden
URL:https://www.web-conzept-mn.de/event/fahrradexkursion-anlaesslich-des-tages-der-umwelt-05-06-zur-fuhne-muendung/
END:VEVENT
BEGIN:VEVENT
DTSTART;TZID=Europe/Helsinki:20240605T180000
DTEND;TZID=Europe/Helsinki:20240605T210000
DTSTAMP:20260421T231728
CREATED:20240326T131431Z
LAST-MODIFIED:20240326T131431Z
UID:48621-1717610400-1717621200@www.web-conzept-mn.de
SUMMARY:Tag der Umwelt - Fahrradexkursion zu den Elbauen der Lutherstadt Wittenberg
DESCRIPTION:Mittwoch\, den 05.06.\, um 18.00 Uhr\nFahrradexkursion zu den Elbauen der Lutherstadt Wittenberg – Großer Anger\nTreffpunkt: Lutherstadt Wittenberg Hauptbahnhof\nDauer: ca. 3 Stunden
URL:https://www.web-conzept-mn.de/event/tag-der-umwelt-fahrradexkursion-zu-den-elbauen-der-lutherstadt-wittenberg/
END:VEVENT
BEGIN:VEVENT
DTSTART;TZID=Europe/Helsinki:20240607T150000
DTEND;TZID=Europe/Helsinki:20240607T180000
DTSTAMP:20260421T231728
CREATED:20240326T140607Z
LAST-MODIFIED:20240326T141151Z
UID:48650-1717772400-1717783200@www.web-conzept-mn.de
SUMMARY:Öffnungszeit der Umweltbibliothek Merseburg
DESCRIPTION:Freitag\, den 07.06.\, ab 15.00 bis 18.00 Uhr\nÖffnungszeit der Umweltbibliothek Merseburg\nTreffpunkt: Umweltbibliothek Merseburg\, Weiße Mauer 33\, Merseburg
URL:https://www.web-conzept-mn.de/event/oeffnungszeit-der-umweltbibliothek-merseburg-63/
LOCATION:Umweltbibliothek Merseburg\, Weiße Mauer 33\, Merseburg\, 06217\, Deutschland
END:VEVENT
BEGIN:VEVENT
DTSTART;TZID=Europe/Helsinki:20240608T080000
DTEND;TZID=Europe/Helsinki:20240608T170000
DTSTAMP:20260421T231728
CREATED:20240326T131634Z
LAST-MODIFIED:20240326T131634Z
UID:48623-1717833600-1717866000@www.web-conzept-mn.de
SUMMARY:Fahrradexkursion zum Thema: "Die Parthe durch Stadt und Land"
DESCRIPTION:Samstag\, den 08.06.\, um 10.00 Uhr\nFahrradexkursion zum Thema: „Die Parthe durch Stadt und Land“\nentlang der Parthe von Taucha nach Leipzig bis zur Mündung in die Wei­ße Elster\nTreffpunkt: Bahnhof Taucha\nDauer: ca. 5 Stunden
URL:https://www.web-conzept-mn.de/event/fahrradexkursion-zum-thema-die-parthe-durch-stadt-und-land-3/
END:VEVENT
BEGIN:VEVENT
DTSTART;TZID=Europe/Helsinki:20240608T100000
DTEND;TZID=Europe/Helsinki:20240608T140000
DTSTAMP:20260421T231728
CREATED:20240326T142708Z
LAST-MODIFIED:20240326T142708Z
UID:48668-1717840800-1717855200@www.web-conzept-mn.de
SUMMARY:Wanderexkursion anlässlich des Tages der Umwelt zur Mittellache
DESCRIPTION:Samstag\, den 08.06.\, um 10.00 Uhr\nWanderexkursion anlässlich des Tages der Umwelt zur Mittellache\nRoute: Auenrestwald „Wolfener Busch“\, Salegaster Chaussee\, Wiesenweg zur Mittellache\, Umrundung der Mittellache\, Rückmarsch\nTreffpunkt: Bahnhof Wolfen\nDauer: ca. 4 Stunden
URL:https://www.web-conzept-mn.de/event/wanderexkursion-anlaesslich-des-tages-der-umwelt-zur-mittellache-3/
END:VEVENT
BEGIN:VEVENT
DTSTART;TZID=Europe/Helsinki:20240614T150000
DTEND;TZID=Europe/Helsinki:20240614T180000
DTSTAMP:20260421T231728
CREATED:20240326T140725Z
LAST-MODIFIED:20240326T140725Z
UID:48652-1718377200-1718388000@www.web-conzept-mn.de
SUMMARY:Öffnungszeit der Umweltbibliothek Merseburg
DESCRIPTION:Freitag\, den 14.06.\, ab 15.00 bis 18.00 Uhr\nÖffnungszeit der Umweltbibliothek Merseburg\nTreffpunkt: Umweltbibliothek Merseburg\, Weiße Mauer 33\, Merseburg
URL:https://www.web-conzept-mn.de/event/oeffnungszeit-der-umweltbibliothek-merseburg-64/
LOCATION:Umweltbibliothek Merseburg\, Weiße Mauer 33\, Merseburg\, 06217\, Deutschland
END:VEVENT
BEGIN:VEVENT
DTSTART;TZID=Europe/Helsinki:20240615T100000
DTEND;TZID=Europe/Helsinki:20240615T120000
DTSTAMP:20260421T231728
CREATED:20240326T142202Z
LAST-MODIFIED:20240326T142202Z
UID:48664-1718445600-1718452800@www.web-conzept-mn.de
SUMMARY:Orchideenspaziergang in Wimmelburg
DESCRIPTION:Samstag\, den 15.06.\, um 10.00 Uhr\nOrchideenspaziergang in Wimmelburg\nTreffpunkt: Gaststätte „Zur Hüneburg“\, Unterdorf 3 in Wimmelburg\nDauer: ca. 2 Stunden
URL:https://www.web-conzept-mn.de/event/orchideenspaziergang-in-wimmelburg-3/
LOCATION:Wimmelburg
END:VEVENT
BEGIN:VEVENT
DTSTART;TZID=Europe/Helsinki:20240615T100000
DTEND;TZID=Europe/Helsinki:20240615T140000
DTSTAMP:20260421T231728
CREATED:20240326T141905Z
LAST-MODIFIED:20240326T141905Z
UID:48662-1718445600-1718460000@www.web-conzept-mn.de
SUMMARY:Arbeitseinsatz auf der Streuobstwiese „Am Landhaus“
DESCRIPTION:Samstag\, den 15.06.\, um 10.00 UhrArbeitseinsatz auf der Streuobstwiese „Am Landhaus“Treffpunkt: Pension „Landhaus“ Dessau
URL:https://www.web-conzept-mn.de/event/arbeitseinsatz-auf-der-streuobstwiese-am-landhaus-10/
LOCATION:Streuobstwiese Landhaus Dessau\, Landhaus 1\, Dessau-Roßlau\, 06844\, Deutschland
END:VEVENT
BEGIN:VEVENT
DTSTART;TZID=Europe/Helsinki:20240616T110000
DTEND;TZID=Europe/Helsinki:20240616T180000
DTSTAMP:20260421T231728
CREATED:20240326T131832Z
LAST-MODIFIED:20240610T180449Z
UID:48625-1718535600-1718560800@www.web-conzept-mn.de
SUMMARY:Teilnahme an den Merseburger Schlossfestspielen
DESCRIPTION:Sonntag\, den 16.06.\nTeilnahme an den Merseburger Schlossfestspielen\nvom 14.06 bis 16.06.2024\nGenaueres wird noch bekanntgegeben
URL:https://www.web-conzept-mn.de/event/teilnahme-an-den-merseburger-schlossfestspielen/
END:VEVENT
BEGIN:VEVENT
DTSTART;TZID=Europe/Helsinki:20240621T150000
DTEND;TZID=Europe/Helsinki:20240621T180000
DTSTAMP:20260421T231728
CREATED:20240326T140840Z
LAST-MODIFIED:20240326T140840Z
UID:48654-1718982000-1718992800@www.web-conzept-mn.de
SUMMARY:Öffnungszeit der Umweltbibliothek Merseburg
DESCRIPTION:Freitag\, den 21.06.\, ab 15.00 bis 18.00 Uhr\nÖffnungszeit der Umweltbibliothek Merseburg\nTreffpunkt: Umweltbibliothek Merseburg\, Weiße Mauer 33\, Merseburg
URL:https://www.web-conzept-mn.de/event/oeffnungszeit-der-umweltbibliothek-merseburg-65/
LOCATION:Umweltbibliothek Merseburg\, Weiße Mauer 33\, Merseburg\, 06217\, Deutschland
END:VEVENT
BEGIN:VEVENT
DTSTART;TZID=Europe/Helsinki:20240622T100000
DTEND;TZID=Europe/Helsinki:20240622T170000
DTSTAMP:20260421T231728
CREATED:20240326T132014Z
LAST-MODIFIED:20240326T132014Z
UID:48627-1719050400-1719075600@www.web-conzept-mn.de
SUMMARY:Fahrradrundexkursion durch die Elbaue in Dresden und Pirna
DESCRIPTION:Samstag\, den 22.06.\, um 10.00 Uhr\nFahrradrundexkursion durch die Elbaue in Dresden und Pirna\nu.a. mit Aufenthalt an den Mündungen der Weißeritz\, des Zschorner­bach\, der Prießnitz und des Mordgrundbaches in die Elbe\, Blick zum NSG Pillnitzer Elbinsel\, Aufenthalt an der Wesenitz sowie an den Einmün­dungen von Gottleuba\, Muglitz und Lockwitzbach in die Elbe\nMit den Wendepunkten elbabwärts Mündung der Weißeritz in die Elbe und elbaufwärts Mündung der Gottleuba in die Elbe in der Großen Kreis­stadt Pirna.\nTreffpunkt: Ecke Hasenberg/Terrassenufer\, Dresden\nDauer: ca. 7 Stunden
URL:https://www.web-conzept-mn.de/event/fahrradrundexkursion-durch-die-elbaue-in-dresden-und-pirna/
END:VEVENT
BEGIN:VEVENT
DTSTART;TZID=Europe/Helsinki:20240624T190000
DTEND;TZID=Europe/Helsinki:20240624T213000
DTSTAMP:20260421T231728
CREATED:20240614T143220Z
LAST-MODIFIED:20240614T143220Z
UID:50421-1719255600-1719264600@www.web-conzept-mn.de
SUMMARY:Versammlung der Initiative “Pro Baum”
DESCRIPTION:Montag\, den 24.06.\, um 19.00 Uhr\nVersammlung der Initiative “Pro Baum”\nTreffpunkt: Versammlungsraum Reformhaus\, Große Klausstraße 11
URL:https://www.web-conzept-mn.de/event/versammlung-der-initiative-pro-baum-21/
END:VEVENT
BEGIN:VEVENT
DTSTART;TZID=Europe/Helsinki:20240628T150000
DTEND;TZID=Europe/Helsinki:20240628T180000
DTSTAMP:20260421T231728
CREATED:20240326T140958Z
LAST-MODIFIED:20240326T140958Z
UID:48656-1719586800-1719597600@www.web-conzept-mn.de
SUMMARY:Öffnungszeit der Umweltbibliothek Merseburg
DESCRIPTION:Freitag\, den 28.06.\, ab 15.00 bis 18.00 Uhr\nÖffnungszeit der Umweltbibliothek Merseburg\nTreffpunkt: Umweltbibliothek Merseburg\, Weiße Mauer 33\, Merseburg
URL:https://www.web-conzept-mn.de/event/oeffnungszeit-der-umweltbibliothek-merseburg-66/
LOCATION:Umweltbibliothek Merseburg\, Weiße Mauer 33\, Merseburg\, 06217\, Deutschland
END:VEVENT
BEGIN:VEVENT
DTSTART;TZID=Europe/Helsinki:20240629T080000
DTEND;TZID=Europe/Helsinki:20240629T170000
DTSTAMP:20260421T231728
CREATED:20240326T142412Z
LAST-MODIFIED:20240326T142412Z
UID:48666-1719648000-1719680400@www.web-conzept-mn.de
SUMMARY:Insektensafari für Groß und Klein
DESCRIPTION:Samstag\, den 29.06.\, um 10.00 Uhr\nInsektensafari für Groß und Klein\nTreffpunkt: Naturdenkmal Sommerlinde\, Platz der LPG\, Wimmelburg\nDauer: ca. 2 Stunden
URL:https://www.web-conzept-mn.de/event/insektensafari-fuer-gross-und-klein/
LOCATION:Wimmelburg
END:VEVENT
BEGIN:VEVENT
DTSTART;TZID=Europe/Helsinki:20240629T100000
DTEND;TZID=Europe/Helsinki:20240629T160000
DTSTAMP:20260421T231728
CREATED:20240326T132159Z
LAST-MODIFIED:20240326T132159Z
UID:48629-1719655200-1719676800@www.web-conzept-mn.de
SUMMARY:Radexkursion von Gatersleben nach Staßfurt
DESCRIPTION:Samstag\, den 29.06.\, um 10.00 Uhr\nRadexkursion von Gatersleben nach Staßfurt\nRoute: Parkanlage zum „Oberhof“ der ehemaligen preußischen Staats­domäne in Gatersleben\, NSG Hakel\, Bode mit Aufenthalten an den Mündungsbereichen von Ehle und Röthe sowie im Gaense­further Busch\, Staßfurt\nTreffpunkt: Bahnhof Gatersleben\nDauer: ca. 6 Stunden
URL:https://www.web-conzept-mn.de/event/radexkursion-von-gatersleben-nach-stassfurt-2/
END:VEVENT
END:VCALENDAR