BEGIN:VCALENDAR
VERSION:2.0
PRODID:-//Arbeitskreis Hallesche Auenwälder zu Halle / Saale e.V. (AHA) - ECPv6.15.18//NONSGML v1.0//EN
CALSCALE:GREGORIAN
METHOD:PUBLISH
X-ORIGINAL-URL:https://www.web-conzept-mn.de
X-WR-CALDESC:Veranstaltungen für Arbeitskreis Hallesche Auenwälder zu Halle / Saale e.V. (AHA)
REFRESH-INTERVAL;VALUE=DURATION:PT1H
X-Robots-Tag:noindex
X-PUBLISHED-TTL:PT1H
BEGIN:VTIMEZONE
TZID:Europe/Helsinki
BEGIN:DAYLIGHT
TZOFFSETFROM:+0200
TZOFFSETTO:+0300
TZNAME:EEST
DTSTART:20230326T010000
END:DAYLIGHT
BEGIN:STANDARD
TZOFFSETFROM:+0300
TZOFFSETTO:+0200
TZNAME:EET
DTSTART:20231029T010000
END:STANDARD
BEGIN:DAYLIGHT
TZOFFSETFROM:+0200
TZOFFSETTO:+0300
TZNAME:EEST
DTSTART:20240331T010000
END:DAYLIGHT
BEGIN:STANDARD
TZOFFSETFROM:+0300
TZOFFSETTO:+0200
TZNAME:EET
DTSTART:20241027T010000
END:STANDARD
BEGIN:DAYLIGHT
TZOFFSETFROM:+0200
TZOFFSETTO:+0300
TZNAME:EEST
DTSTART:20250330T010000
END:DAYLIGHT
BEGIN:STANDARD
TZOFFSETFROM:+0300
TZOFFSETTO:+0200
TZNAME:EET
DTSTART:20251026T010000
END:STANDARD
END:VTIMEZONE
BEGIN:VEVENT
DTSTART;TZID=Europe/Helsinki:20240302T100000
DTEND;TZID=Europe/Helsinki:20240302T140000
DTSTAMP:20260421T165914
CREATED:20231227T214015Z
LAST-MODIFIED:20231227T220102Z
UID:46278-1709373600-1709388000@www.web-conzept-mn.de
SUMMARY:Winterexkursion zum NSG "Untere Geiselniederung"
DESCRIPTION:Samstag\, den 02.03.\, um 10.00 Uhr\nWinterexkursion zum NSG „Untere Geiselniederung“\nzwischen Merseburg (Gotthardteich\, Südpark\, Fachhochschule Merse­burg) und Geusa\, Ortsteil Zscherben (Solequellen)\, mit Abschluss und anschließende Auswertung in der Umweltbibliothek Merseburg „Jürgen Bernt-Bärtl“\, inklusive Bestimmungen mit Hilfe Fachliteratur und Mikroskop\nTreffpunkt: Bahnhof Merseburg (siehe Karte)\nDauer: ca. 4 Stunden
URL:https://www.web-conzept-mn.de/event/46278/
LOCATION:Merseburg\, Bahnhofsplatz 1\, Merseburg\, 06217\, Deutschland
END:VEVENT
BEGIN:VEVENT
DTSTART;TZID=Europe/Helsinki:20240304T190000
DTEND;TZID=Europe/Helsinki:20240304T213000
DTSTAMP:20260421T165914
CREATED:20231227T221512Z
LAST-MODIFIED:20231227T221512Z
UID:46301-1709578800-1709587800@www.web-conzept-mn.de
SUMMARY:Mitgliederversammlung
DESCRIPTION:Montag\, den 04.03.\, um 19.00 Uhr\nMitgliederversammlung\nTreffpunkt: Versammlungsraum Reformhaus\, Große Klausstraße 11
URL:https://www.web-conzept-mn.de/event/mitgliederversammlung-20/
LOCATION:Refomhaus – Haus der Bewegungen\, Große Klausstraße 11\, Halle (Saale)\, 06108\, Deutschland
END:VEVENT
BEGIN:VEVENT
DTSTART;TZID=Europe/Helsinki:20240309T100000
DTEND;TZID=Europe/Helsinki:20240309T150000
DTSTAMP:20260421T165914
CREATED:20231227T214216Z
LAST-MODIFIED:20231227T214216Z
UID:46281-1709978400-1709996400@www.web-conzept-mn.de
SUMMARY:Fahrradexkursion durch die Saaleaue
DESCRIPTION:Samstag\, den 09.03.\, um 10.00 Uhr\nFahrradexkursion durch die Saaleaue\n zwischen den Städten Weißenfels\, Bad Dürrenberg\, Leuna und Merse­burg sowie der Saale-Elster-Luppe-Aue zwischen den Städten Merseburg und Halle (Saale) mit Blick zur Mündung der Rippach in die Saale\, Auf­enthalt am Saalealtarm bei Großkorbetha\, in der Saaleaue bei Bad Dür­renberg\, im Mündungsbereich des Ellerbaches in die Saale\, im Kreypau­er (Göhlitzscher) Holz\, in der Fasanerie in Merseburg\, im Mündungsbe­reich der Laucha in die Saale und an der Weißen Elster in Halle-Ammen­dorf\nTreffpunkt: Bahnhof Weißenfels\nDauer: ca. 5 Stunden
URL:https://www.web-conzept-mn.de/event/fahrradexkursion-durch-die-saaleaue-2/
END:VEVENT
BEGIN:VEVENT
DTSTART;TZID=Europe/Helsinki:20240316T100000
DTEND;TZID=Europe/Helsinki:20240316T160000
DTSTAMP:20260421T165914
CREATED:20231227T214400Z
LAST-MODIFIED:20231227T214400Z
UID:46284-1710583200-1710604800@www.web-conzept-mn.de
SUMMARY:Fahrradexkursion entlang der Ilm
DESCRIPTION:Samstag\, den 16.03.\, um 10.00 Uhr\nFahrradexkursion entlang der Ilm\nbis zur Mündung in die Saale in die Saale in Großheringen\nTreffpunkt: Bahnhof Apolda\nDauer: ca. 6 Stunden
URL:https://www.web-conzept-mn.de/event/fahrradexkursion-entlang-der-ilm-2/
END:VEVENT
BEGIN:VEVENT
DTSTART;TZID=Europe/Helsinki:20240316T100000
DTEND;TZID=Europe/Helsinki:20240316T160000
DTSTAMP:20260421T165914
CREATED:20231227T215534Z
LAST-MODIFIED:20231227T215534Z
UID:46292-1710583200-1710604800@www.web-conzept-mn.de
SUMMARY:Wanderexkursion zur "Alten Leine"
DESCRIPTION:Samstag\, den 16.03.\, um 10.00 Uhr\nWanderexkursion zur „Alten Leine“\nRoute: Bahnhof Wolfen\, Überqueren der Eisenbahnbrücke am Wolfener Busch\, weiter zur Salegaster Chaussee\, Überquerung der Salegas­ter Chaussee und weiter durch den Salegaster Forst bis zur Wege­kreuzung „Invalidendreieck“ und von dort weiter bis zur Katzen­brücke im Salegaster Forst\, Fortsetzung der Wanderung durch die Mulde-Leine-Aue bis zum Muldewehr und weiter entlang der Mulde bis zur „Alten Leine“ und anschließend Rückmarsch über die Mul­de-Leine-Aue\, Salegaster Forst und Wolfener Busch\nTreffpunkt: Bahnhof Wolfen\nDauer: ca. 6 Stunden
URL:https://www.web-conzept-mn.de/event/wanderexkursion-zur-alten-leine-3/
END:VEVENT
BEGIN:VEVENT
DTSTART;TZID=Europe/Helsinki:20240323T100000
DTEND;TZID=Europe/Helsinki:20240323T140000
DTSTAMP:20260421T165914
CREATED:20231227T225732Z
LAST-MODIFIED:20231227T225732Z
UID:46324-1711188000-1711202400@www.web-conzept-mn.de
SUMMARY:Erfassung der Avifauna des Auenrestwald "Wolfener Busch"
DESCRIPTION:Samstag\, den 23.03.\, um 10.00 UhrErfassung der Avifauna des Auenrestwald „Wolfener Busch“\nBeobachtung der im Gebiet vorkommenden Vogelarten mit dem Fernglas und schriftli­che Erfassung der gesichteten Tiere in Listen\nBitte bringen Sie ihr eigenes Fernglas mit. Leider können wir Ihnen keine Ferngläser zur Verfügung stel­len. Das betrifft auch Klemmbretter.\nVoranmeldung bis spätestens 22.00 Uhr am Freitag\, dem 22.03.2024\, unter: 0176 – 568 796 31\nTreffpunkt: Bahnhof WolfenDauer: ca. 4 Stunden
URL:https://www.web-conzept-mn.de/event/erfassung-der-avifauna-des-auenrestwald-wolfener-busch-4/
END:VEVENT
BEGIN:VEVENT
DTSTART;TZID=Europe/Helsinki:20240323T100000
DTEND;TZID=Europe/Helsinki:20240323T150000
DTSTAMP:20260421T165914
CREATED:20231227T215825Z
LAST-MODIFIED:20231227T215825Z
UID:46294-1711188000-1711206000@www.web-conzept-mn.de
SUMMARY:Fahrradexkursion zum FFH-Gebiet Gipskarstlandschaft Pölsfeld und ent­lang der Gonna
DESCRIPTION:Samstag\, den 23.03.\, um 10.00 Uhr\nFahrradexkursion zum FFH-Gebiet Gipskarstlandschaft Pölsfeld und ent­lang der Gonna\nGemeinsame Fahrradexkursion mit dem Regionalhistoriker Dieter Vopel in das FFH Gebiet Gipskarstlandschaft Pölsfeld und Breiter Fleck und entlang der Gonna\nTreffpunkt: Bahnhof Riestedt\nDauer: ca. 5 Stunden
URL:https://www.web-conzept-mn.de/event/fahrradexkursion-zum-ffh-gebiet-gipskarstlandschaft-poelsfeld-und-entlang-der-gonna-2/
END:VEVENT
BEGIN:VEVENT
DTSTART;TZID=Europe/Helsinki:20240325T190000
DTEND;TZID=Europe/Helsinki:20240325T213000
DTSTAMP:20260421T165914
CREATED:20231227T224657Z
LAST-MODIFIED:20231227T224657Z
UID:46319-1711393200-1711402200@www.web-conzept-mn.de
SUMMARY:Versammlung der Initiative “Pro Baum”
DESCRIPTION:Montag\, den 25.03.\, um 19.00 Uhr\nVersammlung der Initiative “Pro Baum”\nTreffpunkt: Versammlungsraum Reformhaus\, Große Klausstraße 11
URL:https://www.web-conzept-mn.de/event/versammlung-der-initiative-pro-baum-19/
LOCATION:Refomhaus – Haus der Bewegungen\, Große Klausstraße 11\, Halle (Saale)\, 06108\, Deutschland
END:VEVENT
BEGIN:VEVENT
DTSTART;TZID=Europe/Helsinki:20240329T100000
DTEND;TZID=Europe/Helsinki:20240329T130000
DTSTAMP:20260421T165914
CREATED:20231227T214610Z
LAST-MODIFIED:20240310T122129Z
UID:46286-1711706400-1711717200@www.web-conzept-mn.de
SUMMARY:"Bäume pflanzen am Karfreitag"
DESCRIPTION:Karfreitag\, den 29.03.\, um 10.00 Uhr\n„Bäume pflanzen am Karfreitag„\nEine gemeinsame Aktion mit der Initiative „Pro Baum“\nTreffpunkt: Ochsenbrücke am Riveufer\, Halle (Saale)
URL:https://www.web-conzept-mn.de/event/baeume-pflanzen-statt-abholzen-2/
END:VEVENT
END:VCALENDAR