BEGIN:VCALENDAR
VERSION:2.0
PRODID:-//Arbeitskreis Hallesche Auenwälder zu Halle / Saale e.V. (AHA) - ECPv6.15.18//NONSGML v1.0//EN
CALSCALE:GREGORIAN
METHOD:PUBLISH
X-ORIGINAL-URL:https://www.web-conzept-mn.de
X-WR-CALDESC:Veranstaltungen für Arbeitskreis Hallesche Auenwälder zu Halle / Saale e.V. (AHA)
REFRESH-INTERVAL;VALUE=DURATION:PT1H
X-Robots-Tag:noindex
X-PUBLISHED-TTL:PT1H
BEGIN:VTIMEZONE
TZID:Europe/Helsinki
BEGIN:DAYLIGHT
TZOFFSETFROM:+0200
TZOFFSETTO:+0300
TZNAME:EEST
DTSTART:20230326T010000
END:DAYLIGHT
BEGIN:STANDARD
TZOFFSETFROM:+0300
TZOFFSETTO:+0200
TZNAME:EET
DTSTART:20231029T010000
END:STANDARD
BEGIN:DAYLIGHT
TZOFFSETFROM:+0200
TZOFFSETTO:+0300
TZNAME:EEST
DTSTART:20240331T010000
END:DAYLIGHT
BEGIN:STANDARD
TZOFFSETFROM:+0300
TZOFFSETTO:+0200
TZNAME:EET
DTSTART:20241027T010000
END:STANDARD
BEGIN:DAYLIGHT
TZOFFSETFROM:+0200
TZOFFSETTO:+0300
TZNAME:EEST
DTSTART:20250330T010000
END:DAYLIGHT
BEGIN:STANDARD
TZOFFSETFROM:+0300
TZOFFSETTO:+0200
TZNAME:EET
DTSTART:20251026T010000
END:STANDARD
END:VTIMEZONE
BEGIN:VEVENT
DTSTART;TZID=Europe/Helsinki:20240106T100000
DTEND;TZID=Europe/Helsinki:20240106T120000
DTSTAMP:20260421T134530
CREATED:20231227T204343Z
LAST-MODIFIED:20231227T204343Z
UID:46260-1704535200-1704542400@www.web-conzept-mn.de
SUMMARY:Neujahreswanderung zum NSG Hakel
DESCRIPTION:Samstag\, den 06.01.\, um 10.00 Uhr\nNeujahreswanderung zum NSG Hakel\nGemeinsam mit der Bürgerinitiative Hakelwald\nTreffpunkt: Waldrand des Hakels\, Hakelstraße\, außerhalb von Heteborn\nDauer: ca. 2 Stunden
URL:https://www.web-conzept-mn.de/event/neujahreswanderung-zum-nsg-hakel/
END:VEVENT
BEGIN:VEVENT
DTSTART;TZID=Europe/Helsinki:20240108T190000
DTEND;TZID=Europe/Helsinki:20240108T213000
DTSTAMP:20260421T134530
CREATED:20231227T221035Z
LAST-MODIFIED:20231227T221623Z
UID:46297-1704740400-1704749400@www.web-conzept-mn.de
SUMMARY:Mitgliederversammlung
DESCRIPTION:Montag\, den 08.01.\, um 19.00 Uhr\nMitgliederversammlung\nTreffpunkt: Versammlungsraum Reformhaus\, Große Klausstraße 11
URL:https://www.web-conzept-mn.de/event/mitgliederversammlung-18/
LOCATION:Refomhaus – Haus der Bewegungen\, Große Klausstraße 11\, Halle (Saale)\, 06108\, Deutschland
END:VEVENT
BEGIN:VEVENT
DTSTART;TZID=Europe/Helsinki:20240113T100000
DTEND;TZID=Europe/Helsinki:20240113T150000
DTSTAMP:20260421T134530
CREATED:20231227T204543Z
LAST-MODIFIED:20231227T204543Z
UID:46263-1705140000-1705158000@www.web-conzept-mn.de
SUMMARY:Winterexkursion durch die Saale-Elster-Aue
DESCRIPTION:Samstag\, den 13.01.\, um 10.00 Uhr\nWinterexkursion durch die Saale-Elster-Aue\nzwischen Halle-Ammendorf und Halle-Beesen zur Mündung von Weißer Elster und Gerwische/Stilles Wasser in die Saale sowie zum NSG Pfingstanger bei Halle-Wörmlitz\nTreffpunkt: Straßenbahnendhaltestelle Halle-Ammendorf\, Regensburger Straße\nDauer: ca. 5 Stunden
URL:https://www.web-conzept-mn.de/event/winterexkursion-durch-die-saale-elster-aue/
END:VEVENT
BEGIN:VEVENT
DTSTART;TZID=Europe/Helsinki:20240113T100000
DTEND;TZID=Europe/Helsinki:20240113T150000
DTSTAMP:20260421T134530
CREATED:20231227T215329Z
LAST-MODIFIED:20231227T230247Z
UID:46290-1705140000-1705158000@www.web-conzept-mn.de
SUMMARY:Neujahrsexkursion zum Forsthaus Salegast
DESCRIPTION:Samstag\, den 13.01.\, um 10.00 Uhr\nNeujahrsexkursion zum Forsthaus Salegast\nRoute: Auenrestwald „Wolfener Busch“\, Salegaster Chaussee\, Waldweg zur Wegekreuzung „Invalidendreieck“\, Katzenbrücke\, Wanderweg in Richtung Forsthaus und Conradi-Linde\, Rückmarsch über die Auen­wiesen Jeßnitz\, Mittellache\, Salegaster Chaussee in Richtung Wolfen\nVoranmeldung bis spätestens 22.00 Uhr am Freitag\, dem 12.01.2024\, unter: 0176 – 568 796 31\nTreffpunkt: Bahnhof Wolfen\nDauer: ca. 5 Stunden
URL:https://www.web-conzept-mn.de/event/neujahrsexkursion-zum-forsthaus-salegast-2/
END:VEVENT
BEGIN:VEVENT
DTSTART;TZID=Europe/Helsinki:20240120T100000
DTEND;TZID=Europe/Helsinki:20240120T130000
DTSTAMP:20260421T134530
CREATED:20231227T222850Z
LAST-MODIFIED:20231227T222850Z
UID:46303-1705744800-1705755600@www.web-conzept-mn.de
SUMMARY:Arbeitseinsatz auf der Streuobstwiese „Am Landhaus“
DESCRIPTION:Samstag\, den 20.01.\, um 10.00 UhrArbeitseinsatz auf der Streuobstwiese „Am Landhaus“Treffpunkt: Pension „Landhaus“ Dessau
URL:https://www.web-conzept-mn.de/event/arbeitseinsatz-auf-der-streuobstwiese-am-landhaus-8/
LOCATION:Streuobstwiese Landhaus Dessau\, Landhaus 1\, Dessau-Roßlau\, 06844\, Deutschland
END:VEVENT
BEGIN:VEVENT
DTSTART;TZID=Europe/Helsinki:20240120T100000
DTEND;TZID=Europe/Helsinki:20240120T130000
DTSTAMP:20260421T134530
CREATED:20231227T223815Z
LAST-MODIFIED:20231227T223815Z
UID:46310-1705744800-1705755600@www.web-conzept-mn.de
SUMMARY:Arbeitseinsatz auf dem Forstwerder
DESCRIPTION:Samstag\, den 20.01.\, um 10.00 Uhr\nArbeitseinsatz auf dem Forstwerder\nTreffpunkt: Bogenbrücke zum Forstwerder\, Pfarrstraße\, Halle-Trotha
URL:https://www.web-conzept-mn.de/event/arbeitseinsatz-auf-dem-forstwerder-5/
END:VEVENT
BEGIN:VEVENT
DTSTART;TZID=Europe/Helsinki:20240120T100000
DTEND;TZID=Europe/Helsinki:20240120T140000
DTSTAMP:20260421T134530
CREATED:20231227T225525Z
LAST-MODIFIED:20231227T225525Z
UID:46321-1705744800-1705759200@www.web-conzept-mn.de
SUMMARY:Erfassung der Avifauna des Auenrestwald "Wolfener Busch"
DESCRIPTION:Samstag\, den 20.01.\, um 10.00 UhrErfassung der Avifauna des Auenrestwald „Wolfener Busch“\nBeobachtung der im Gebiet vorkommenden Vogelarten mit dem Fernglas und schriftli­che Erfassung der gesichteten Tiere in Listen\nBitte bringen Sie ihr eigenes Fernglas mit. Leider können wir Ihnen keine Ferngläser zur Verfügung stel­len. Das betrifft auch Klemmbretter.\nVoranmeldung bis spätestens 22.00 Uhr am Freitag\, dem 19.01.2024\, unter: 0176 – 568 796 31\nTreffpunkt: Bahnhof WolfenDauer: ca. 4 Stunden
URL:https://www.web-conzept-mn.de/event/erfassung-der-avifauna-des-auenrestwald-wolfener-busch-3/
END:VEVENT
BEGIN:VEVENT
DTSTART;TZID=Europe/Helsinki:20240127T100000
DTEND;TZID=Europe/Helsinki:20240127T130000
DTSTAMP:20260421T134530
CREATED:20231227T204741Z
LAST-MODIFIED:20231227T204741Z
UID:46265-1706349600-1706360400@www.web-conzept-mn.de
SUMMARY:Neujahreswanderung in das NSG "Prinzenschneise"
DESCRIPTION:Samstag\, den 27.01.\, um 10.00 Uhr\nNeujahreswanderung in das NSG „Prinzenschneise“\nam Ettersberg in und bei Weimar\nGemeinsam mit der Bürgerinitiative pro Ettersberg\nTreffpunkt: Eingang Buttelstedter Straße\, Weimar\nDauer: ca. 3 Stunden
URL:https://www.web-conzept-mn.de/event/neujahreswanderung-in-das-nsg-prinzenschneise/
END:VEVENT
BEGIN:VEVENT
DTSTART;TZID=Europe/Helsinki:20240127T100000
DTEND;TZID=Europe/Helsinki:20240127T140000
DTSTAMP:20260421T134530
CREATED:20240117T123545Z
LAST-MODIFIED:20240117T123545Z
UID:46542-1706349600-1706364000@www.web-conzept-mn.de
SUMMARY:Erfassung der Avifauna des Salegaster Forsts
DESCRIPTION:Samstag\, den 27.01.\, um 10.00 UhrErfassung der Avifauna des Salegaster Forsts\nBeobachtung der im Gebiet vorkommenden Vogelarten mit dem Fernglas und schriftli­che Erfassung der gesichteten Tiere in Listen\nBitte bringen Sie ihr eigenes Fernglas mit. Leider können wir Ihnen keine Ferngläser zur Verfügung stel­len. Das betrifft auch Klemmbretter.\nVoranmeldung bis spätestens 22.00 Uhr am Freitag\, dem 26.01.2024\, unter: 0176 – 568 796 31\nTreffpunkt: Bahnhof WolfenDauer: ca. 4 Stunden
URL:https://www.web-conzept-mn.de/event/erfassung-der-avifauna-des-salegaster-forsts-4/
LOCATION:Salegaster Forst\, Bitterfeld-Wolfen
END:VEVENT
BEGIN:VEVENT
DTSTART;TZID=Europe/Helsinki:20240129T190000
DTEND;TZID=Europe/Helsinki:20240129T213000
DTSTAMP:20260421T134530
CREATED:20231227T224318Z
LAST-MODIFIED:20231227T224318Z
UID:46314-1706554800-1706563800@www.web-conzept-mn.de
SUMMARY:Versammlung der Initiative “Pro Baum”
DESCRIPTION:Montag\, den 29.01.\, um 19.00 Uhr\nVersammlung der Initiative “Pro Baum”\nTreffpunkt: Versammlungsraum Reformhaus\, Große Klausstraße 11
URL:https://www.web-conzept-mn.de/event/versammlung-der-initiative-pro-baum-17/
LOCATION:Refomhaus – Haus der Bewegungen\, Große Klausstraße 11\, Halle (Saale)\, 06108\, Deutschland
END:VEVENT
END:VCALENDAR