BEGIN:VCALENDAR
VERSION:2.0
PRODID:-//Arbeitskreis Hallesche Auenwälder zu Halle / Saale e.V. (AHA) - ECPv6.15.18//NONSGML v1.0//EN
CALSCALE:GREGORIAN
METHOD:PUBLISH
X-WR-CALNAME:Arbeitskreis Hallesche Auenwälder zu Halle / Saale e.V. (AHA)
X-ORIGINAL-URL:https://www.web-conzept-mn.de
X-WR-CALDESC:Veranstaltungen für Arbeitskreis Hallesche Auenwälder zu Halle / Saale e.V. (AHA)
REFRESH-INTERVAL;VALUE=DURATION:PT1H
X-Robots-Tag:noindex
X-PUBLISHED-TTL:PT1H
BEGIN:VTIMEZONE
TZID:Europe/Helsinki
BEGIN:DAYLIGHT
TZOFFSETFROM:+0200
TZOFFSETTO:+0300
TZNAME:EEST
DTSTART:20220327T010000
END:DAYLIGHT
BEGIN:STANDARD
TZOFFSETFROM:+0300
TZOFFSETTO:+0200
TZNAME:EET
DTSTART:20221030T010000
END:STANDARD
BEGIN:DAYLIGHT
TZOFFSETFROM:+0200
TZOFFSETTO:+0300
TZNAME:EEST
DTSTART:20230326T010000
END:DAYLIGHT
BEGIN:STANDARD
TZOFFSETFROM:+0300
TZOFFSETTO:+0200
TZNAME:EET
DTSTART:20231029T010000
END:STANDARD
BEGIN:DAYLIGHT
TZOFFSETFROM:+0200
TZOFFSETTO:+0300
TZNAME:EEST
DTSTART:20240331T010000
END:DAYLIGHT
BEGIN:STANDARD
TZOFFSETFROM:+0300
TZOFFSETTO:+0200
TZNAME:EET
DTSTART:20241027T010000
END:STANDARD
END:VTIMEZONE
BEGIN:VEVENT
DTSTART;TZID=Europe/Helsinki:20231201T150000
DTEND;TZID=Europe/Helsinki:20231201T180000
DTSTAMP:20260421T121637
CREATED:20230705T103815Z
LAST-MODIFIED:20230705T103815Z
UID:42843-1701442800-1701453600@www.web-conzept-mn.de
SUMMARY:Öffnungszeit der Umweltbibliothek Merseburg
DESCRIPTION:Freitag\, den 01.12.\, ab 15.00 bis 18.00 Uhr\nÖffnungszeit der Umweltbibliothek Merseburg\nTreffpunkt: Umweltbibliothek Merseburg\, Weiße Mauer 33\, Merseburg
URL:https://www.web-conzept-mn.de/event/oeffnungszeit-der-umweltbibliothek-merseburg-50/
LOCATION:Umweltbibliothek Merseburg\, Weiße Mauer 33\, Merseburg\, 06217\, Deutschland
ORGANIZER;CN="AHA Halle (Saale) e.V.%2C UB Merseburg":MAILTO:ubm2021@yahoo.com
END:VEVENT
BEGIN:VEVENT
DTSTART;TZID=Europe/Helsinki:20231202T100000
DTEND;TZID=Europe/Helsinki:20231202T140000
DTSTAMP:20260421T121637
CREATED:20230705T093831Z
LAST-MODIFIED:20230705T093831Z
UID:42794-1701511200-1701525600@www.web-conzept-mn.de
SUMMARY:Erfassung der Avifauna des Erlen-Eschenwalds "Reudener Busch"
DESCRIPTION:Samstag\, den 02.12.\, um 10.00 UhrErfassung der Avifauna des Erlen-Eschenwalds „Reudener Busch“Beobachtung der im Gebiet vorkommenden Vogelarten mit dem Fernglas und schriftli­che Erfassung der gesichteten Tiere in Listen\nBitte bringen Sie ihr eigenes Fernglas mit. Leider können wir Ihnen keine Ferngläser zur Verfügung stel­len. Das betrifft auch Klemmbretter.Treffpunkt: Bahnhof WolfenDauer: ca. 4 Stunden
URL:https://www.web-conzept-mn.de/event/erfassung-der-avifauna-des-erlen-eschenwalds-reudener-busch-4/
END:VEVENT
BEGIN:VEVENT
DTSTART;TZID=Europe/Helsinki:20231202T100000
DTEND;TZID=Europe/Helsinki:20231202T150000
DTSTAMP:20260421T121637
CREATED:20230705T003512Z
LAST-MODIFIED:20230705T003512Z
UID:42715-1701511200-1701529200@www.web-conzept-mn.de
SUMMARY:Herbstexkursion in und um Kröllwitz
DESCRIPTION:Samstag\, den 02.12.\, um 10.00 Uhr\nHerbstexkursion in und um Kröllwitz\nüber den Amselgrund und die Kreuzer Teiche\, zu den Brandbergen\, zum Hechtgraben\, zur Kiesgrube Kröllwitz\, zum Saalwerder\, zum Ochsenberg und zum Park der früheren Papierfabrik Kröllwitz\nTreffpunkt: Eingang Bergschenke\, Kröllwitzer Straße\nDauer: ca. 5 Stunden
URL:https://www.web-conzept-mn.de/event/herbstexkursion-in-und-um-kroellwitz-2/
END:VEVENT
BEGIN:VEVENT
DTSTART;TZID=Europe/Helsinki:20231204T190000
DTEND;TZID=Europe/Helsinki:20231204T213000
DTSTAMP:20260421T121637
CREATED:20230705T010233Z
LAST-MODIFIED:20230705T010307Z
UID:42745-1701716400-1701725400@www.web-conzept-mn.de
SUMMARY:Mitgliederversammlung
DESCRIPTION:Montag\, den 04.12.\, um 19.00 UhrMitgliederversammlungTreffpunkt: Versammlungsraum Reformhaus\, Große Klausstraße 11
URL:https://www.web-conzept-mn.de/event/42745/
LOCATION:Refomhaus – Haus der Bewegungen\, Große Klausstraße 11\, Halle (Saale)\, 06108\, Deutschland
END:VEVENT
BEGIN:VEVENT
DTSTART;TZID=Europe/Helsinki:20231208T150000
DTEND;TZID=Europe/Helsinki:20231208T170000
DTSTAMP:20260421T121637
CREATED:20230705T103939Z
LAST-MODIFIED:20230705T103939Z
UID:42845-1702047600-1702054800@www.web-conzept-mn.de
SUMMARY:Öffnungszeit der Umweltbibliothek Merseburg
DESCRIPTION:Freitag\, den 08.12.\, ab 15.00 bis 17.00 Uhr\nÖffnungszeit der Umweltbibliothek Merseburg\nTreffpunkt: Umweltbibliothek Merseburg\, Weiße Mauer 33\, Merseburg
URL:https://www.web-conzept-mn.de/event/oeffnungszeit-der-umweltbibliothek-merseburg-51/
LOCATION:Umweltbibliothek Merseburg\, Weiße Mauer 33\, Merseburg\, 06217\, Deutschland
ORGANIZER;CN="AHA Halle (Saale) e.V.%2C UB Merseburg":MAILTO:ubm2021@yahoo.com
END:VEVENT
BEGIN:VEVENT
DTSTART;TZID=Europe/Helsinki:20231208T180000
DTEND;TZID=Europe/Helsinki:20231208T220000
DTSTAMP:20260421T121637
CREATED:20230705T003727Z
LAST-MODIFIED:20230705T003825Z
UID:42717-1702058400-1702072800@www.web-conzept-mn.de
SUMMARY:Weihnachtsfeier
DESCRIPTION:Freitag\, den 08.12.\, um 18.00 Uhr\nWeihnachtsfeier\nBitte Gebäck und Getränke mitbringen!\nOrt: Versammlungsraum des Reformhaus e.V.\, Große Klausstraße 11 in Halle (Saale)
URL:https://www.web-conzept-mn.de/event/42717/
LOCATION:Refomhaus – Haus der Bewegungen\, Große Klausstraße 11\, Halle (Saale)\, 06108\, Deutschland
END:VEVENT
BEGIN:VEVENT
DTSTART;TZID=Europe/Helsinki:20231209T100000
DTEND;TZID=Europe/Helsinki:20231209T140000
DTSTAMP:20260421T121637
CREATED:20230705T004801Z
LAST-MODIFIED:20230705T004801Z
UID:42731-1702116000-1702130400@www.web-conzept-mn.de
SUMMARY:Arbeitseinsatz auf der Streuobstwiese „Am Landhaus“
DESCRIPTION:Samstag\, den 09.12.\, um 10.00 UhrArbeitseinsatz auf der Streuobstwiese „Am Landhaus“Treffpunkt: Pension „Landhaus“ Dessau
URL:https://www.web-conzept-mn.de/event/arbeitseinsatz-auf-der-streuobstwiese-am-landhaus-7/
LOCATION:Streuobstwiese Landhaus Dessau\, Landhaus 1\, Dessau-Roßlau\, 06844\, Deutschland
END:VEVENT
BEGIN:VEVENT
DTSTART;TZID=Europe/Helsinki:20231209T100000
DTEND;TZID=Europe/Helsinki:20231209T140000
DTSTAMP:20260421T121637
CREATED:20230705T094316Z
LAST-MODIFIED:20230705T094316Z
UID:42798-1702116000-1702130400@www.web-conzept-mn.de
SUMMARY:Erfassung der Avifauna des Salegaster Forstes
DESCRIPTION:Samstag\, den 09.12.\, um 10.00 Uhr\nErfassung der Avifauna des Salegaster Forstes\nBeobachtung der im Gebiet vorkommenden Vogelarten mit dem Fernglas und schriftliche Erfassung der gesichteten Tiere in Listen\nBitte bringen Sie ihr eigenes Fernglas mit. Leider können wir Ihnen keine Ferngläser zur Verfügung stel­len. Das betrifft auch Klemmbretter.\nTreffpunkt: Bahnhof Wolfen\nDauer: ca. 4 Stunden
URL:https://www.web-conzept-mn.de/event/erfassung-der-avifauna-des-salegaster-forstes-4/
END:VEVENT
BEGIN:VEVENT
DTSTART;TZID=Europe/Helsinki:20231215T150000
DTEND;TZID=Europe/Helsinki:20231215T180000
DTSTAMP:20260421T121637
CREATED:20230705T104124Z
LAST-MODIFIED:20230705T104124Z
UID:42847-1702652400-1702663200@www.web-conzept-mn.de
SUMMARY:Öffnungszeit der Umweltbibliothek Merseburg
DESCRIPTION:Freitag\, den 15.12.\, ab 15.00 bis 18.00 Uhr\nÖffnungszeit der Umweltbibliothek Merseburg\nTreffpunkt: Umweltbibliothek Merseburg\, Weiße Mauer 33\, Merseburg
URL:https://www.web-conzept-mn.de/event/oeffnungszeit-der-umweltbibliothek-merseburg-52/
LOCATION:Umweltbibliothek Merseburg\, Weiße Mauer 33\, Merseburg\, 06217\, Deutschland
ORGANIZER;CN="AHA Halle (Saale) e.V.%2C UB Merseburg":MAILTO:ubm2021@yahoo.com
END:VEVENT
BEGIN:VEVENT
DTSTART;TZID=Europe/Helsinki:20231216T100000
DTEND;TZID=Europe/Helsinki:20231216T140000
DTSTAMP:20260421T121637
CREATED:20230705T093519Z
LAST-MODIFIED:20230705T093519Z
UID:42790-1702720800-1702735200@www.web-conzept-mn.de
SUMMARY:Erfassung der Avifauna des Auenrestwaldes “Wolfener Busch”
DESCRIPTION:Samstag\, den 16.12.\, um 10.00 Uhr\nErfassung der Avifauna des Auenrestwaldes “Wolfener Busch”\nBeobachtung der im Gebiet vorkommenden Vogelarten mit dem Fernglas und schriftli­che Erfassung der gesichteten Tiere in Listen\nBitte bringen Sie ihr eigenes Fernglas mit. Leider können wir Ihnen keine Ferngläser zur Verfügung stel­len. Das betrifft auch Klemmbretter.\nTreffpunkt: Bahnhof Wolfen\nDauer: ca. 4 Stunden
URL:https://www.web-conzept-mn.de/event/erfassung-der-avifauna-des-auenrestwaldes-wolfener-busch-6/
END:VEVENT
BEGIN:VEVENT
DTSTART;TZID=Europe/Helsinki:20231218T190000
DTEND;TZID=Europe/Helsinki:20231218T213000
DTSTAMP:20260421T121637
CREATED:20230705T012614Z
LAST-MODIFIED:20230705T012614Z
UID:42760-1702926000-1702935000@www.web-conzept-mn.de
SUMMARY:Versammlung der Initiative “Pro Baum”
DESCRIPTION:Montag\, den 18.12.\, um 19.00 Uhr\nVersammlung der Initiative “Pro Baum”\nTreffpunkt: Versammlungsraum Reformhaus\, Große Klausstraße 11
URL:https://www.web-conzept-mn.de/event/versammlung-der-initiative-pro-baum-16/
LOCATION:Peißnitz\, Halle (Saale)
END:VEVENT
BEGIN:VEVENT
DTSTART;TZID=Europe/Helsinki:20231222T150000
DTEND;TZID=Europe/Helsinki:20231222T180000
DTSTAMP:20260421T121637
CREATED:20230705T104226Z
LAST-MODIFIED:20230705T104226Z
UID:42849-1703257200-1703268000@www.web-conzept-mn.de
SUMMARY:Öffnungszeit der Umweltbibliothek Merseburg
DESCRIPTION:Freitag\, den 22.12.\, ab 15.00 bis 18.00 Uhr\nÖffnungszeit der Umweltbibliothek Merseburg\nTreffpunkt: Umweltbibliothek Merseburg\, Weiße Mauer 33\, Merseburg
URL:https://www.web-conzept-mn.de/event/oeffnungszeit-der-umweltbibliothek-merseburg-53/
LOCATION:Umweltbibliothek Merseburg\, Weiße Mauer 33\, Merseburg\, 06217\, Deutschland
ORGANIZER;CN="AHA Halle (Saale) e.V.%2C UB Merseburg":MAILTO:ubm2021@yahoo.com
END:VEVENT
END:VCALENDAR