BEGIN:VCALENDAR
VERSION:2.0
PRODID:-//Arbeitskreis Hallesche Auenwälder zu Halle / Saale e.V. (AHA) - ECPv6.15.18//NONSGML v1.0//EN
CALSCALE:GREGORIAN
METHOD:PUBLISH
X-ORIGINAL-URL:https://www.web-conzept-mn.de
X-WR-CALDESC:Veranstaltungen für Arbeitskreis Hallesche Auenwälder zu Halle / Saale e.V. (AHA)
REFRESH-INTERVAL;VALUE=DURATION:PT1H
X-Robots-Tag:noindex
X-PUBLISHED-TTL:PT1H
BEGIN:VTIMEZONE
TZID:Europe/Helsinki
BEGIN:DAYLIGHT
TZOFFSETFROM:+0200
TZOFFSETTO:+0300
TZNAME:EEST
DTSTART:20220327T010000
END:DAYLIGHT
BEGIN:STANDARD
TZOFFSETFROM:+0300
TZOFFSETTO:+0200
TZNAME:EET
DTSTART:20221030T010000
END:STANDARD
BEGIN:DAYLIGHT
TZOFFSETFROM:+0200
TZOFFSETTO:+0300
TZNAME:EEST
DTSTART:20230326T010000
END:DAYLIGHT
BEGIN:STANDARD
TZOFFSETFROM:+0300
TZOFFSETTO:+0200
TZNAME:EET
DTSTART:20231029T010000
END:STANDARD
BEGIN:DAYLIGHT
TZOFFSETFROM:+0200
TZOFFSETTO:+0300
TZNAME:EEST
DTSTART:20240331T010000
END:DAYLIGHT
BEGIN:STANDARD
TZOFFSETFROM:+0300
TZOFFSETTO:+0200
TZNAME:EET
DTSTART:20241027T010000
END:STANDARD
END:VTIMEZONE
BEGIN:VEVENT
DTSTART;TZID=Europe/Helsinki:20231103T150000
DTEND;TZID=Europe/Helsinki:20231103T180000
DTSTAMP:20260421T104525
CREATED:20230705T103316Z
LAST-MODIFIED:20230705T103316Z
UID:42835-1699023600-1699034400@www.web-conzept-mn.de
SUMMARY:Öffnungszeit der Umweltbibliothek Merseburg
DESCRIPTION:Freitag\, den 03.11.\, ab 15.00 bis 18.00 Uhr\nÖffnungszeit der Umweltbibliothek Merseburg\nTreffpunkt: Umweltbibliothek Merseburg\, Weiße Mauer 33\, Merseburg
URL:https://www.web-conzept-mn.de/event/oeffnungszeit-der-umweltbibliothek-merseburg-46/
LOCATION:Umweltbibliothek Merseburg\, Weiße Mauer 33\, Merseburg\, 06217\, Deutschland
ORGANIZER;CN="AHA Halle (Saale) e.V.%2C UB Merseburg":MAILTO:ubm2021@yahoo.com
END:VEVENT
BEGIN:VEVENT
DTSTART;TZID=Europe/Helsinki:20231104T100000
DTEND;TZID=Europe/Helsinki:20231104T133000
DTSTAMP:20260421T104525
CREATED:20230705T003022Z
LAST-MODIFIED:20230705T003022Z
UID:42709-1699092000-1699104600@www.web-conzept-mn.de
SUMMARY:Herbstexkursion in die Pleiße-Elster-Aue in der Stadt Leipzig
DESCRIPTION:Samstag\, den 04.11.\, um 10.00 Uhr\nHerbstexkursion in die Pleiße-Elster-Aue in der Stadt Leipzig\nTreffpunkt: Haltestelle „Koburger Brücke“ (Bus 70: Richtung „Markleeberg-West“)\nEndpunkt: Hauptbahnhof Leipzig\nDauer: ca. 3\,5 Stunden
URL:https://www.web-conzept-mn.de/event/herbstexkursion-in-die-pleisse-elster-aue-in-der-stadt-leipzig-2/
END:VEVENT
BEGIN:VEVENT
DTSTART;TZID=Europe/Helsinki:20231104T100000
DTEND;TZID=Europe/Helsinki:20231104T140000
DTSTAMP:20260421T104525
CREATED:20230705T093721Z
LAST-MODIFIED:20230705T093721Z
UID:42792-1699092000-1699106400@www.web-conzept-mn.de
SUMMARY:Erfassung der Avifauna des Erlen-Eschenwalds "Reudener Busch"
DESCRIPTION:Samstag\, den 04.11.\, um 10.00 UhrErfassung der Avifauna des Erlen-Eschenwalds „Reudener Busch“Beobachtung der im Gebiet vorkommenden Vogelarten mit dem Fernglas und schriftli­che Erfassung der gesichteten Tiere in Listen\nBitte bringen Sie ihr eigenes Fernglas mit. Leider können wir Ihnen keine Ferngläser zur Verfügung stel­len. Das betrifft auch Klemmbretter.Treffpunkt: Bahnhof WolfenDauer: ca. 4 Stunden
URL:https://www.web-conzept-mn.de/event/erfassung-der-avifauna-des-erlen-eschenwalds-reudener-busch-3/
END:VEVENT
BEGIN:VEVENT
DTSTART;TZID=Europe/Helsinki:20231106T190000
DTEND;TZID=Europe/Helsinki:20231106T213000
DTSTAMP:20260421T104525
CREATED:20230705T010044Z
LAST-MODIFIED:20230705T010044Z
UID:42743-1699297200-1699306200@www.web-conzept-mn.de
SUMMARY:Mitgliederversammlung
DESCRIPTION:Montag\, den 06.11.\, um 19.00 UhrMitgliederversammlungTreffpunkt: Versammlungsraum Reformhaus\, Große Klausstraße 11
URL:https://www.web-conzept-mn.de/event/mitgliederversammlung-17/
LOCATION:Refomhaus – Haus der Bewegungen\, Große Klausstraße 11\, Halle (Saale)\, 06108\, Deutschland
END:VEVENT
BEGIN:VEVENT
DTSTART;TZID=Europe/Helsinki:20231110T150000
DTEND;TZID=Europe/Helsinki:20231110T180000
DTSTAMP:20260421T104525
CREATED:20230705T103430Z
LAST-MODIFIED:20230705T103430Z
UID:42837-1699628400-1699639200@www.web-conzept-mn.de
SUMMARY:Öffnungszeit der Umweltbibliothek Merseburg
DESCRIPTION:Freitag\, den 10.11.\, ab 15.00 bis 18.00 Uhr\nÖffnungszeit der Umweltbibliothek Merseburg\nTreffpunkt: Umweltbibliothek Merseburg\, Weiße Mauer 33\, Merseburg
URL:https://www.web-conzept-mn.de/event/oeffnungszeit-der-umweltbibliothek-merseburg-47/
LOCATION:Umweltbibliothek Merseburg\, Weiße Mauer 33\, Merseburg\, 06217\, Deutschland
ORGANIZER;CN="AHA Halle (Saale) e.V.%2C UB Merseburg":MAILTO:ubm2021@yahoo.com
END:VEVENT
BEGIN:VEVENT
DTSTART;TZID=Europe/Helsinki:20231111T100000
DTEND;TZID=Europe/Helsinki:20231111T140000
DTSTAMP:20260421T104525
CREATED:20230705T004630Z
LAST-MODIFIED:20230705T004630Z
UID:42729-1699696800-1699711200@www.web-conzept-mn.de
SUMMARY:Arbeitseinsatz auf der Streuobstwiese „Am Landhaus“
DESCRIPTION:Samstag\, den 11.11.\, um 10.00 UhrArbeitseinsatz auf der Streuobstwiese „Am Landhaus“Treffpunkt: Pension „Landhaus“ Dessau
URL:https://www.web-conzept-mn.de/event/arbeitseinsatz-auf-der-streuobstwiese-am-landhaus-6/
LOCATION:Streuobstwiese Landhaus Dessau\, Landhaus 1\, Dessau-Roßlau\, 06844\, Deutschland
END:VEVENT
BEGIN:VEVENT
DTSTART;TZID=Europe/Helsinki:20231111T100000
DTEND;TZID=Europe/Helsinki:20231111T140000
DTSTAMP:20260421T104525
CREATED:20230705T005037Z
LAST-MODIFIED:20230705T005037Z
UID:42733-1699696800-1699711200@www.web-conzept-mn.de
SUMMARY:Arbeitseinsatz auf dem Forstwerder
DESCRIPTION:Samstag\, den 11.11.\, um 10.00 Uhr\nArbeitseinsatz auf dem Forstwerder\nTreffpunkt: Bogenbrücke zum Forstwerder\, Pfarrstraße\, Halle-Trotha
URL:https://www.web-conzept-mn.de/event/arbeitseinsatz-auf-dem-forstwerder-4/
LOCATION:Forstwerder\, Halle (Saale)
END:VEVENT
BEGIN:VEVENT
DTSTART;TZID=Europe/Helsinki:20231117T150000
DTEND;TZID=Europe/Helsinki:20231117T180000
DTSTAMP:20260421T104525
CREATED:20230705T103546Z
LAST-MODIFIED:20230705T103546Z
UID:42839-1700233200-1700244000@www.web-conzept-mn.de
SUMMARY:Öffnungszeit der Umweltbibliothek Merseburg
DESCRIPTION:Freitag\, den 17.11.\, ab 15.00 bis 18.00 Uhr\nÖffnungszeit der Umweltbibliothek Merseburg\nTreffpunkt: Umweltbibliothek Merseburg\, Weiße Mauer 33\, Merseburg
URL:https://www.web-conzept-mn.de/event/oeffnungszeit-der-umweltbibliothek-merseburg-48/
LOCATION:Umweltbibliothek Merseburg\, Weiße Mauer 33\, Merseburg\, 06217\, Deutschland
ORGANIZER;CN="AHA Halle (Saale) e.V.%2C UB Merseburg":MAILTO:ubm2021@yahoo.com
END:VEVENT
BEGIN:VEVENT
DTSTART;TZID=Europe/Helsinki:20231118T100000
DTEND;TZID=Europe/Helsinki:20231118T140000
DTSTAMP:20260421T104525
CREATED:20230705T094040Z
LAST-MODIFIED:20230705T094040Z
UID:42796-1700301600-1700316000@www.web-conzept-mn.de
SUMMARY:Erfassung der Avifauna des Salegaster Forstes
DESCRIPTION:Samstag\, den 18.11.\, um 10.00 Uhr\nErfassung der Avifauna des Salegaster Forstes\nBeobachtung der im Gebiet vorkommenden Vogelarten mit dem Fernglas und schriftliche Erfassung der gesichteten Tiere in Listen\nTreffpunkt: Bahnhof Wolfen\nDauer: ca. 4 Stunden
URL:https://www.web-conzept-mn.de/event/erfassung-der-avifauna-des-salegaster-forstes-3/
END:VEVENT
BEGIN:VEVENT
DTSTART;TZID=Europe/Helsinki:20231118T100000
DTEND;TZID=Europe/Helsinki:20231118T150000
DTSTAMP:20260421T104525
CREATED:20230705T003148Z
LAST-MODIFIED:20230705T003148Z
UID:42711-1700301600-1700319600@www.web-conzept-mn.de
SUMMARY:Herbstrundexkursion durch die Saaleauenlandschaft
DESCRIPTION:Samstag\, den 18.11.\, um 10.00 Uhr\nHerbstrundexkursion durch die Saaleauenlandschaft\nzwischen Merseburg (Gotthardteich\, Rischmühleninsel)\, entlang der Al­ten Saale (Wehr-Ruine Werder) und Leuna (Waldbad) mit Abschluss und anschließende Auswertung in der Umweltbibliothek Merseburg „Jürgen Bernt-Bärtl“\, inklusive Bestimmungen mit Hilfe Fachliteratur und Mikro­skop\nTreffpunkt: Bahnhof Merseburg\nDauer: ca. 5 Stunden
URL:https://www.web-conzept-mn.de/event/herbstrundexkursion-durch-die-saaleauenlandschaft-2/
END:VEVENT
BEGIN:VEVENT
DTSTART;TZID=Europe/Helsinki:20231124T150000
DTEND;TZID=Europe/Helsinki:20231124T180000
DTSTAMP:20260421T104525
CREATED:20230705T103704Z
LAST-MODIFIED:20230705T103704Z
UID:42841-1700838000-1700848800@www.web-conzept-mn.de
SUMMARY:Öffnungszeit der Umweltbibliothek Merseburg
DESCRIPTION:Freitag\, den 24.11.\, ab 15.00 bis 18.00 Uhr\nÖffnungszeit der Umweltbibliothek Merseburg\nTreffpunkt: Umweltbibliothek Merseburg\, Weiße Mauer 33\, Merseburg
URL:https://www.web-conzept-mn.de/event/oeffnungszeit-der-umweltbibliothek-merseburg-49/
LOCATION:Umweltbibliothek Merseburg\, Weiße Mauer 33\, Merseburg\, 06217\, Deutschland
ORGANIZER;CN="AHA Halle (Saale) e.V.%2C UB Merseburg":MAILTO:ubm2021@yahoo.com
END:VEVENT
BEGIN:VEVENT
DTSTART;TZID=Europe/Helsinki:20231125T100000
DTEND;TZID=Europe/Helsinki:20231125T133000
DTSTAMP:20260421T104525
CREATED:20230705T003329Z
LAST-MODIFIED:20230705T003329Z
UID:42713-1700906400-1700919000@www.web-conzept-mn.de
SUMMARY:Herbstexkursion zur Burgaue in der Stadt Leipzig
DESCRIPTION:Samstag\, den 25.11.\, um 10.00 Uhr\nHerbstexkursion zur Burgaue in der Stadt Leipzig\nTreffpunkt: Haus „Auensee“\, Leipzig-Wahren\nDauer: ca. 3\,5 Stunden
URL:https://www.web-conzept-mn.de/event/herbstexkursion-zur-burgaue-in-der-stadt-leipzig-2/
END:VEVENT
BEGIN:VEVENT
DTSTART;TZID=Europe/Helsinki:20231125T100000
DTEND;TZID=Europe/Helsinki:20231125T140000
DTSTAMP:20260421T104525
CREATED:20230705T093326Z
LAST-MODIFIED:20230705T093326Z
UID:42787-1700906400-1700920800@www.web-conzept-mn.de
SUMMARY:Erfassung der Avifauna des Auenrestwaldes “Wolfener Busch”
DESCRIPTION:Samstag\, den 25.11.\, um 10.00 Uhr\nErfassung der Avifauna des Auenrestwaldes “Wolfener Busch”\nBeobachtung der im Gebiet vorkommenden Vogelarten mit dem Fernglas und schriftli­che Erfassung der gesichteten Tiere in Listen\nBitte bringen Sie ihr eigenes Fernglas mit. Leider können wir Ihnen keine Ferngläser zur Verfügung stel­len. Das betrifft auch Klemmbretter.\nTreffpunkt: Bahnhof Wolfen\nDauer: ca. 4 Stunden
URL:https://www.web-conzept-mn.de/event/erfassung-der-avifauna-des-auenrestwaldes-wolfener-busch-5/
END:VEVENT
BEGIN:VEVENT
DTSTART;TZID=Europe/Helsinki:20231127T190000
DTEND;TZID=Europe/Helsinki:20231127T213000
DTSTAMP:20260421T104525
CREATED:20230705T012226Z
LAST-MODIFIED:20230705T012226Z
UID:42758-1701111600-1701120600@www.web-conzept-mn.de
SUMMARY:Versammlung der Initiative “Pro Baum”
DESCRIPTION:Montag\, den 27.11.\, um 19.00 Uhr\nVersammlung der Initiative “Pro Baum”\nTreffpunkt: Versammlungsraum Reformhaus\, Große Klausstraße 11
URL:https://www.web-conzept-mn.de/event/versammlung-der-initiative-pro-baum-15/
LOCATION:Refomhaus – Haus der Bewegungen\, Große Klausstraße 11\, Halle (Saale)\, 06108\, Deutschland
END:VEVENT
END:VCALENDAR