BEGIN:VCALENDAR
VERSION:2.0
PRODID:-//Arbeitskreis Hallesche Auenwälder zu Halle / Saale e.V. (AHA) - ECPv6.15.18//NONSGML v1.0//EN
CALSCALE:GREGORIAN
METHOD:PUBLISH
X-WR-CALNAME:Arbeitskreis Hallesche Auenwälder zu Halle / Saale e.V. (AHA)
X-ORIGINAL-URL:https://www.web-conzept-mn.de
X-WR-CALDESC:Veranstaltungen für Arbeitskreis Hallesche Auenwälder zu Halle / Saale e.V. (AHA)
REFRESH-INTERVAL;VALUE=DURATION:PT1H
X-Robots-Tag:noindex
X-PUBLISHED-TTL:PT1H
BEGIN:VTIMEZONE
TZID:Europe/Helsinki
BEGIN:DAYLIGHT
TZOFFSETFROM:+0200
TZOFFSETTO:+0300
TZNAME:EEST
DTSTART:20250330T010000
END:DAYLIGHT
BEGIN:STANDARD
TZOFFSETFROM:+0300
TZOFFSETTO:+0200
TZNAME:EET
DTSTART:20251026T010000
END:STANDARD
BEGIN:DAYLIGHT
TZOFFSETFROM:+0200
TZOFFSETTO:+0300
TZNAME:EEST
DTSTART:20260329T010000
END:DAYLIGHT
BEGIN:STANDARD
TZOFFSETFROM:+0300
TZOFFSETTO:+0200
TZNAME:EET
DTSTART:20261025T010000
END:STANDARD
BEGIN:DAYLIGHT
TZOFFSETFROM:+0200
TZOFFSETTO:+0300
TZNAME:EEST
DTSTART:20270328T010000
END:DAYLIGHT
BEGIN:STANDARD
TZOFFSETFROM:+0300
TZOFFSETTO:+0200
TZNAME:EET
DTSTART:20271031T010000
END:STANDARD
END:VTIMEZONE
BEGIN:VEVENT
DTSTART;TZID=Europe/Helsinki:20261219T100000
DTEND;TZID=Europe/Helsinki:20261219T140000
DTSTAMP:20260425T030339
CREATED:20251221T120220Z
LAST-MODIFIED:20251221T120220Z
UID:63888-1797674400-1797688800@www.web-conzept-mn.de
SUMMARY:Erfassung der Avifauna des Auenrestwald "Wolfener Busch"
DESCRIPTION:Samstag\, den 19.12.\, um 10.00 UhrErfassung der Avifauna des Auenrestwald „Wolfener Busch“\nBeobachtung der im Gebiet vorkommenden Vogelarten mit dem Fernglas und schriftli­che Erfassung der gesichteten Tiere in Listen\nBitte bringen Sie ihr eigenes Fernglas mit. Leider können wir Ihnen keine Ferngläser zur Verfügung stel­len. Das betrifft auch Klemmbretter.\nVoranmeldung bis spätestens 22.00 Uhr am Freitag\, dem 18.12.2026\, unter: 0176 – 568 796 31\nTreffpunkt: Bahnhof WolfenDauer: ca. 4 Stunden
URL:https://www.web-conzept-mn.de/event/erfassung-der-avifauna-des-auenrestwald-wolfener-busch-17/
END:VEVENT
BEGIN:VEVENT
DTSTART;TZID=Europe/Helsinki:20261219T100000
DTEND;TZID=Europe/Helsinki:20261219T150000
DTSTAMP:20260425T030339
CREATED:20251220T132034Z
LAST-MODIFIED:20251220T132034Z
UID:63842-1797674400-1797692400@www.web-conzept-mn.de
SUMMARY:Herbstexkursion in und um Kröllwitz
DESCRIPTION:Samstag\, den 12.12.\, um 10.00 Uhr\nHerbstexkursion in und um Kröllwitz\nüber den Amselgrund und die Kreuzer Teiche\, zu den Brandbergen\, zum Hechtgraben\, zur Kiesgrube Kröllwitz\, zum Saalwerder\, zum Ochsenberg und zum Park der früheren Papierfabrik Kröllwitz\nTreffpunkt: Eingang Bergschenke\, Kröllwitzer Straße\, Halle (Saale)\nDauer: ca. 5 Stunden
URL:https://www.web-conzept-mn.de/event/herbstexkursion-in-und-um-kroellwitz-5/
END:VEVENT
END:VCALENDAR