BEGIN:VCALENDAR
VERSION:2.0
PRODID:-//Arbeitskreis Hallesche Auenwälder zu Halle / Saale e.V. (AHA) - ECPv6.15.18//NONSGML v1.0//EN
CALSCALE:GREGORIAN
METHOD:PUBLISH
X-WR-CALNAME:Arbeitskreis Hallesche Auenwälder zu Halle / Saale e.V. (AHA)
X-ORIGINAL-URL:https://www.web-conzept-mn.de
X-WR-CALDESC:Veranstaltungen für Arbeitskreis Hallesche Auenwälder zu Halle / Saale e.V. (AHA)
REFRESH-INTERVAL;VALUE=DURATION:PT1H
X-Robots-Tag:noindex
X-PUBLISHED-TTL:PT1H
BEGIN:VTIMEZONE
TZID:Europe/Helsinki
BEGIN:DAYLIGHT
TZOFFSETFROM:+0200
TZOFFSETTO:+0300
TZNAME:EEST
DTSTART:20250330T010000
END:DAYLIGHT
BEGIN:STANDARD
TZOFFSETFROM:+0300
TZOFFSETTO:+0200
TZNAME:EET
DTSTART:20251026T010000
END:STANDARD
BEGIN:DAYLIGHT
TZOFFSETFROM:+0200
TZOFFSETTO:+0300
TZNAME:EEST
DTSTART:20260329T010000
END:DAYLIGHT
BEGIN:STANDARD
TZOFFSETFROM:+0300
TZOFFSETTO:+0200
TZNAME:EET
DTSTART:20261025T010000
END:STANDARD
BEGIN:DAYLIGHT
TZOFFSETFROM:+0200
TZOFFSETTO:+0300
TZNAME:EEST
DTSTART:20270328T010000
END:DAYLIGHT
BEGIN:STANDARD
TZOFFSETFROM:+0300
TZOFFSETTO:+0200
TZNAME:EET
DTSTART:20271031T010000
END:STANDARD
END:VTIMEZONE
BEGIN:VEVENT
DTSTART;TZID=Europe/Helsinki:20261024T100000
DTEND;TZID=Europe/Helsinki:20261024T150000
DTSTAMP:20260424T234818
CREATED:20251220T124615Z
LAST-MODIFIED:20251220T124615Z
UID:63829-1792836000-1792854000@www.web-conzept-mn.de
SUMMARY:Rundexkursion in das Unterluch in Dessau-Roßlau
DESCRIPTION:Samstag\, den 24.10.\, um 10.00 Uhr\nRundexkursion in das Unterluch in Dessau-Roßlau\nmit Aufenthalt an der Mündung der Rossel in die Elbe sowie Blick zum NSG „Saalberghau“ und zur Mündung der Mulde in die Elbe\nTreffpunkt: Bahnhof Roßlau\nDauer: ca. 5 Stunden
URL:https://www.web-conzept-mn.de/event/rundexkursion-in-das-unterluch-in-dessau-rosslau-3/
END:VEVENT
END:VCALENDAR