BEGIN:VCALENDAR
VERSION:2.0
PRODID:-//Arbeitskreis Hallesche Auenwälder zu Halle / Saale e.V. (AHA) - ECPv6.15.18//NONSGML v1.0//EN
CALSCALE:GREGORIAN
METHOD:PUBLISH
X-ORIGINAL-URL:https://www.web-conzept-mn.de
X-WR-CALDESC:Veranstaltungen für Arbeitskreis Hallesche Auenwälder zu Halle / Saale e.V. (AHA)
REFRESH-INTERVAL;VALUE=DURATION:PT1H
X-Robots-Tag:noindex
X-PUBLISHED-TTL:PT1H
BEGIN:VTIMEZONE
TZID:Europe/Helsinki
BEGIN:DAYLIGHT
TZOFFSETFROM:+0200
TZOFFSETTO:+0300
TZNAME:EEST
DTSTART:20250330T010000
END:DAYLIGHT
BEGIN:STANDARD
TZOFFSETFROM:+0300
TZOFFSETTO:+0200
TZNAME:EET
DTSTART:20251026T010000
END:STANDARD
BEGIN:DAYLIGHT
TZOFFSETFROM:+0200
TZOFFSETTO:+0300
TZNAME:EEST
DTSTART:20260329T010000
END:DAYLIGHT
BEGIN:STANDARD
TZOFFSETFROM:+0300
TZOFFSETTO:+0200
TZNAME:EET
DTSTART:20261025T010000
END:STANDARD
BEGIN:DAYLIGHT
TZOFFSETFROM:+0200
TZOFFSETTO:+0300
TZNAME:EEST
DTSTART:20270328T010000
END:DAYLIGHT
BEGIN:STANDARD
TZOFFSETFROM:+0300
TZOFFSETTO:+0200
TZNAME:EET
DTSTART:20271031T010000
END:STANDARD
END:VTIMEZONE
BEGIN:VEVENT
DTSTART;TZID=Europe/Helsinki:20260822T100000
DTEND;TZID=Europe/Helsinki:20260822T140000
DTSTAMP:20260424T185602
CREATED:20251221T123329Z
LAST-MODIFIED:20251221T123329Z
UID:63912-1787392800-1787407200@www.web-conzept-mn.de
SUMMARY:Erfassung der Entomofauna des Salegaster Forsts
DESCRIPTION:Samstag\, den 22.08.\, um 10.00 UhrErfassung der Entomofauna des Salegaster Forsts\nBeobachtung der im Gebiet vorkommenden Insekten und Spinnen mit dem Luppen und schriftli­che Erfassung der gesichteten Tiere in Listen\nBitte bringen Sie ihre eigene Lupe mit. Leider können wir Ihnen keine Lupen zur Verfügung stel­len. Das betrifft auch Klemmbretter.\nVoranmeldung bis spätestens 22.00 Uhr am Freitag\, dem 21.08.2026\, unter: 0176 – 568 796 31\nTreffpunkt: Bahnhof WolfenDauer: ca. 4 Stunden
URL:https://www.web-conzept-mn.de/event/erfassung-der-entomofauna-des-salegaster-forsts-8/
LOCATION:Salegaster Forst\, Bitterfeld-Wolfen
END:VEVENT
BEGIN:VEVENT
DTSTART;TZID=Europe/Helsinki:20260822T120000
DTEND;TZID=Europe/Helsinki:20260822T200000
DTSTAMP:20260424T185602
CREATED:20251219T112221Z
LAST-MODIFIED:20251219T112221Z
UID:63809-1787400000-1787428800@www.web-conzept-mn.de
SUMMARY:Ganztagesradexkursion entlang der Selke
DESCRIPTION:Samstag\, den 22.08.\, um 12.00 Uhr\nGanztagesradexkursion entlang der Selke\nab Quellgebiet bei Stiege bis zur Parkanlage zum „Oberhof“ der ehemali­gen preußischen Staatsdomäne in Gatersleben\nTreffpunkt: Bahnhof Stiege\nEnde: Bahnhof in Gatersleben\nDauer: ca. 8 Stunden
URL:https://www.web-conzept-mn.de/event/ganztagesradexkursion-entlang-der-selke-5/
END:VEVENT
END:VCALENDAR