BEGIN:VCALENDAR
VERSION:2.0
PRODID:-//Arbeitskreis Hallesche Auenwälder zu Halle / Saale e.V. (AHA) - ECPv6.15.18//NONSGML v1.0//EN
CALSCALE:GREGORIAN
METHOD:PUBLISH
X-ORIGINAL-URL:https://www.web-conzept-mn.de
X-WR-CALDESC:Veranstaltungen für Arbeitskreis Hallesche Auenwälder zu Halle / Saale e.V. (AHA)
REFRESH-INTERVAL;VALUE=DURATION:PT1H
X-Robots-Tag:noindex
X-PUBLISHED-TTL:PT1H
BEGIN:VTIMEZONE
TZID:Europe/Helsinki
BEGIN:DAYLIGHT
TZOFFSETFROM:+0200
TZOFFSETTO:+0300
TZNAME:EEST
DTSTART:20250330T010000
END:DAYLIGHT
BEGIN:STANDARD
TZOFFSETFROM:+0300
TZOFFSETTO:+0200
TZNAME:EET
DTSTART:20251026T010000
END:STANDARD
BEGIN:DAYLIGHT
TZOFFSETFROM:+0200
TZOFFSETTO:+0300
TZNAME:EEST
DTSTART:20260329T010000
END:DAYLIGHT
BEGIN:STANDARD
TZOFFSETFROM:+0300
TZOFFSETTO:+0200
TZNAME:EET
DTSTART:20261025T010000
END:STANDARD
BEGIN:DAYLIGHT
TZOFFSETFROM:+0200
TZOFFSETTO:+0300
TZNAME:EEST
DTSTART:20270328T010000
END:DAYLIGHT
BEGIN:STANDARD
TZOFFSETFROM:+0300
TZOFFSETTO:+0200
TZNAME:EET
DTSTART:20271031T010000
END:STANDARD
END:VTIMEZONE
BEGIN:VEVENT
DTSTART;TZID=Europe/Helsinki:20260606T100000
DTEND;TZID=Europe/Helsinki:20260606T140000
DTSTAMP:20260424T152254
CREATED:20251221T114648Z
LAST-MODIFIED:20251221T131834Z
UID:63875-1780740000-1780754400@www.web-conzept-mn.de
SUMMARY:Wanderexkursion anlässlich des Tages der Umwelt zum Erlen-Eschen-Wald „Reudener Busch“
DESCRIPTION:Samstag\, den 06.06.\, um 10.00 Uhr\nWanderexkursion anlässlich des Tages der Umwelt (vom 05.06.2026) zum Erlen-Eschen-Wald „Reudener Busch“\nRoute: Eisenbahnstraße (Wolfen)\, Naherholungsgebiet „Fuhneaue“ Wolfen\, vorbei an der Gaststätte „Am Rodelberg“\, Kleingartensparte „Am Betonwerk“ e.V.\, Fuhnetalweg\nTreffpunkt: Bahnhof Wolfen\nDauer: ca. 4 Stunden \nVoranmeldung bis spätestens 22.00 Uhr am Freitag\, dem 05.06.2026\, unter: 0176 – 568 796 31
URL:https://www.web-conzept-mn.de/event/wanderexkursion-anlaesslich-des-tages-der-umwelt-zum-erlen-eschen-wald-reudener-busch/
END:VEVENT
BEGIN:VEVENT
DTSTART;TZID=Europe/Helsinki:20260606T100000
DTEND;TZID=Europe/Helsinki:20260606T150000
DTSTAMP:20260424T152254
CREATED:20251219T105412Z
LAST-MODIFIED:20251219T105412Z
UID:63791-1780740000-1780758000@www.web-conzept-mn.de
SUMMARY:Fahrradexkursion anlässlich des Tages der Umwelt (05.06.)
DESCRIPTION:Samstag\, den 06.06.\, um 10.00 Uhr\nFahrradexkursion anlässlich des Tages der Umwelt (05.06.)\nzur Fuhne-Mündung in die Saale in Bernburg\nüber den Ziethebusch\, zur Ziethe und zum Mündungsbereich in die Fuh­ne bei Plömnitz sowie entlang der Fuhne\nTreffpunkt: Bahnhof Köthen\nEnde: Bahnhof Bernburg\nDauer: ca. 5 Stunden
URL:https://www.web-conzept-mn.de/event/fahrradexkursion-anlaesslich-des-tages-der-umwelt-05-06-2/
END:VEVENT
END:VCALENDAR