BEGIN:VCALENDAR
VERSION:2.0
PRODID:-//Arbeitskreis Hallesche Auenwälder zu Halle / Saale e.V. (AHA) - ECPv6.15.18//NONSGML v1.0//EN
CALSCALE:GREGORIAN
METHOD:PUBLISH
X-ORIGINAL-URL:https://www.web-conzept-mn.de
X-WR-CALDESC:Veranstaltungen für Arbeitskreis Hallesche Auenwälder zu Halle / Saale e.V. (AHA)
REFRESH-INTERVAL;VALUE=DURATION:PT1H
X-Robots-Tag:noindex
X-PUBLISHED-TTL:PT1H
BEGIN:VTIMEZONE
TZID:Europe/Helsinki
BEGIN:DAYLIGHT
TZOFFSETFROM:+0200
TZOFFSETTO:+0300
TZNAME:EEST
DTSTART:20250330T010000
END:DAYLIGHT
BEGIN:STANDARD
TZOFFSETFROM:+0300
TZOFFSETTO:+0200
TZNAME:EET
DTSTART:20251026T010000
END:STANDARD
BEGIN:DAYLIGHT
TZOFFSETFROM:+0200
TZOFFSETTO:+0300
TZNAME:EEST
DTSTART:20260329T010000
END:DAYLIGHT
BEGIN:STANDARD
TZOFFSETFROM:+0300
TZOFFSETTO:+0200
TZNAME:EET
DTSTART:20261025T010000
END:STANDARD
BEGIN:DAYLIGHT
TZOFFSETFROM:+0200
TZOFFSETTO:+0300
TZNAME:EEST
DTSTART:20270328T010000
END:DAYLIGHT
BEGIN:STANDARD
TZOFFSETFROM:+0300
TZOFFSETTO:+0200
TZNAME:EET
DTSTART:20271031T010000
END:STANDARD
END:VTIMEZONE
BEGIN:VEVENT
DTSTART;TZID=Europe/Helsinki:20260509T100000
DTEND;TZID=Europe/Helsinki:20260509T140000
DTSTAMP:20260424T135707
CREATED:20251221T121912Z
LAST-MODIFIED:20251221T121912Z
UID:63898-1778320800-1778335200@www.web-conzept-mn.de
SUMMARY:Erfassung der Avifauna des Naherholungsgebietes Fuhneaue Wolfen mit dem Gondelteich
DESCRIPTION:Samstag\, den 09.05.\, um 10.00 Uhr\nErfassung der Avifauna des Naherholungsgebietes Fuhneaue Wolfen mit dem Gondelteich\nBeobachtung der im Gebiet vorkommenden Vogelarten mit dem Fernglas und schriftliche Erfassung der gesichteten Tiere in Listen\nBitte bringen Sie ihr eigenes Fernglas mit. Leider können wir Ihnen kein Fernglas zur Verfügung stel­len. Das betrifft auch Klemmbretter.\nVoranmeldung bis spätestens 22.00 Uhr am Freitag\, dem 08.05.2026\, unter: 0176 – 568 796 31\nTreffpunkt: Bahnhof Wolfen\nDauer: ca. 4 Stunden
URL:https://www.web-conzept-mn.de/event/erfassung-der-avifauna-des-naherholungsgebietes-fuhneaue-wolfen-mit-dem-gondelteich-4/
END:VEVENT
BEGIN:VEVENT
DTSTART;TZID=Europe/Helsinki:20260509T100000
DTEND;TZID=Europe/Helsinki:20260509T160000
DTSTAMP:20260424T135707
CREATED:20251219T103309Z
LAST-MODIFIED:20251219T103309Z
UID:63781-1778320800-1778342400@www.web-conzept-mn.de
SUMMARY:Fahrradexkursion durch die Aue der Weißen Elster
DESCRIPTION:Samstag\, den 09.05.\, um 10.00 Uhr\nFahrradexkursion durch die Aue der Weißen Elster\nzwischen Zeitz und Leipzig bis zur Einmündung der Pleiße in die Weiße Elster am Leipziger Eck\nTreffpunkt: Bahnhof Zeitz\, Ausgang Baenschstraße\nDauer: ca. 6 Stunden
URL:https://www.web-conzept-mn.de/event/fahrradexkursion-durch-die-aue-der-weissen-elster-5/
END:VEVENT
END:VCALENDAR