BEGIN:VCALENDAR
VERSION:2.0
PRODID:-//Arbeitskreis Hallesche Auenwälder zu Halle / Saale e.V. (AHA) - ECPv6.15.18//NONSGML v1.0//EN
CALSCALE:GREGORIAN
METHOD:PUBLISH
X-WR-CALNAME:Arbeitskreis Hallesche Auenwälder zu Halle / Saale e.V. (AHA)
X-ORIGINAL-URL:https://www.web-conzept-mn.de
X-WR-CALDESC:Veranstaltungen für Arbeitskreis Hallesche Auenwälder zu Halle / Saale e.V. (AHA)
REFRESH-INTERVAL;VALUE=DURATION:PT1H
X-Robots-Tag:noindex
X-PUBLISHED-TTL:PT1H
BEGIN:VTIMEZONE
TZID:Europe/Helsinki
BEGIN:DAYLIGHT
TZOFFSETFROM:+0200
TZOFFSETTO:+0300
TZNAME:EEST
DTSTART:20250330T010000
END:DAYLIGHT
BEGIN:STANDARD
TZOFFSETFROM:+0300
TZOFFSETTO:+0200
TZNAME:EET
DTSTART:20251026T010000
END:STANDARD
BEGIN:DAYLIGHT
TZOFFSETFROM:+0200
TZOFFSETTO:+0300
TZNAME:EEST
DTSTART:20260329T010000
END:DAYLIGHT
BEGIN:STANDARD
TZOFFSETFROM:+0300
TZOFFSETTO:+0200
TZNAME:EET
DTSTART:20261025T010000
END:STANDARD
BEGIN:DAYLIGHT
TZOFFSETFROM:+0200
TZOFFSETTO:+0300
TZNAME:EEST
DTSTART:20270328T010000
END:DAYLIGHT
BEGIN:STANDARD
TZOFFSETFROM:+0300
TZOFFSETTO:+0200
TZNAME:EET
DTSTART:20271031T010000
END:STANDARD
END:VTIMEZONE
BEGIN:VEVENT
DTSTART;TZID=Europe/Helsinki:20260423T170000
DTEND;TZID=Europe/Helsinki:20260423T200000
DTSTAMP:20260423T014311
CREATED:20251219T101324Z
LAST-MODIFIED:20251219T101324Z
UID:63767-1776963600-1776974400@www.web-conzept-mn.de
SUMMARY:Exkursion zum Tag des Baumes in den Reichardts Garten
DESCRIPTION:Donnerstag\, den 23.04.\, um 17.00 Uhr\nExkursion zum Tag des Baumes in den Reichardts Garten\nEine gemeinsame Exkursion mit Initiative „Pro Baum“\nTreffpunkt: Thomas-Müntzer-Park\, Kurve Friedenstraße\, Halle (Saale)\nDauer: ca. 3 Stunden
URL:https://www.web-conzept-mn.de/event/exkursion-zum-tag-des-baumes-in-den-reichardts-garten/
END:VEVENT
END:VCALENDAR