BEGIN:VCALENDAR
VERSION:2.0
PRODID:-//Arbeitskreis Hallesche Auenwälder zu Halle / Saale e.V. (AHA) - ECPv6.15.18//NONSGML v1.0//EN
CALSCALE:GREGORIAN
METHOD:PUBLISH
X-WR-CALNAME:Arbeitskreis Hallesche Auenwälder zu Halle / Saale e.V. (AHA)
X-ORIGINAL-URL:https://www.web-conzept-mn.de
X-WR-CALDESC:Veranstaltungen für Arbeitskreis Hallesche Auenwälder zu Halle / Saale e.V. (AHA)
REFRESH-INTERVAL;VALUE=DURATION:PT1H
X-Robots-Tag:noindex
X-PUBLISHED-TTL:PT1H
BEGIN:VTIMEZONE
TZID:Europe/Helsinki
BEGIN:DAYLIGHT
TZOFFSETFROM:+0200
TZOFFSETTO:+0300
TZNAME:EEST
DTSTART:20250330T010000
END:DAYLIGHT
BEGIN:STANDARD
TZOFFSETFROM:+0300
TZOFFSETTO:+0200
TZNAME:EET
DTSTART:20251026T010000
END:STANDARD
BEGIN:DAYLIGHT
TZOFFSETFROM:+0200
TZOFFSETTO:+0300
TZNAME:EEST
DTSTART:20260329T010000
END:DAYLIGHT
BEGIN:STANDARD
TZOFFSETFROM:+0300
TZOFFSETTO:+0200
TZNAME:EET
DTSTART:20261025T010000
END:STANDARD
BEGIN:DAYLIGHT
TZOFFSETFROM:+0200
TZOFFSETTO:+0300
TZNAME:EEST
DTSTART:20270328T010000
END:DAYLIGHT
BEGIN:STANDARD
TZOFFSETFROM:+0300
TZOFFSETTO:+0200
TZNAME:EET
DTSTART:20271031T010000
END:STANDARD
END:VTIMEZONE
BEGIN:VEVENT
DTSTART;TZID=Europe/Helsinki:20260228T100000
DTEND;TZID=Europe/Helsinki:20260228T180000
DTSTAMP:20260424T093148
CREATED:20251217T143810Z
LAST-MODIFIED:20251217T143810Z
UID:63724-1772272800-1772301600@www.web-conzept-mn.de
SUMMARY:35 Jahre Arbeitskreis Hallesche Auenwälder zu Halle (Saale) e.V.
DESCRIPTION:Samstag\, den 28.02.\, um 10.00 Uhr\n35 Jahre Arbeitskreis Hallesche Auenwälder zu Halle (Saale) e.V.\nVeranstaltung zum 35. Jahrestag der Gründung des Arbeitskreises Halle­sche Auenwälder zu Halle (Saale) e.V. (AHA) am 23.02.1991 mit Winter­exkursion zur Weißen Elster und Floßgraben\nNäheres wird noch rechtzeitig bekannt gegeben.\nOrt: Klubhaus Crossen\, Hauptstraße 12 in 07613 Crossen
URL:https://www.web-conzept-mn.de/event/35-jahre-arbeitskreis-hallesche-auenwaelder-zu-halle-saale-e-v/
LOCATION:Klubhaus Crossen\, Hauptstraße 12\, Crossen an der Elster\, 07613\, Germany
END:VEVENT
END:VCALENDAR