BEGIN:VCALENDAR
VERSION:2.0
PRODID:-//Arbeitskreis Hallesche Auenwälder zu Halle / Saale e.V. (AHA) - ECPv6.15.18//NONSGML v1.0//EN
CALSCALE:GREGORIAN
METHOD:PUBLISH
X-ORIGINAL-URL:https://www.web-conzept-mn.de
X-WR-CALDESC:Veranstaltungen für Arbeitskreis Hallesche Auenwälder zu Halle / Saale e.V. (AHA)
REFRESH-INTERVAL;VALUE=DURATION:PT1H
X-Robots-Tag:noindex
X-PUBLISHED-TTL:PT1H
BEGIN:VTIMEZONE
TZID:Europe/Helsinki
BEGIN:DAYLIGHT
TZOFFSETFROM:+0200
TZOFFSETTO:+0300
TZNAME:EEST
DTSTART:20250330T010000
END:DAYLIGHT
BEGIN:STANDARD
TZOFFSETFROM:+0300
TZOFFSETTO:+0200
TZNAME:EET
DTSTART:20251026T010000
END:STANDARD
BEGIN:DAYLIGHT
TZOFFSETFROM:+0200
TZOFFSETTO:+0300
TZNAME:EEST
DTSTART:20260329T010000
END:DAYLIGHT
BEGIN:STANDARD
TZOFFSETFROM:+0300
TZOFFSETTO:+0200
TZNAME:EET
DTSTART:20261025T010000
END:STANDARD
BEGIN:DAYLIGHT
TZOFFSETFROM:+0200
TZOFFSETTO:+0300
TZNAME:EEST
DTSTART:20270328T010000
END:DAYLIGHT
BEGIN:STANDARD
TZOFFSETFROM:+0300
TZOFFSETTO:+0200
TZNAME:EET
DTSTART:20271031T010000
END:STANDARD
END:VTIMEZONE
BEGIN:VEVENT
DTSTART;TZID=Europe/Helsinki:20260214T100000
DTEND;TZID=Europe/Helsinki:20260214T140000
DTSTAMP:20260424T093250
CREATED:20251217T143352Z
LAST-MODIFIED:20251217T143352Z
UID:63722-1771063200-1771077600@www.web-conzept-mn.de
SUMMARY:Winterexkursion zur Rabeninsel in Halle (Saale)
DESCRIPTION:Samstag\, den 14.02.\, um 10.00 Uhr\nWinterexkursion zur Rabeninsel in Halle (Saale)\nüber den Holzplatz\, zu den Pulverweiden\, zur Unteren Aue\nTreffpunkt: Ecke Holzplatz/Mansfelder Straße\, Halle (Saale)\nDauer: ca. 4 Stunden
URL:https://www.web-conzept-mn.de/event/winterexkursion-zur-rabeninsel-in-halle-saale-4/
END:VEVENT
BEGIN:VEVENT
DTSTART;TZID=Europe/Helsinki:20260214T100000
DTEND;TZID=Europe/Helsinki:20260214T140000
DTSTAMP:20260424T093250
CREATED:20251221T121736Z
LAST-MODIFIED:20251221T121736Z
UID:63896-1771063200-1771077600@www.web-conzept-mn.de
SUMMARY:Erfassung der Avifauna des Naherholungsgebietes Fuhneaue Wolfen mit dem Gondelteich
DESCRIPTION:Samstag\, den 14.02.\, um 10.00 Uhr\nErfassung der Avifauna des Naherholungsgebietes Fuhneaue Wolfen mit dem Gondelteich\nBeobachtung der im Gebiet vorkommenden Vogelarten mit dem Fernglas und schriftliche Erfassung der gesichteten Tiere in Listen\nBitte bringen Sie ihr eigenes Fernglas mit. Leider können wir Ihnen kein Fernglas zur Verfügung stel­len. Das betrifft auch Klemmbretter.\nVoranmeldung bis spätestens 22.00 Uhr am Freitag\, dem 13.02.2026\, unter: 0176 – 568 796 31\nTreffpunkt: Bahnhof Wolfen\nDauer: ca. 4 Stunden
URL:https://www.web-conzept-mn.de/event/erfassung-der-avifauna-des-naherholungsgebietes-fuhneaue-wolfen-mit-dem-gondelteich-3/
END:VEVENT
END:VCALENDAR