BEGIN:VCALENDAR
VERSION:2.0
PRODID:-//Arbeitskreis Hallesche Auenwälder zu Halle / Saale e.V. (AHA) - ECPv6.15.18//NONSGML v1.0//EN
CALSCALE:GREGORIAN
METHOD:PUBLISH
X-ORIGINAL-URL:https://www.web-conzept-mn.de
X-WR-CALDESC:Veranstaltungen für Arbeitskreis Hallesche Auenwälder zu Halle / Saale e.V. (AHA)
REFRESH-INTERVAL;VALUE=DURATION:PT1H
X-Robots-Tag:noindex
X-PUBLISHED-TTL:PT1H
BEGIN:VTIMEZONE
TZID:Europe/Helsinki
BEGIN:DAYLIGHT
TZOFFSETFROM:+0200
TZOFFSETTO:+0300
TZNAME:EEST
DTSTART:20240331T010000
END:DAYLIGHT
BEGIN:STANDARD
TZOFFSETFROM:+0300
TZOFFSETTO:+0200
TZNAME:EET
DTSTART:20241027T010000
END:STANDARD
BEGIN:DAYLIGHT
TZOFFSETFROM:+0200
TZOFFSETTO:+0300
TZNAME:EEST
DTSTART:20250330T010000
END:DAYLIGHT
BEGIN:STANDARD
TZOFFSETFROM:+0300
TZOFFSETTO:+0200
TZNAME:EET
DTSTART:20251026T010000
END:STANDARD
BEGIN:DAYLIGHT
TZOFFSETFROM:+0200
TZOFFSETTO:+0300
TZNAME:EEST
DTSTART:20260329T010000
END:DAYLIGHT
BEGIN:STANDARD
TZOFFSETFROM:+0300
TZOFFSETTO:+0200
TZNAME:EET
DTSTART:20261025T010000
END:STANDARD
END:VTIMEZONE
BEGIN:VEVENT
DTSTART;TZID=Europe/Helsinki:20251122T100000
DTEND;TZID=Europe/Helsinki:20251122T150000
DTSTAMP:20260424T045455
CREATED:20250325T233638Z
LAST-MODIFIED:20250325T233638Z
UID:57313-1763805600-1763823600@www.web-conzept-mn.de
SUMMARY:Herbstrundexkursion durch die Saaleauenlandschaft
DESCRIPTION:Samstag\, den 22.11.\, um 10.00 Uhr\nHerbstrundexkursion durch die Saaleauenlandschaft\nzwischen Merseburg (Gotthardteich\, Rischmühleninsel)\, entlang der Al­ten Saale (Wehr-Ruine Werder) und Leuna (Waldbad) mit Abschluss und anschließende Auswertung in der Umweltbibliothek Merseburg „Jürgen Bernt-Bärtl“\, inklusive Bestimmungen mit Hilfe Fachliteratur und Mikro­skop\nTreffpunkt: Bahnhof Merseburg\nDauer: ca. 5 Stunden
URL:https://www.web-conzept-mn.de/event/herbstrundexkursion-durch-die-saaleauenlandschaft-4/
END:VEVENT
END:VCALENDAR