BEGIN:VCALENDAR
VERSION:2.0
PRODID:-//Arbeitskreis Hallesche Auenwälder zu Halle / Saale e.V. (AHA) - ECPv6.15.18//NONSGML v1.0//EN
CALSCALE:GREGORIAN
METHOD:PUBLISH
X-ORIGINAL-URL:https://www.web-conzept-mn.de
X-WR-CALDESC:Veranstaltungen für Arbeitskreis Hallesche Auenwälder zu Halle / Saale e.V. (AHA)
REFRESH-INTERVAL;VALUE=DURATION:PT1H
X-Robots-Tag:noindex
X-PUBLISHED-TTL:PT1H
BEGIN:VTIMEZONE
TZID:Europe/Helsinki
BEGIN:DAYLIGHT
TZOFFSETFROM:+0200
TZOFFSETTO:+0300
TZNAME:EEST
DTSTART:20240331T010000
END:DAYLIGHT
BEGIN:STANDARD
TZOFFSETFROM:+0300
TZOFFSETTO:+0200
TZNAME:EET
DTSTART:20241027T010000
END:STANDARD
BEGIN:DAYLIGHT
TZOFFSETFROM:+0200
TZOFFSETTO:+0300
TZNAME:EEST
DTSTART:20250330T010000
END:DAYLIGHT
BEGIN:STANDARD
TZOFFSETFROM:+0300
TZOFFSETTO:+0200
TZNAME:EET
DTSTART:20251026T010000
END:STANDARD
BEGIN:DAYLIGHT
TZOFFSETFROM:+0200
TZOFFSETTO:+0300
TZNAME:EEST
DTSTART:20260329T010000
END:DAYLIGHT
BEGIN:STANDARD
TZOFFSETFROM:+0300
TZOFFSETTO:+0200
TZNAME:EET
DTSTART:20261025T010000
END:STANDARD
END:VTIMEZONE
BEGIN:VEVENT
DTSTART;TZID=Europe/Helsinki:20250823T100000
DTEND;TZID=Europe/Helsinki:20250823T140000
DTSTAMP:20260422T211614
CREATED:20250326T094938Z
LAST-MODIFIED:20250326T094938Z
UID:57426-1755943200-1755957600@www.web-conzept-mn.de
SUMMARY:Erfassung der Entomofauna des Salegaster Forsts
DESCRIPTION:Samstag\, den 23.08.\, um 10.00 UhrErfassung der Entomofauna des Salegaster Forsts\nBeobachtung der im Gebiet vorkommenden Insekten und Spinnen mit dem Luppen und schriftli­che Erfassung der gesichteten Tiere in Listen\nBitte bringen Sie ihre eigene Lupe mit. Leider können wir Ihnen keine Lupen zur Verfügung stel­len. Das betrifft auch Klemmbretter.\nVoranmeldung bis spätestens 22.00 Uhr am Freitag\, dem 22.08.2024\, unter: 0176 – 568 796 31\nTreffpunkt: Bahnhof WolfenDauer: ca. 4 Stunden
URL:https://www.web-conzept-mn.de/event/erfassung-der-entomofauna-des-salegaster-forsts-7/
LOCATION:Salegaster Forst\, Bitterfeld-Wolfen
END:VEVENT
BEGIN:VEVENT
DTSTART;TZID=Europe/Helsinki:20250823T100000
DTEND;TZID=Europe/Helsinki:20250823T170000
DTSTAMP:20260422T211614
CREATED:20250325T231150Z
LAST-MODIFIED:20250325T231150Z
UID:57294-1755943200-1755968400@www.web-conzept-mn.de
SUMMARY:Fahrradexkursion durch die Dübener Heide und Muldeaue
DESCRIPTION:Samstag\, den 23.08.\, um 10.00 Uhr\nFahrradexkursion durch die Dübener Heide und Muldeaue\nzwischen Radis und Eilenburg\nTreffpunkt: Bahnhof Radis\nEndpunkt: Bahnhof Eilenburg\nDauer: ca. 7 Stunden
URL:https://www.web-conzept-mn.de/event/fahrradexkursion-durch-die-duebener-heide-und-muldeaue/
END:VEVENT
END:VCALENDAR