BEGIN:VCALENDAR
VERSION:2.0
PRODID:-//Arbeitskreis Hallesche Auenwälder zu Halle / Saale e.V. (AHA) - ECPv6.15.18//NONSGML v1.0//EN
CALSCALE:GREGORIAN
METHOD:PUBLISH
X-WR-CALNAME:Arbeitskreis Hallesche Auenwälder zu Halle / Saale e.V. (AHA)
X-ORIGINAL-URL:https://www.web-conzept-mn.de
X-WR-CALDESC:Veranstaltungen für Arbeitskreis Hallesche Auenwälder zu Halle / Saale e.V. (AHA)
REFRESH-INTERVAL;VALUE=DURATION:PT1H
X-Robots-Tag:noindex
X-PUBLISHED-TTL:PT1H
BEGIN:VTIMEZONE
TZID:Europe/Helsinki
BEGIN:DAYLIGHT
TZOFFSETFROM:+0200
TZOFFSETTO:+0300
TZNAME:EEST
DTSTART:20240331T010000
END:DAYLIGHT
BEGIN:STANDARD
TZOFFSETFROM:+0300
TZOFFSETTO:+0200
TZNAME:EET
DTSTART:20241027T010000
END:STANDARD
BEGIN:DAYLIGHT
TZOFFSETFROM:+0200
TZOFFSETTO:+0300
TZNAME:EEST
DTSTART:20250330T010000
END:DAYLIGHT
BEGIN:STANDARD
TZOFFSETFROM:+0300
TZOFFSETTO:+0200
TZNAME:EET
DTSTART:20251026T010000
END:STANDARD
BEGIN:DAYLIGHT
TZOFFSETFROM:+0200
TZOFFSETTO:+0300
TZNAME:EEST
DTSTART:20260329T010000
END:DAYLIGHT
BEGIN:STANDARD
TZOFFSETFROM:+0300
TZOFFSETTO:+0200
TZNAME:EET
DTSTART:20261025T010000
END:STANDARD
END:VTIMEZONE
BEGIN:VEVENT
DTSTART;TZID=Europe/Helsinki:20250816T100000
DTEND;TZID=Europe/Helsinki:20250816T180000
DTSTAMP:20260422T211323
CREATED:20250325T230040Z
LAST-MODIFIED:20250325T230839Z
UID:57292-1755338400-1755367200@www.web-conzept-mn.de
SUMMARY:Ganztagesradexkursion entlang der Selke
DESCRIPTION:Samstag\, den 16.08.\, um 12.00 Uhr\nGanztagesradexkursion entlang der Selke\nab Quellgebiet bei Stiege bis zur Parkanlage zum „Oberhof“ der ehemali­gen preußischen Staatsdomäne in Gatersleben\nTreffpunkt: Bahnhof Stiege\nEnde: Bahnhof in Gatersleben\nDauer: ca. 8 Stunden
URL:https://www.web-conzept-mn.de/event/ganztagesradexkursion-entlang-der-selke-4/
END:VEVENT
END:VCALENDAR