BEGIN:VCALENDAR
VERSION:2.0
PRODID:-//Arbeitskreis Hallesche Auenwälder zu Halle / Saale e.V. (AHA) - ECPv6.15.18//NONSGML v1.0//EN
CALSCALE:GREGORIAN
METHOD:PUBLISH
X-ORIGINAL-URL:https://www.web-conzept-mn.de
X-WR-CALDESC:Veranstaltungen für Arbeitskreis Hallesche Auenwälder zu Halle / Saale e.V. (AHA)
REFRESH-INTERVAL;VALUE=DURATION:PT1H
X-Robots-Tag:noindex
X-PUBLISHED-TTL:PT1H
BEGIN:VTIMEZONE
TZID:Europe/Helsinki
BEGIN:DAYLIGHT
TZOFFSETFROM:+0200
TZOFFSETTO:+0300
TZNAME:EEST
DTSTART:20240331T010000
END:DAYLIGHT
BEGIN:STANDARD
TZOFFSETFROM:+0300
TZOFFSETTO:+0200
TZNAME:EET
DTSTART:20241027T010000
END:STANDARD
BEGIN:DAYLIGHT
TZOFFSETFROM:+0200
TZOFFSETTO:+0300
TZNAME:EEST
DTSTART:20250330T010000
END:DAYLIGHT
BEGIN:STANDARD
TZOFFSETFROM:+0300
TZOFFSETTO:+0200
TZNAME:EET
DTSTART:20251026T010000
END:STANDARD
BEGIN:DAYLIGHT
TZOFFSETFROM:+0200
TZOFFSETTO:+0300
TZNAME:EEST
DTSTART:20260329T010000
END:DAYLIGHT
BEGIN:STANDARD
TZOFFSETFROM:+0300
TZOFFSETTO:+0200
TZNAME:EET
DTSTART:20261025T010000
END:STANDARD
END:VTIMEZONE
BEGIN:VEVENT
DTSTART;TZID=Europe/Helsinki:20250726T100000
DTEND;TZID=Europe/Helsinki:20250726T160000
DTSTAMP:20260422T194409
CREATED:20250326T091150Z
LAST-MODIFIED:20250326T091150Z
UID:57396-1753524000-1753545600@www.web-conzept-mn.de
SUMMARY:Wanderexkursion zum Stakendorfer Busch und zur Dreieckgrube
DESCRIPTION:Samstag\, den 26.07.\, um 10.00 Uhr\nWanderexkursion zum Stakendorfer Busch und zur Dreieckgrube\nRoute: vom Bahnhof Wolfen zum Südpark\, Überquerung der B 184 und weiter entlang der Grube Johannes bis zur Jahnstraße\, vorbei am Jahnsportplatz und weiter in Richtung Unterführung B183\, nach dem Passieren der Unterführung weiter in Richtung Stakendorfer Busch und Dreieckgrube\, Umrundung der Dreieckgrube weiter zu den im näheren Umfeld befindlichen Grubengewässern\nTreffpunkt: Bahnhof Wolfen\nDauer: ca. 6 Stunden Dauer \nVoranmeldung bis spätestens 22.00 Uhr am Freitag\, dem 25.07.2025\, unter: 0176 – 568 796 31
URL:https://www.web-conzept-mn.de/event/wanderexkursion-zum-stakendorfer-busch-und-zur-dreieckgrube-3/
END:VEVENT
BEGIN:VEVENT
DTSTART;TZID=Europe/Helsinki:20250726T100000
DTEND;TZID=Europe/Helsinki:20250726T180000
DTSTAMP:20260422T194409
CREATED:20250325T225052Z
LAST-MODIFIED:20250325T225052Z
UID:57286-1753524000-1753552800@www.web-conzept-mn.de
SUMMARY:Fahrradexkursion entlang der Elbe
DESCRIPTION:Samstag\, den 26.07.\, um 10.00 Uhr\nFahrradexkursion entlang der Elbe\nzwischen der Großen Kreisstadt Torgau und Lutherstadt Wittenberg\, mit Aufenthalten an der Mündung der Schwarzen Elster in die Elbe und in der Stadt Jessen (Elster)\, Gorsdorf-Hemsendorf\nTreffpunkt: Bahnhof Torgau\nEnde: Bahnhof Lutherstadt Wittenberg\nDauer: ca. 8 Stunden
URL:https://www.web-conzept-mn.de/event/fahrradexkursion-entlang-der-elbe-3/
END:VEVENT
END:VCALENDAR