BEGIN:VCALENDAR
VERSION:2.0
PRODID:-//Arbeitskreis Hallesche Auenwälder zu Halle / Saale e.V. (AHA) - ECPv6.15.18//NONSGML v1.0//EN
CALSCALE:GREGORIAN
METHOD:PUBLISH
X-ORIGINAL-URL:https://www.web-conzept-mn.de
X-WR-CALDESC:Veranstaltungen für Arbeitskreis Hallesche Auenwälder zu Halle / Saale e.V. (AHA)
REFRESH-INTERVAL;VALUE=DURATION:PT1H
X-Robots-Tag:noindex
X-PUBLISHED-TTL:PT1H
BEGIN:VTIMEZONE
TZID:Europe/Helsinki
BEGIN:DAYLIGHT
TZOFFSETFROM:+0200
TZOFFSETTO:+0300
TZNAME:EEST
DTSTART:20240331T010000
END:DAYLIGHT
BEGIN:STANDARD
TZOFFSETFROM:+0300
TZOFFSETTO:+0200
TZNAME:EET
DTSTART:20241027T010000
END:STANDARD
BEGIN:DAYLIGHT
TZOFFSETFROM:+0200
TZOFFSETTO:+0300
TZNAME:EEST
DTSTART:20250330T010000
END:DAYLIGHT
BEGIN:STANDARD
TZOFFSETFROM:+0300
TZOFFSETTO:+0200
TZNAME:EET
DTSTART:20251026T010000
END:STANDARD
BEGIN:DAYLIGHT
TZOFFSETFROM:+0200
TZOFFSETTO:+0300
TZNAME:EEST
DTSTART:20260329T010000
END:DAYLIGHT
BEGIN:STANDARD
TZOFFSETFROM:+0300
TZOFFSETTO:+0200
TZNAME:EET
DTSTART:20261025T010000
END:STANDARD
END:VTIMEZONE
BEGIN:VEVENT
DTSTART;TZID=Europe/Helsinki:20250426T100000
DTEND;TZID=Europe/Helsinki:20250426T140000
DTSTAMP:20260422T151505
CREATED:20250326T005953Z
LAST-MODIFIED:20250326T005953Z
UID:57390-1745661600-1745676000@www.web-conzept-mn.de
SUMMARY:Erfassung der Avifauna des Salegaster Forsts
DESCRIPTION:Samstag\, den 26.04.\, um 10.00 UhrErfassung der Avifauna des Salegaster Forsts\nBeobachtung der im Gebiet vorkommenden Vogelarten mit dem Fernglas und schriftliche Erfassung der gesichteten Tiere in Listen\nBitte bringen Sie ihr eigenes Fernglas mit. Leider können wir Ihnen kein Fernglas zur Verfügung stel­len. Das betrifft auch Klemmbretter.\nVoranmeldung bis spätestens 22.00 Uhr am Freitag\, dem 25.04.2025\, unter: 0176 – 568 796 31\nTreffpunkt: Bahnhof WolfenDauer: ca. 4 Stunden
URL:https://www.web-conzept-mn.de/event/erfassung-der-avifauna-des-salegaster-forsts-8/
LOCATION:Salegaster Forst\, Bitterfeld-Wolfen
END:VEVENT
BEGIN:VEVENT
DTSTART;TZID=Europe/Helsinki:20250426T100000
DTEND;TZID=Europe/Helsinki:20250426T170000
DTSTAMP:20260422T151505
CREATED:20250325T214725Z
LAST-MODIFIED:20250325T214725Z
UID:57263-1745661600-1745686800@www.web-conzept-mn.de
SUMMARY:Exkursion zur Bösen Sieben
DESCRIPTION:Samstag\, den 26.04.\, um 10.00 Uhr\nExkursion zur Bösen Sieben\ndurch den Saugrund\, den Pfaffengrund und den Goldgrund und das Klie­bigtal zum Dippelsbach\nTreffpunkt: Bahnhof Wolferode\nDauer: ca. 7 Stunden
URL:https://www.web-conzept-mn.de/event/exkursion-zur-boesen-sieben-4/
END:VEVENT
END:VCALENDAR