BEGIN:VCALENDAR
VERSION:2.0
PRODID:-//Arbeitskreis Hallesche Auenwälder zu Halle / Saale e.V. (AHA) - ECPv6.15.18//NONSGML v1.0//EN
CALSCALE:GREGORIAN
METHOD:PUBLISH
X-ORIGINAL-URL:https://www.web-conzept-mn.de
X-WR-CALDESC:Veranstaltungen für Arbeitskreis Hallesche Auenwälder zu Halle / Saale e.V. (AHA)
REFRESH-INTERVAL;VALUE=DURATION:PT1H
X-Robots-Tag:noindex
X-PUBLISHED-TTL:PT1H
BEGIN:VTIMEZONE
TZID:Europe/Helsinki
BEGIN:DAYLIGHT
TZOFFSETFROM:+0200
TZOFFSETTO:+0300
TZNAME:EEST
DTSTART:20240331T010000
END:DAYLIGHT
BEGIN:STANDARD
TZOFFSETFROM:+0300
TZOFFSETTO:+0200
TZNAME:EET
DTSTART:20241027T010000
END:STANDARD
BEGIN:DAYLIGHT
TZOFFSETFROM:+0200
TZOFFSETTO:+0300
TZNAME:EEST
DTSTART:20250330T010000
END:DAYLIGHT
BEGIN:STANDARD
TZOFFSETFROM:+0300
TZOFFSETTO:+0200
TZNAME:EET
DTSTART:20251026T010000
END:STANDARD
BEGIN:DAYLIGHT
TZOFFSETFROM:+0200
TZOFFSETTO:+0300
TZNAME:EEST
DTSTART:20260329T010000
END:DAYLIGHT
BEGIN:STANDARD
TZOFFSETFROM:+0300
TZOFFSETTO:+0200
TZNAME:EET
DTSTART:20261025T010000
END:STANDARD
END:VTIMEZONE
BEGIN:VEVENT
DTSTART;TZID=Europe/Helsinki:20250424T170000
DTEND;TZID=Europe/Helsinki:20250424T200000
DTSTAMP:20260422T151412
CREATED:20250325T214529Z
LAST-MODIFIED:20250325T214529Z
UID:57261-1745514000-1745524800@www.web-conzept-mn.de
SUMMARY:Exkursion zum Tag des Baumes
DESCRIPTION:Donnerstag\, den 24.04.\, um 17.00 Uhr\nExkursion zum Tag des Baumes\nzum Steintor und zum Rossplatz\nEine gemeinsame Exkursion mit Initiative „Pro Baum“\nTreffpunkt: Eingang Steintor-Varieté\, Am Steintor 10\, Halle (Saale)\nDauer: ca. 3 Stunden
URL:https://www.web-conzept-mn.de/event/exkursion-zum-tag-des-baumes-2/
END:VEVENT
END:VCALENDAR