BEGIN:VCALENDAR
VERSION:2.0
PRODID:-//Arbeitskreis Hallesche Auenwälder zu Halle / Saale e.V. (AHA) - ECPv6.15.18//NONSGML v1.0//EN
CALSCALE:GREGORIAN
METHOD:PUBLISH
X-WR-CALNAME:Arbeitskreis Hallesche Auenwälder zu Halle / Saale e.V. (AHA)
X-ORIGINAL-URL:https://www.web-conzept-mn.de
X-WR-CALDESC:Veranstaltungen für Arbeitskreis Hallesche Auenwälder zu Halle / Saale e.V. (AHA)
REFRESH-INTERVAL;VALUE=DURATION:PT1H
X-Robots-Tag:noindex
X-PUBLISHED-TTL:PT1H
BEGIN:VTIMEZONE
TZID:Europe/Helsinki
BEGIN:DAYLIGHT
TZOFFSETFROM:+0200
TZOFFSETTO:+0300
TZNAME:EEST
DTSTART:20240331T010000
END:DAYLIGHT
BEGIN:STANDARD
TZOFFSETFROM:+0300
TZOFFSETTO:+0200
TZNAME:EET
DTSTART:20241027T010000
END:STANDARD
BEGIN:DAYLIGHT
TZOFFSETFROM:+0200
TZOFFSETTO:+0300
TZNAME:EEST
DTSTART:20250330T010000
END:DAYLIGHT
BEGIN:STANDARD
TZOFFSETFROM:+0300
TZOFFSETTO:+0200
TZNAME:EET
DTSTART:20251026T010000
END:STANDARD
BEGIN:DAYLIGHT
TZOFFSETFROM:+0200
TZOFFSETTO:+0300
TZNAME:EEST
DTSTART:20260329T010000
END:DAYLIGHT
BEGIN:STANDARD
TZOFFSETFROM:+0300
TZOFFSETTO:+0200
TZNAME:EET
DTSTART:20261025T010000
END:STANDARD
END:VTIMEZONE
BEGIN:VEVENT
DTSTART;TZID=Europe/Helsinki:20250418T100000
DTEND;TZID=Europe/Helsinki:20250418T130000
DTSTAMP:20260422T151159
CREATED:20250325T214319Z
LAST-MODIFIED:20250325T214319Z
UID:57259-1744970400-1744981200@www.web-conzept-mn.de
SUMMARY:Bäume pflanzen am Karfreitag
DESCRIPTION:Karfreitag\, den 18.04.\, um 10.00 Uhr\n„Bäume pflanzen am Karfreitag“\nEine gemeinsame Aktion mit der Initiative „Pro Baum“\nTreffpunkt: Ochsenbrücke am Riveufer\, Halle (Saale)
URL:https://www.web-conzept-mn.de/event/baeume-pflanzen-am-karfreitag/
END:VEVENT
END:VCALENDAR