BEGIN:VCALENDAR
VERSION:2.0
PRODID:-//Arbeitskreis Hallesche Auenwälder zu Halle / Saale e.V. (AHA) - ECPv6.15.18//NONSGML v1.0//EN
CALSCALE:GREGORIAN
METHOD:PUBLISH
X-ORIGINAL-URL:https://www.web-conzept-mn.de
X-WR-CALDESC:Veranstaltungen für Arbeitskreis Hallesche Auenwälder zu Halle / Saale e.V. (AHA)
REFRESH-INTERVAL;VALUE=DURATION:PT1H
X-Robots-Tag:noindex
X-PUBLISHED-TTL:PT1H
BEGIN:VTIMEZONE
TZID:Europe/Helsinki
BEGIN:DAYLIGHT
TZOFFSETFROM:+0200
TZOFFSETTO:+0300
TZNAME:EEST
DTSTART:20240331T010000
END:DAYLIGHT
BEGIN:STANDARD
TZOFFSETFROM:+0300
TZOFFSETTO:+0200
TZNAME:EET
DTSTART:20241027T010000
END:STANDARD
BEGIN:DAYLIGHT
TZOFFSETFROM:+0200
TZOFFSETTO:+0300
TZNAME:EEST
DTSTART:20250330T010000
END:DAYLIGHT
BEGIN:STANDARD
TZOFFSETFROM:+0300
TZOFFSETTO:+0200
TZNAME:EET
DTSTART:20251026T010000
END:STANDARD
BEGIN:DAYLIGHT
TZOFFSETFROM:+0200
TZOFFSETTO:+0300
TZNAME:EEST
DTSTART:20260329T010000
END:DAYLIGHT
BEGIN:STANDARD
TZOFFSETFROM:+0300
TZOFFSETTO:+0200
TZNAME:EET
DTSTART:20261025T010000
END:STANDARD
END:VTIMEZONE
BEGIN:VEVENT
DTSTART;TZID=Europe/Helsinki:20250322T100000
DTEND;TZID=Europe/Helsinki:20250322T140000
DTSTAMP:20260422T133326
CREATED:20241217T131722Z
LAST-MODIFIED:20241217T131722Z
UID:55175-1742637600-1742652000@www.web-conzept-mn.de
SUMMARY:Erfassung der Avifauna des Auenrestwald "Wolfener Busch"
DESCRIPTION:Samstag\, den 22.03.\, um 10.00 UhrErfassung der Avifauna des Auenrestwald „Wolfener Busch“\nBeobachtung der im Gebiet vorkommenden Vogelarten mit dem Fernglas und schriftli­che Erfassung der gesichteten Tiere in Listen\nBitte bringen Sie ihr eigenes Fernglas mit. Leider können wir Ihnen keine Ferngläser zur Verfügung stel­len. Das betrifft auch Klemmbretter.\nVoranmeldung bis spätestens 22.00 Uhr am Freitag\, dem 21.03.2025\, unter: 0176 – 568 796 31\nTreffpunkt: Bahnhof WolfenDauer: ca. 4 Stunden
URL:https://www.web-conzept-mn.de/event/erfassung-der-avifauna-des-auenrestwald-wolfener-busch-9/
END:VEVENT
BEGIN:VEVENT
DTSTART;TZID=Europe/Helsinki:20250322T100000
DTEND;TZID=Europe/Helsinki:20250322T150000
DTSTAMP:20260422T133326
CREATED:20250316T204252Z
LAST-MODIFIED:20250316T204252Z
UID:57035-1742637600-1742655600@www.web-conzept-mn.de
SUMMARY:Fahrradexkursion zum FFH-Gebiet Gipskarstlandschaft Pölsfeld und ent­lang der Gonna
DESCRIPTION:Samstag\, den 22.03.\, um 10.00 Uhr\nFahrradexkursion zum FFH-Gebiet Gipskarstlandschaft Pölsfeld und ent­lang der Gonna\nGemeinsame Fahrradexkursion mit dem Regionalhistoriker Dieter Vopel in das FFH Gebiet Gipskarstlandschaft Pölsfeld und Breiter Fleck und entlang der Gonna\nTreffpunkt: Bahnhof Riestedt\nDauer: ca. 5 Stunden
URL:https://www.web-conzept-mn.de/event/fahrradexkursion-zum-ffh-gebiet-gipskarstlandschaft-poelsfeld-und-entlang-der-gonna-3/
END:VEVENT
BEGIN:VEVENT
DTSTART;TZID=Europe/Helsinki:20250322T100000
DTEND;TZID=Europe/Helsinki:20250322T160000
DTSTAMP:20260422T133326
CREATED:20241217T123357Z
LAST-MODIFIED:20241217T123357Z
UID:55146-1742637600-1742659200@www.web-conzept-mn.de
SUMMARY:Fahrradexkursion entlang der Saale
DESCRIPTION:Samstag\, den 22.03.\, um 10.00 Uhr\nFahrradexkursion entlang der Saale\nzwischen den Städten Saalfeld und Rudolstadt mit Aufenthalt an der Einmündung der Schwarza\nTreffpunkt: Bahnhof Saalfeld\nEnde: Bahnhof Rudolstadt\nDauer: ca. 6 Stunden
URL:https://www.web-conzept-mn.de/event/fahrradexkursion-entlang-der-saale/
END:VEVENT
END:VCALENDAR