BEGIN:VCALENDAR
VERSION:2.0
PRODID:-//Arbeitskreis Hallesche Auenwälder zu Halle / Saale e.V. (AHA) - ECPv6.15.18//NONSGML v1.0//EN
CALSCALE:GREGORIAN
METHOD:PUBLISH
X-WR-CALNAME:Arbeitskreis Hallesche Auenwälder zu Halle / Saale e.V. (AHA)
X-ORIGINAL-URL:https://www.web-conzept-mn.de
X-WR-CALDESC:Veranstaltungen für Arbeitskreis Hallesche Auenwälder zu Halle / Saale e.V. (AHA)
REFRESH-INTERVAL;VALUE=DURATION:PT1H
X-Robots-Tag:noindex
X-PUBLISHED-TTL:PT1H
BEGIN:VTIMEZONE
TZID:Europe/Helsinki
BEGIN:DAYLIGHT
TZOFFSETFROM:+0200
TZOFFSETTO:+0300
TZNAME:EEST
DTSTART:20240331T010000
END:DAYLIGHT
BEGIN:STANDARD
TZOFFSETFROM:+0300
TZOFFSETTO:+0200
TZNAME:EET
DTSTART:20241027T010000
END:STANDARD
BEGIN:DAYLIGHT
TZOFFSETFROM:+0200
TZOFFSETTO:+0300
TZNAME:EEST
DTSTART:20250330T010000
END:DAYLIGHT
BEGIN:STANDARD
TZOFFSETFROM:+0300
TZOFFSETTO:+0200
TZNAME:EET
DTSTART:20251026T010000
END:STANDARD
BEGIN:DAYLIGHT
TZOFFSETFROM:+0200
TZOFFSETTO:+0300
TZNAME:EEST
DTSTART:20260329T010000
END:DAYLIGHT
BEGIN:STANDARD
TZOFFSETFROM:+0300
TZOFFSETTO:+0200
TZNAME:EET
DTSTART:20261025T010000
END:STANDARD
END:VTIMEZONE
BEGIN:VEVENT
DTSTART;TZID=Europe/Helsinki:20250315T100000
DTEND;TZID=Europe/Helsinki:20250315T130000
DTSTAMP:20260422T133221
CREATED:20241217T125040Z
LAST-MODIFIED:20241217T125040Z
UID:55154-1742032800-1742043600@www.web-conzept-mn.de
SUMMARY:Arbeitseinsatz auf der Streuobstwiese „Am Landhaus“
DESCRIPTION:Samstag\, den 15.03.\, um 10.00 Uhr\nArbeitseinsatz auf der Streuobstwiese „Am Landhaus“\nTreffpunkt: Pension „Landhaus“ Dessau
URL:https://www.web-conzept-mn.de/event/arbeitseinsatz-auf-der-streuobstwiese-am-landhaus-19/
LOCATION:Streuobstwiese Landhaus Dessau\, Landhaus 1\, Dessau-Roßlau\, 06844\, Deutschland
END:VEVENT
BEGIN:VEVENT
DTSTART;TZID=Europe/Helsinki:20250315T100000
DTEND;TZID=Europe/Helsinki:20250315T160000
DTSTAMP:20260422T133221
CREATED:20241217T131305Z
LAST-MODIFIED:20241217T131305Z
UID:55171-1742032800-1742054400@www.web-conzept-mn.de
SUMMARY:Wanderexkursion zur „Alten Leine“
DESCRIPTION:Samstag\, den 15.03.\, um 10.00 Uhr\nWanderexkursion zur „Alten Leine“\nRoute: Bahnhof Wolfen\, Überqueren der Eisenbahnbrücke am Wolfener Busch\, weiter zur Salegaster Chaussee\, Überquerung der Salegaster Chaussee und weiter durch den Salegaster Forst bis zur Wegekreuzung „Invalidendreieck“ und von dort weiter bis zur Katzenbrücke im Salegaster Forst\, Fortsetzung der Wanderung durch die Mulde-Leine-Aue bis zum Muldewehr und weiter entlang der Mulde bis zur „Alten Leine“\nTreffpunkt: Bahnhof Wolfen\nDauer: ca. 6 Stunden
URL:https://www.web-conzept-mn.de/event/wanderexkursion-zur-alten-leine-4/
END:VEVENT
END:VCALENDAR