BEGIN:VCALENDAR
VERSION:2.0
PRODID:-//Arbeitskreis Hallesche Auenwälder zu Halle / Saale e.V. (AHA) - ECPv6.15.18//NONSGML v1.0//EN
CALSCALE:GREGORIAN
METHOD:PUBLISH
X-ORIGINAL-URL:https://www.web-conzept-mn.de
X-WR-CALDESC:Veranstaltungen für Arbeitskreis Hallesche Auenwälder zu Halle / Saale e.V. (AHA)
REFRESH-INTERVAL;VALUE=DURATION:PT1H
X-Robots-Tag:noindex
X-PUBLISHED-TTL:PT1H
BEGIN:VTIMEZONE
TZID:Europe/Helsinki
BEGIN:DAYLIGHT
TZOFFSETFROM:+0200
TZOFFSETTO:+0300
TZNAME:EEST
DTSTART:20240331T010000
END:DAYLIGHT
BEGIN:STANDARD
TZOFFSETFROM:+0300
TZOFFSETTO:+0200
TZNAME:EET
DTSTART:20241027T010000
END:STANDARD
BEGIN:DAYLIGHT
TZOFFSETFROM:+0200
TZOFFSETTO:+0300
TZNAME:EEST
DTSTART:20250330T010000
END:DAYLIGHT
BEGIN:STANDARD
TZOFFSETFROM:+0300
TZOFFSETTO:+0200
TZNAME:EET
DTSTART:20251026T010000
END:STANDARD
BEGIN:DAYLIGHT
TZOFFSETFROM:+0200
TZOFFSETTO:+0300
TZNAME:EEST
DTSTART:20260329T010000
END:DAYLIGHT
BEGIN:STANDARD
TZOFFSETFROM:+0300
TZOFFSETTO:+0200
TZNAME:EET
DTSTART:20261025T010000
END:STANDARD
END:VTIMEZONE
BEGIN:VEVENT
DTSTART;TZID=Europe/Helsinki:20250215T100000
DTEND;TZID=Europe/Helsinki:20250215T130000
DTSTAMP:20260422T115852
CREATED:20241217T124936Z
LAST-MODIFIED:20241217T124936Z
UID:55152-1739613600-1739624400@www.web-conzept-mn.de
SUMMARY:Arbeitseinsatz auf der Streuobstwiese „Am Landhaus“
DESCRIPTION:Samstag\, den 15.02.\, um 10.00 Uhr\nArbeitseinsatz auf der Streuobstwiese „Am Landhaus“\nTreffpunkt: Pension „Landhaus“ Dessau
URL:https://www.web-conzept-mn.de/event/arbeitseinsatz-auf-der-streuobstwiese-am-landhaus-18/
LOCATION:Streuobstwiese Landhaus Dessau\, Landhaus 1\, Dessau-Roßlau\, 06844\, Deutschland
END:VEVENT
END:VCALENDAR