BEGIN:VCALENDAR
VERSION:2.0
PRODID:-//Arbeitskreis Hallesche Auenwälder zu Halle / Saale e.V. (AHA) - ECPv6.15.18//NONSGML v1.0//EN
CALSCALE:GREGORIAN
METHOD:PUBLISH
X-WR-CALNAME:Arbeitskreis Hallesche Auenwälder zu Halle / Saale e.V. (AHA)
X-ORIGINAL-URL:https://www.web-conzept-mn.de
X-WR-CALDESC:Veranstaltungen für Arbeitskreis Hallesche Auenwälder zu Halle / Saale e.V. (AHA)
REFRESH-INTERVAL;VALUE=DURATION:PT1H
X-Robots-Tag:noindex
X-PUBLISHED-TTL:PT1H
BEGIN:VTIMEZONE
TZID:Europe/Helsinki
BEGIN:DAYLIGHT
TZOFFSETFROM:+0200
TZOFFSETTO:+0300
TZNAME:EEST
DTSTART:20240331T010000
END:DAYLIGHT
BEGIN:STANDARD
TZOFFSETFROM:+0300
TZOFFSETTO:+0200
TZNAME:EET
DTSTART:20241027T010000
END:STANDARD
BEGIN:DAYLIGHT
TZOFFSETFROM:+0200
TZOFFSETTO:+0300
TZNAME:EEST
DTSTART:20250330T010000
END:DAYLIGHT
BEGIN:STANDARD
TZOFFSETFROM:+0300
TZOFFSETTO:+0200
TZNAME:EET
DTSTART:20251026T010000
END:STANDARD
BEGIN:DAYLIGHT
TZOFFSETFROM:+0200
TZOFFSETTO:+0300
TZNAME:EEST
DTSTART:20260329T010000
END:DAYLIGHT
BEGIN:STANDARD
TZOFFSETFROM:+0300
TZOFFSETTO:+0200
TZNAME:EET
DTSTART:20261025T010000
END:STANDARD
END:VTIMEZONE
BEGIN:VEVENT
DTSTART;TZID=Europe/Helsinki:20250201T100000
DTEND;TZID=Europe/Helsinki:20250201T140000
DTSTAMP:20260422T102600
CREATED:20241217T122416Z
LAST-MODIFIED:20241217T122416Z
UID:55136-1738404000-1738418400@www.web-conzept-mn.de
SUMMARY:Protestrundexkursion um Niemberg zum Burgstetten
DESCRIPTION:Samstag\, den 01.02.\, um 10.00 Uhr\nProtestrundexkursion um Niemberg zum Burgstetten\nGemeinsam mit dem Burgstetten e.V.\nTreffpunkt: Bahnhof Niemberg\nDauer: ca. 4 Stunden
URL:https://www.web-conzept-mn.de/event/protestrundexkursion-um-niemberg-zum-burgstetten/
LOCATION:Burgstetten\, 51°33'03.4"N 12°05'46.3"E\, Landsberg\, 06188\, Deutschland
END:VEVENT
END:VCALENDAR