BEGIN:VCALENDAR
VERSION:2.0
PRODID:-//Arbeitskreis Hallesche Auenwälder zu Halle / Saale e.V. (AHA) - ECPv6.15.18//NONSGML v1.0//EN
CALSCALE:GREGORIAN
METHOD:PUBLISH
X-ORIGINAL-URL:https://www.web-conzept-mn.de
X-WR-CALDESC:Veranstaltungen für Arbeitskreis Hallesche Auenwälder zu Halle / Saale e.V. (AHA)
REFRESH-INTERVAL;VALUE=DURATION:PT1H
X-Robots-Tag:noindex
X-PUBLISHED-TTL:PT1H
BEGIN:VTIMEZONE
TZID:Europe/Helsinki
BEGIN:DAYLIGHT
TZOFFSETFROM:+0200
TZOFFSETTO:+0300
TZNAME:EEST
DTSTART:20240331T010000
END:DAYLIGHT
BEGIN:STANDARD
TZOFFSETFROM:+0300
TZOFFSETTO:+0200
TZNAME:EET
DTSTART:20241027T010000
END:STANDARD
BEGIN:DAYLIGHT
TZOFFSETFROM:+0200
TZOFFSETTO:+0300
TZNAME:EEST
DTSTART:20250330T010000
END:DAYLIGHT
BEGIN:STANDARD
TZOFFSETFROM:+0300
TZOFFSETTO:+0200
TZNAME:EET
DTSTART:20251026T010000
END:STANDARD
BEGIN:DAYLIGHT
TZOFFSETFROM:+0200
TZOFFSETTO:+0300
TZNAME:EEST
DTSTART:20260329T010000
END:DAYLIGHT
BEGIN:STANDARD
TZOFFSETFROM:+0300
TZOFFSETTO:+0200
TZNAME:EET
DTSTART:20261025T010000
END:STANDARD
END:VTIMEZONE
BEGIN:VEVENT
DTSTART;TZID=Europe/Helsinki:20250125T093000
DTEND;TZID=Europe/Helsinki:20250125T150000
DTSTAMP:20260422T101910
CREATED:20241217T122153Z
LAST-MODIFIED:20241217T122153Z
UID:55134-1737797400-1737817200@www.web-conzept-mn.de
SUMMARY:Neujahreswanderung in das Biosphärenreservat „Karstlandschaft Südharz“
DESCRIPTION:Samstag\, den 25.01.\, um 09.30 Uhr\nNeujahreswanderung in das Biosphärenreservat „Karstlandschaft Südharz“\nKombinierte gemeinsame Neujahresfahrrad- und Fußwanderung mit dem Bund für Umwelt und Naturschutz\, Kreisgruppe Mansfeld-Südharz\, dem Naturschutzbund\, Kreisverband Mansfeld-Südharz e.V. und der Bürgerinitiative Pro Südharz – Gegen Gipsabbau durch die Thyraaue in das Biosphärenreservat „Karstlandschaft Südharz“\, in die Gipskarstlandschaft Heimkehle und zum angrenzenden Gipssteinbruch\nVon der Bahnstation Berga-Kelbra geht es per Fahrrad zur Heimkehle. Die weitere Exkursion in das Biosphärenreservat „Karstlandschaft Südharz“\, in die Gipskarstlandschaft Heimkehle und zum angrenzenden Gipssteinbruch findet per Fuß statt.\nTreffpunkt: Bahnhof Berga-Kelbra\nDauer: ca. 5 Stunden
URL:https://www.web-conzept-mn.de/event/neujahreswanderung-in-das-biosphaerenreservat-karstlandschaft-suedharz/
END:VEVENT
BEGIN:VEVENT
DTSTART;TZID=Europe/Helsinki:20250125T100000
DTEND;TZID=Europe/Helsinki:20250125T140000
DTSTAMP:20260422T101910
CREATED:20241217T132146Z
LAST-MODIFIED:20241217T133154Z
UID:55178-1737799200-1737813600@www.web-conzept-mn.de
SUMMARY:Erfassung der Avifauna des Salegaster Forsts
DESCRIPTION:Samstag\, den 25.01.\, um 10.00 UhrErfassung der Avifauna des Salegaster Forsts\nBeobachtung der im Gebiet vorkommenden Vogelarten mit dem Fernglas und schriftliche Erfassung der gesichteten Tiere in Listen\nBitte bringen Sie ihr eigenes Fernglas mit. Leider können wir Ihnen kein Fernglas zur Verfügung stel­len. Das betrifft auch Klemmbretter.\nVoranmeldung bis spätestens 22.00 Uhr am Freitag\, dem 24.01.2025\, unter: 0176 – 568 796 31\nTreffpunkt: Bahnhof WolfenDauer: ca. 4 Stunden
URL:https://www.web-conzept-mn.de/event/erfassung-der-entomofauna-des-salegaster-forsts-6/
LOCATION:Salegaster Forst\, Bitterfeld-Wolfen
END:VEVENT
END:VCALENDAR