BEGIN:VCALENDAR
VERSION:2.0
PRODID:-//Arbeitskreis Hallesche Auenwälder zu Halle / Saale e.V. (AHA) - ECPv6.15.18//NONSGML v1.0//EN
CALSCALE:GREGORIAN
METHOD:PUBLISH
X-WR-CALNAME:Arbeitskreis Hallesche Auenwälder zu Halle / Saale e.V. (AHA)
X-ORIGINAL-URL:https://www.web-conzept-mn.de
X-WR-CALDESC:Veranstaltungen für Arbeitskreis Hallesche Auenwälder zu Halle / Saale e.V. (AHA)
REFRESH-INTERVAL;VALUE=DURATION:PT1H
X-Robots-Tag:noindex
X-PUBLISHED-TTL:PT1H
BEGIN:VTIMEZONE
TZID:Europe/Helsinki
BEGIN:DAYLIGHT
TZOFFSETFROM:+0200
TZOFFSETTO:+0300
TZNAME:EEST
DTSTART:20240331T010000
END:DAYLIGHT
BEGIN:STANDARD
TZOFFSETFROM:+0300
TZOFFSETTO:+0200
TZNAME:EET
DTSTART:20241027T010000
END:STANDARD
BEGIN:DAYLIGHT
TZOFFSETFROM:+0200
TZOFFSETTO:+0300
TZNAME:EEST
DTSTART:20250330T010000
END:DAYLIGHT
BEGIN:STANDARD
TZOFFSETFROM:+0300
TZOFFSETTO:+0200
TZNAME:EET
DTSTART:20251026T010000
END:STANDARD
BEGIN:DAYLIGHT
TZOFFSETFROM:+0200
TZOFFSETTO:+0300
TZNAME:EEST
DTSTART:20260329T010000
END:DAYLIGHT
BEGIN:STANDARD
TZOFFSETFROM:+0300
TZOFFSETTO:+0200
TZNAME:EET
DTSTART:20261025T010000
END:STANDARD
END:VTIMEZONE
BEGIN:VEVENT
DTSTART;TZID=Europe/Helsinki:20250111T100000
DTEND;TZID=Europe/Helsinki:20250111T130000
DTSTAMP:20260422T101724
CREATED:20241217T115101Z
LAST-MODIFIED:20241217T115208Z
UID:55130-1736589600-1736600400@www.web-conzept-mn.de
SUMMARY:Neujahresrundwanderung von Teutschethal zum Würdebach
DESCRIPTION:Samstag\, den 11.01.\, um 10.00 Uhr\nNeujahresrundwanderung von Teutschethal zum Würdebach\nGemeinsame Neujahresrundwanderung mit der Bürgerinitiative Gegen eine Giftmüll- und Deponieregion Halle-Saalekreis e.V. in Teutschenthal\nRoute: Eisenbahnhaltepunkt Teutschenthal Ost\, Würdebach\, Steinkistengrab in Köchstedt\, Kiessandabbau im Abbaufeld Köchstedt\, Querung des Würdebaches\, Eisenbahnhaltepunkt Teutschenthal Ost\nTreffpunkt: Eisenbahnhaltepunkt Teutschenthal Ost\nDauer: ca. 3 Stunden
URL:https://www.web-conzept-mn.de/event/neujahresrundwanderung-von-teutschethal-zum-wuerdebach/
LOCATION:Teutschenthal\, Teutschenthal\, 06179\, Germany
END:VEVENT
BEGIN:VEVENT
DTSTART;TZID=Europe/Helsinki:20250111T100000
DTEND;TZID=Europe/Helsinki:20250111T150000
DTSTAMP:20260422T101724
CREATED:20241217T130459Z
LAST-MODIFIED:20241217T130459Z
UID:55169-1736589600-1736607600@www.web-conzept-mn.de
SUMMARY:Neujahrsexkursion zum Forsthaus Salegast
DESCRIPTION:Samstag\, den 11.01.\, um 10.00 Uhr\nNeujahrsexkursion zum Forsthaus Salegast\nRoute: Auenrestwald „Wolfener Busch“\, Salegaster Chaussee\, Waldweg zur Wegekreuzung „Invalidendreieck“\, Katzenbrücke\, Wanderweg in Richtung Forsthaus und Conradi- Linde\, Rückmarsch über die Auenwiesen Jeßnitz\, Mittellache\, Salegaster Chaussee in Richtung Wolfen\nTreffpunkt: Bahnhof Wolfen\nca. 5 Stunden
URL:https://www.web-conzept-mn.de/event/neujahrsexkursion-zum-forsthaus-salegast-3/
END:VEVENT
END:VCALENDAR