BEGIN:VCALENDAR
VERSION:2.0
PRODID:-//Arbeitskreis Hallesche Auenwälder zu Halle / Saale e.V. (AHA) - ECPv6.15.18//NONSGML v1.0//EN
CALSCALE:GREGORIAN
METHOD:PUBLISH
X-WR-CALNAME:Arbeitskreis Hallesche Auenwälder zu Halle / Saale e.V. (AHA)
X-ORIGINAL-URL:https://www.web-conzept-mn.de
X-WR-CALDESC:Veranstaltungen für Arbeitskreis Hallesche Auenwälder zu Halle / Saale e.V. (AHA)
REFRESH-INTERVAL;VALUE=DURATION:PT1H
X-Robots-Tag:noindex
X-PUBLISHED-TTL:PT1H
BEGIN:VTIMEZONE
TZID:Europe/Helsinki
BEGIN:DAYLIGHT
TZOFFSETFROM:+0200
TZOFFSETTO:+0300
TZNAME:EEST
DTSTART:20240331T010000
END:DAYLIGHT
BEGIN:STANDARD
TZOFFSETFROM:+0300
TZOFFSETTO:+0200
TZNAME:EET
DTSTART:20241027T010000
END:STANDARD
BEGIN:DAYLIGHT
TZOFFSETFROM:+0200
TZOFFSETTO:+0300
TZNAME:EEST
DTSTART:20250330T010000
END:DAYLIGHT
BEGIN:STANDARD
TZOFFSETFROM:+0300
TZOFFSETTO:+0200
TZNAME:EET
DTSTART:20251026T010000
END:STANDARD
BEGIN:DAYLIGHT
TZOFFSETFROM:+0200
TZOFFSETTO:+0300
TZNAME:EEST
DTSTART:20260329T010000
END:DAYLIGHT
BEGIN:STANDARD
TZOFFSETFROM:+0300
TZOFFSETTO:+0200
TZNAME:EET
DTSTART:20261025T010000
END:STANDARD
END:VTIMEZONE
BEGIN:VEVENT
DTSTART;TZID=Europe/Helsinki:20250104T100000
DTEND;TZID=Europe/Helsinki:20250104T120000
DTSTAMP:20260422T084433
CREATED:20241217T114549Z
LAST-MODIFIED:20241217T114712Z
UID:55126-1735984800-1735992000@www.web-conzept-mn.de
SUMMARY:Neujahreswanderung zum NSG Hakel
DESCRIPTION:Samstag\, den 04.01.\, um 10.00 Uhr\nNeujahreswanderung zum NSG Hakel\nGemeinsam mit der Bürgerinitiative Hakelwald\nTreffpunkt: Waldrand des Hakels\, Hakelstraße\, außerhalb von Heteborn\nDauer: ca. 2 Stunden
URL:https://www.web-conzept-mn.de/event/neujahreswanderung-zum-nsg-hakel-2/
LOCATION:Hakel\, Hakelstraße\, Heteborn\, 06458\, Deutschland
END:VEVENT
END:VCALENDAR