BEGIN:VCALENDAR
VERSION:2.0
PRODID:-//Arbeitskreis Hallesche Auenwälder zu Halle / Saale e.V. (AHA) - ECPv6.15.18//NONSGML v1.0//EN
CALSCALE:GREGORIAN
METHOD:PUBLISH
X-WR-CALNAME:Arbeitskreis Hallesche Auenwälder zu Halle / Saale e.V. (AHA)
X-ORIGINAL-URL:https://www.web-conzept-mn.de
X-WR-CALDESC:Veranstaltungen für Arbeitskreis Hallesche Auenwälder zu Halle / Saale e.V. (AHA)
REFRESH-INTERVAL;VALUE=DURATION:PT1H
X-Robots-Tag:noindex
X-PUBLISHED-TTL:PT1H
BEGIN:VTIMEZONE
TZID:Europe/Helsinki
BEGIN:DAYLIGHT
TZOFFSETFROM:+0200
TZOFFSETTO:+0300
TZNAME:EEST
DTSTART:20230326T010000
END:DAYLIGHT
BEGIN:STANDARD
TZOFFSETFROM:+0300
TZOFFSETTO:+0200
TZNAME:EET
DTSTART:20231029T010000
END:STANDARD
BEGIN:DAYLIGHT
TZOFFSETFROM:+0200
TZOFFSETTO:+0300
TZNAME:EEST
DTSTART:20240331T010000
END:DAYLIGHT
BEGIN:STANDARD
TZOFFSETFROM:+0300
TZOFFSETTO:+0200
TZNAME:EET
DTSTART:20241027T010000
END:STANDARD
BEGIN:DAYLIGHT
TZOFFSETFROM:+0200
TZOFFSETTO:+0300
TZNAME:EEST
DTSTART:20250330T010000
END:DAYLIGHT
BEGIN:STANDARD
TZOFFSETFROM:+0300
TZOFFSETTO:+0200
TZNAME:EET
DTSTART:20251026T010000
END:STANDARD
END:VTIMEZONE
BEGIN:VEVENT
DTSTART;TZID=Europe/Helsinki:20241123T100000
DTEND;TZID=Europe/Helsinki:20241123T140000
DTSTAMP:20260422T071953
CREATED:20240728T113531Z
LAST-MODIFIED:20240728T113531Z
UID:51884-1732356000-1732370400@www.web-conzept-mn.de
SUMMARY:Erfassung der Avifauna des Salegaster Forsts
DESCRIPTION:Samstag\, den 23.11.\, um 10.00 UhrErfassung der Avifauna des Salegaster Forsts\nBeobachtung der im Gebiet vorkommenden Vogelarten mit dem Fernglas und schriftli­che Erfassung der gesichteten Tiere in Listen\nHinweis: Bitte bringen Sie ihr eigenes Fernglas mit. Leider können wir Ihnen keine Ferngläser zur Verfügung stel­len. Das betrifft auch Klemmbretter.\nVoranmeldung bis spätestens 22.00 Uhr am Freitag\, dem 22.11.2024\, unter: 0176 – 568 796 31\nTreffpunkt: Bahnhof WolfenDauer: ca. 4 Stunden
URL:https://www.web-conzept-mn.de/event/erfassung-der-avifauna-des-salegaster-forsts-6/
END:VEVENT
BEGIN:VEVENT
DTSTART;TZID=Europe/Helsinki:20241123T100000
DTEND;TZID=Europe/Helsinki:20241123T150000
DTSTAMP:20260422T071953
CREATED:20240728T105333Z
LAST-MODIFIED:20240728T105333Z
UID:51856-1732356000-1732374000@www.web-conzept-mn.de
SUMMARY:Herbstrundexkursion durch die Saaleauenlandschaft
DESCRIPTION:Samstag\, den 23.11.\, um 10.00 Uhr\nHerbstrundexkursion durch die Saaleauenlandschaft\nzwischen Merseburg (Gotthardteich\, Rischmühleninsel)\, entlang der Al­ten Saale (Wehr-Ruine Werder) und Leuna (Waldbad) mit Abschluss und anschließende Auswertung in der Umweltbibliothek Merseburg „Jürgen Bernt-Bärtl“\, inklusive Bestimmungen mit Hilfe Fachliteratur und Mikro­skop\nTreffpunkt: Bahnhof Merseburg\nDauer: ca. 5 Stunden
URL:https://www.web-conzept-mn.de/event/herbstrundexkursion-durch-die-saaleauenlandschaft-3/
END:VEVENT
END:VCALENDAR