BEGIN:VCALENDAR
VERSION:2.0
PRODID:-//Arbeitskreis Hallesche Auenwälder zu Halle / Saale e.V. (AHA) - ECPv6.15.18//NONSGML v1.0//EN
CALSCALE:GREGORIAN
METHOD:PUBLISH
X-ORIGINAL-URL:https://www.web-conzept-mn.de
X-WR-CALDESC:Veranstaltungen für Arbeitskreis Hallesche Auenwälder zu Halle / Saale e.V. (AHA)
REFRESH-INTERVAL;VALUE=DURATION:PT1H
X-Robots-Tag:noindex
X-PUBLISHED-TTL:PT1H
BEGIN:VTIMEZONE
TZID:Europe/Helsinki
BEGIN:DAYLIGHT
TZOFFSETFROM:+0200
TZOFFSETTO:+0300
TZNAME:EEST
DTSTART:20230326T010000
END:DAYLIGHT
BEGIN:STANDARD
TZOFFSETFROM:+0300
TZOFFSETTO:+0200
TZNAME:EET
DTSTART:20231029T010000
END:STANDARD
BEGIN:DAYLIGHT
TZOFFSETFROM:+0200
TZOFFSETTO:+0300
TZNAME:EEST
DTSTART:20240331T010000
END:DAYLIGHT
BEGIN:STANDARD
TZOFFSETFROM:+0300
TZOFFSETTO:+0200
TZNAME:EET
DTSTART:20241027T010000
END:STANDARD
BEGIN:DAYLIGHT
TZOFFSETFROM:+0200
TZOFFSETTO:+0300
TZNAME:EEST
DTSTART:20250330T010000
END:DAYLIGHT
BEGIN:STANDARD
TZOFFSETFROM:+0300
TZOFFSETTO:+0200
TZNAME:EET
DTSTART:20251026T010000
END:STANDARD
END:VTIMEZONE
BEGIN:VEVENT
DTSTART;TZID=Europe/Helsinki:20241005T100000
DTEND;TZID=Europe/Helsinki:20241005T140000
DTSTAMP:20260422T041913
CREATED:20240728T102827Z
LAST-MODIFIED:20240728T102827Z
UID:51845-1728122400-1728136800@www.web-conzept-mn.de
SUMMARY:Exkursion teilweise durch den Schillerpark\, zum NSG "Untere Mulde" und das ND "Eichendom"
DESCRIPTION:Samstag\, den 05.10.\, um 10.00 Uhr\nExkursion teilweise durch den Schillerpark\, zum NSG „Untere Mulde“ und das ND „Eichendom“\nTreffpunkt: Ecke Walderseestraße/Albrechtstraße (ARAL-Tankstelle)\, Dessau-Roßlau\nDauer: ca. 4 Stunden
URL:https://www.web-conzept-mn.de/event/exkursion-teilweise-durch-den-schillerpark-zum-nsg-untere-mulde-und-das-nd-eichendom-2/
END:VEVENT
END:VCALENDAR