BEGIN:VCALENDAR
VERSION:2.0
PRODID:-//Arbeitskreis Hallesche Auenwälder zu Halle / Saale e.V. (AHA) - ECPv6.15.18//NONSGML v1.0//EN
CALSCALE:GREGORIAN
METHOD:PUBLISH
X-WR-CALNAME:Arbeitskreis Hallesche Auenwälder zu Halle / Saale e.V. (AHA)
X-ORIGINAL-URL:https://www.web-conzept-mn.de
X-WR-CALDESC:Veranstaltungen für Arbeitskreis Hallesche Auenwälder zu Halle / Saale e.V. (AHA)
REFRESH-INTERVAL;VALUE=DURATION:PT1H
X-Robots-Tag:noindex
X-PUBLISHED-TTL:PT1H
BEGIN:VTIMEZONE
TZID:Europe/Helsinki
BEGIN:DAYLIGHT
TZOFFSETFROM:+0200
TZOFFSETTO:+0300
TZNAME:EEST
DTSTART:20230326T010000
END:DAYLIGHT
BEGIN:STANDARD
TZOFFSETFROM:+0300
TZOFFSETTO:+0200
TZNAME:EET
DTSTART:20231029T010000
END:STANDARD
BEGIN:DAYLIGHT
TZOFFSETFROM:+0200
TZOFFSETTO:+0300
TZNAME:EEST
DTSTART:20240331T010000
END:DAYLIGHT
BEGIN:STANDARD
TZOFFSETFROM:+0300
TZOFFSETTO:+0200
TZNAME:EET
DTSTART:20241027T010000
END:STANDARD
BEGIN:DAYLIGHT
TZOFFSETFROM:+0200
TZOFFSETTO:+0300
TZNAME:EEST
DTSTART:20250330T010000
END:DAYLIGHT
BEGIN:STANDARD
TZOFFSETFROM:+0300
TZOFFSETTO:+0200
TZNAME:EET
DTSTART:20251026T010000
END:STANDARD
END:VTIMEZONE
BEGIN:VEVENT
DTSTART;TZID=Europe/Helsinki:20240922T100000
DTEND;TZID=Europe/Helsinki:20240922T130000
DTSTAMP:20260422T041849
CREATED:20240728T111303Z
LAST-MODIFIED:20240728T111303Z
UID:51869-1726999200-1727010000@www.web-conzept-mn.de
SUMMARY:Exkursion zum Tag des Geotops
DESCRIPTION:Sonntag\, den 22.09.\, um 10.00 Uhr\nExkursion zum Tag des Geotops\n Geologisch-bergbauhistorisch-zoologisch-botanische Wanderung auf dem Karl-Hebener-Weg\, Lutherstadt Eisleben-Wimmelburg und zurück über die Hüne­burg (Kuckucksbaum)\nTreffpunkt: Ecke Friedensstraße/Fritz-Wenkstraße\, Lutherstadt Eisleben\nDauer: ca. 3 Stunden
URL:https://www.web-conzept-mn.de/event/exkursion-zum-tag-des-geotops-3/
END:VEVENT
END:VCALENDAR