BEGIN:VCALENDAR
VERSION:2.0
PRODID:-//Arbeitskreis Hallesche Auenwälder zu Halle / Saale e.V. (AHA) - ECPv6.15.18//NONSGML v1.0//EN
CALSCALE:GREGORIAN
METHOD:PUBLISH
X-ORIGINAL-URL:https://www.web-conzept-mn.de
X-WR-CALDESC:Veranstaltungen für Arbeitskreis Hallesche Auenwälder zu Halle / Saale e.V. (AHA)
REFRESH-INTERVAL;VALUE=DURATION:PT1H
X-Robots-Tag:noindex
X-PUBLISHED-TTL:PT1H
BEGIN:VTIMEZONE
TZID:Europe/Helsinki
BEGIN:DAYLIGHT
TZOFFSETFROM:+0200
TZOFFSETTO:+0300
TZNAME:EEST
DTSTART:20230326T010000
END:DAYLIGHT
BEGIN:STANDARD
TZOFFSETFROM:+0300
TZOFFSETTO:+0200
TZNAME:EET
DTSTART:20231029T010000
END:STANDARD
BEGIN:DAYLIGHT
TZOFFSETFROM:+0200
TZOFFSETTO:+0300
TZNAME:EEST
DTSTART:20240331T010000
END:DAYLIGHT
BEGIN:STANDARD
TZOFFSETFROM:+0300
TZOFFSETTO:+0200
TZNAME:EET
DTSTART:20241027T010000
END:STANDARD
BEGIN:DAYLIGHT
TZOFFSETFROM:+0200
TZOFFSETTO:+0300
TZNAME:EEST
DTSTART:20250330T010000
END:DAYLIGHT
BEGIN:STANDARD
TZOFFSETFROM:+0300
TZOFFSETTO:+0200
TZNAME:EET
DTSTART:20251026T010000
END:STANDARD
END:VTIMEZONE
BEGIN:VEVENT
DTSTART;TZID=Europe/Helsinki:20240908T100000
DTEND;TZID=Europe/Helsinki:20240908T140000
DTSTAMP:20260422T041954
CREATED:20240728T111040Z
LAST-MODIFIED:20240728T111040Z
UID:51867-1725789600-1725804000@www.web-conzept-mn.de
SUMMARY:Wanderung zum Tag des Geotops
DESCRIPTION:Sonntag\, den 08.09.\, um 10.00 Uhr\nWanderung zum Tag des Geotops\n Gemeinsame Wanderung zum Tag des Geotops mit dem Regionalhistoriker Dieter Vopel durch das Ackertal von Bornstedt entlang der Rohne nach Klosterrode und zurück.\nTreffpunkt: Kirche in Bornstedt\, Bauernsteinstraße\nDauer: ca. 4 Stunden
URL:https://www.web-conzept-mn.de/event/wanderung-zum-tag-des-geotops-3/
END:VEVENT
END:VCALENDAR