BEGIN:VCALENDAR
VERSION:2.0
PRODID:-//Arbeitskreis Hallesche Auenwälder zu Halle / Saale e.V. (AHA) - ECPv6.15.18//NONSGML v1.0//EN
CALSCALE:GREGORIAN
METHOD:PUBLISH
X-ORIGINAL-URL:https://www.web-conzept-mn.de
X-WR-CALDESC:Veranstaltungen für Arbeitskreis Hallesche Auenwälder zu Halle / Saale e.V. (AHA)
REFRESH-INTERVAL;VALUE=DURATION:PT1H
X-Robots-Tag:noindex
X-PUBLISHED-TTL:PT1H
BEGIN:VTIMEZONE
TZID:Europe/Helsinki
BEGIN:DAYLIGHT
TZOFFSETFROM:+0200
TZOFFSETTO:+0300
TZNAME:EEST
DTSTART:20230326T010000
END:DAYLIGHT
BEGIN:STANDARD
TZOFFSETFROM:+0300
TZOFFSETTO:+0200
TZNAME:EET
DTSTART:20231029T010000
END:STANDARD
BEGIN:DAYLIGHT
TZOFFSETFROM:+0200
TZOFFSETTO:+0300
TZNAME:EEST
DTSTART:20240331T010000
END:DAYLIGHT
BEGIN:STANDARD
TZOFFSETFROM:+0300
TZOFFSETTO:+0200
TZNAME:EET
DTSTART:20241027T010000
END:STANDARD
BEGIN:DAYLIGHT
TZOFFSETFROM:+0200
TZOFFSETTO:+0300
TZNAME:EEST
DTSTART:20250330T010000
END:DAYLIGHT
BEGIN:STANDARD
TZOFFSETFROM:+0300
TZOFFSETTO:+0200
TZNAME:EET
DTSTART:20251026T010000
END:STANDARD
END:VTIMEZONE
BEGIN:VEVENT
DTSTART;TZID=Europe/Helsinki:20240727T100000
DTEND;TZID=Europe/Helsinki:20240727T160000
DTSTAMP:20260422T005522
CREATED:20240411T190415Z
LAST-MODIFIED:20240411T190415Z
UID:49127-1722074400-1722096000@www.web-conzept-mn.de
SUMMARY:Wanderexkursion zum Stakendorfer Busch und zur Dreieckgrube
DESCRIPTION:Samstag\, den 27.07.\, um 10.00 Uhr\nWanderexkursion zum Stakendorfer Busch und zur Dreieckgrube\nRoute: vom Bahnhof Wolfen zum Südpark\, Überquerung der B 184 und weiter entlang der Grube Johannes bis zur Jahnstraße\, vorbei am Jahnsportplatz und weiter in Richtung Unterführung B183\, nach dem Passieren der Unterführung weiter in Richtung Stakendorfer Busch und Dreieckgrube\, Umrundung der Dreieckgrube weiter zu den im näheren Umfeld befindlichen Grubengewässern\nTreffpunkt: Bahnhof Wolfen\nDauer: ca. 6 Stunden
URL:https://www.web-conzept-mn.de/event/wanderexkursion-zum-stakendorfer-busch-und-zur-dreieckgrube-2/
END:VEVENT
BEGIN:VEVENT
DTSTART;TZID=Europe/Helsinki:20240727T120000
DTEND;TZID=Europe/Helsinki:20240727T200000
DTSTAMP:20260422T005522
CREATED:20240411T185635Z
LAST-MODIFIED:20240411T185635Z
UID:49123-1722081600-1722110400@www.web-conzept-mn.de
SUMMARY:Ganztagesradexkursion entlang der Selke
DESCRIPTION:Samstag\, den 27.07.\, um 12.00 Uhr\nGanztagesradexkursion entlang der Selke\nab Quellgebiet bei Stiege bis zur Parkanlage zum „Oberhof“ der ehemali­gen preußischen Staatsdomäne in Gatersleben\nTreffpunkt: Bahnhof Stiege\nDauer: ca. 8 Stunden
URL:https://www.web-conzept-mn.de/event/ganztagesradexkursion-entlang-der-selke-3/
END:VEVENT
END:VCALENDAR