BEGIN:VCALENDAR
VERSION:2.0
PRODID:-//Arbeitskreis Hallesche Auenwälder zu Halle / Saale e.V. (AHA) - ECPv6.15.18//NONSGML v1.0//EN
CALSCALE:GREGORIAN
METHOD:PUBLISH
X-ORIGINAL-URL:https://www.web-conzept-mn.de
X-WR-CALDESC:Veranstaltungen für Arbeitskreis Hallesche Auenwälder zu Halle / Saale e.V. (AHA)
REFRESH-INTERVAL;VALUE=DURATION:PT1H
X-Robots-Tag:noindex
X-PUBLISHED-TTL:PT1H
BEGIN:VTIMEZONE
TZID:Europe/Helsinki
BEGIN:DAYLIGHT
TZOFFSETFROM:+0200
TZOFFSETTO:+0300
TZNAME:EEST
DTSTART:20230326T010000
END:DAYLIGHT
BEGIN:STANDARD
TZOFFSETFROM:+0300
TZOFFSETTO:+0200
TZNAME:EET
DTSTART:20231029T010000
END:STANDARD
BEGIN:DAYLIGHT
TZOFFSETFROM:+0200
TZOFFSETTO:+0300
TZNAME:EEST
DTSTART:20240331T010000
END:DAYLIGHT
BEGIN:STANDARD
TZOFFSETFROM:+0300
TZOFFSETTO:+0200
TZNAME:EET
DTSTART:20241027T010000
END:STANDARD
BEGIN:DAYLIGHT
TZOFFSETFROM:+0200
TZOFFSETTO:+0300
TZNAME:EEST
DTSTART:20250330T010000
END:DAYLIGHT
BEGIN:STANDARD
TZOFFSETFROM:+0300
TZOFFSETTO:+0200
TZNAME:EET
DTSTART:20251026T010000
END:STANDARD
END:VTIMEZONE
BEGIN:VEVENT
DTSTART;TZID=Europe/Helsinki:20240720T100000
DTEND;TZID=Europe/Helsinki:20240720T140000
DTSTAMP:20260422T005415
CREATED:20240411T185941Z
LAST-MODIFIED:20240411T185941Z
UID:49125-1721469600-1721484000@www.web-conzept-mn.de
SUMMARY:Arbeitseinsatz auf der Streuobstwiese „Am Landhaus“
DESCRIPTION:Samstag\, den 20.07.\, um 10.00 UhrArbeitseinsatz auf der Streuobstwiese „Am Landhaus“Treffpunkt: Pension „Landhaus“ Dessau
URL:https://www.web-conzept-mn.de/event/arbeitseinsatz-auf-der-streuobstwiese-am-landhaus-11/
LOCATION:Streuobstwiese Landhaus Dessau\, Landhaus 1\, Dessau-Roßlau\, 06844\, Deutschland
END:VEVENT
BEGIN:VEVENT
DTSTART;TZID=Europe/Helsinki:20240720T100000
DTEND;TZID=Europe/Helsinki:20240720T140000
DTSTAMP:20260422T005415
CREATED:20240628T122647Z
LAST-MODIFIED:20240628T122647Z
UID:50688-1721469600-1721484000@www.web-conzept-mn.de
SUMMARY:Erfassung der Entomofauna des Auenrestwaldes “Wolfener Busch”
DESCRIPTION:Samstag\, den 20.07.\, um 10.00 Uhr\nErfassung der Entomofauna des Auenrestwaldes “Wolfener Busch”\nErfassung der Insektenfauna (Tagfalter\, Laufkäfer\, Libellen\, Heuschrecken)\, Beobachtung und schriftliche Erfassung der gesichteten Tiere in Listen\nBitte bringen Sie ihr eigenes Fernglas mit. Leider können wir Ihnen keine Ferngläser zur Verfügung stel­len. Das betrifft auch Klemmbretter.\nTreffpunkt: Bahnhof Wolfen\nDauer: ca. 4 Stunden
URL:https://www.web-conzept-mn.de/event/erfassung-der-entomofauna-des-auenrestwaldes-wolfener-busch-5/
END:VEVENT
END:VCALENDAR