BEGIN:VCALENDAR
VERSION:2.0
PRODID:-//Arbeitskreis Hallesche Auenwälder zu Halle / Saale e.V. (AHA) - ECPv6.15.18//NONSGML v1.0//EN
CALSCALE:GREGORIAN
METHOD:PUBLISH
X-ORIGINAL-URL:https://www.web-conzept-mn.de
X-WR-CALDESC:Veranstaltungen für Arbeitskreis Hallesche Auenwälder zu Halle / Saale e.V. (AHA)
REFRESH-INTERVAL;VALUE=DURATION:PT1H
X-Robots-Tag:noindex
X-PUBLISHED-TTL:PT1H
BEGIN:VTIMEZONE
TZID:Europe/Helsinki
BEGIN:DAYLIGHT
TZOFFSETFROM:+0200
TZOFFSETTO:+0300
TZNAME:EEST
DTSTART:20230326T010000
END:DAYLIGHT
BEGIN:STANDARD
TZOFFSETFROM:+0300
TZOFFSETTO:+0200
TZNAME:EET
DTSTART:20231029T010000
END:STANDARD
BEGIN:DAYLIGHT
TZOFFSETFROM:+0200
TZOFFSETTO:+0300
TZNAME:EEST
DTSTART:20240331T010000
END:DAYLIGHT
BEGIN:STANDARD
TZOFFSETFROM:+0300
TZOFFSETTO:+0200
TZNAME:EET
DTSTART:20241027T010000
END:STANDARD
BEGIN:DAYLIGHT
TZOFFSETFROM:+0200
TZOFFSETTO:+0300
TZNAME:EEST
DTSTART:20250330T010000
END:DAYLIGHT
BEGIN:STANDARD
TZOFFSETFROM:+0300
TZOFFSETTO:+0200
TZNAME:EET
DTSTART:20251026T010000
END:STANDARD
END:VTIMEZONE
BEGIN:VEVENT
DTSTART;TZID=Europe/Helsinki:20240713T100000
DTEND;TZID=Europe/Helsinki:20240713T180000
DTSTAMP:20260422T005522
CREATED:20240411T185413Z
LAST-MODIFIED:20240411T185413Z
UID:49121-1720864800-1720893600@www.web-conzept-mn.de
SUMMARY:Fahrradexkursion entlang der Schwarzen Elster und der Elbe
DESCRIPTION:Samstag\, den 13.07.\, um 10.00 Uhr\nFahrradexkursion entlang der Schwarzen Elster und der Elbe\nzwischen der Stadt Falkenberg (Elster) und der Lutherstadt Wittenberg\nTreffpunkt: Ecke Friedrich-Engels-Straße/Bahnhofstraße\, Falkenberg (Elster)\, unweit des Bahnhofs\nDauer: ca. 8 Stunden
URL:https://www.web-conzept-mn.de/event/fahrradexkursion-entlang-der-schwarzen-elster-und-der-elbe/
END:VEVENT
END:VCALENDAR