BEGIN:VCALENDAR
VERSION:2.0
PRODID:-//Arbeitskreis Hallesche Auenwälder zu Halle / Saale e.V. (AHA) - ECPv6.15.18//NONSGML v1.0//EN
CALSCALE:GREGORIAN
METHOD:PUBLISH
X-WR-CALNAME:Arbeitskreis Hallesche Auenwälder zu Halle / Saale e.V. (AHA)
X-ORIGINAL-URL:https://www.web-conzept-mn.de
X-WR-CALDESC:Veranstaltungen für Arbeitskreis Hallesche Auenwälder zu Halle / Saale e.V. (AHA)
REFRESH-INTERVAL;VALUE=DURATION:PT1H
X-Robots-Tag:noindex
X-PUBLISHED-TTL:PT1H
BEGIN:VTIMEZONE
TZID:Europe/Helsinki
BEGIN:DAYLIGHT
TZOFFSETFROM:+0200
TZOFFSETTO:+0300
TZNAME:EEST
DTSTART:20230326T010000
END:DAYLIGHT
BEGIN:STANDARD
TZOFFSETFROM:+0300
TZOFFSETTO:+0200
TZNAME:EET
DTSTART:20231029T010000
END:STANDARD
BEGIN:DAYLIGHT
TZOFFSETFROM:+0200
TZOFFSETTO:+0300
TZNAME:EEST
DTSTART:20240331T010000
END:DAYLIGHT
BEGIN:STANDARD
TZOFFSETFROM:+0300
TZOFFSETTO:+0200
TZNAME:EET
DTSTART:20241027T010000
END:STANDARD
BEGIN:DAYLIGHT
TZOFFSETFROM:+0200
TZOFFSETTO:+0300
TZNAME:EEST
DTSTART:20250330T010000
END:DAYLIGHT
BEGIN:STANDARD
TZOFFSETFROM:+0300
TZOFFSETTO:+0200
TZNAME:EET
DTSTART:20251026T010000
END:STANDARD
END:VTIMEZONE
BEGIN:VEVENT
DTSTART;TZID=Europe/Helsinki:20240529T170000
DTEND;TZID=Europe/Helsinki:20240529T200000
DTSTAMP:20260423T130558
CREATED:20240326T110002Z
LAST-MODIFIED:20240326T115057Z
UID:48617-1717002000-1717012800@www.web-conzept-mn.de
SUMMARY:Exkursion durch das Naturschutzgebiet "Nordspitze Peißnitz" anlässlich des 41. Jahrestages der Gründung der Patenschaftsgruppe Peißnitz
DESCRIPTION:Mittwoch\, den 29.05.\, um 17.00 Uhr\n41. Jahrestag der Gründung der Patenschaftsgruppe Peißnitz\ndes Ar­beitskreises Umweltschutz Halle in der Gesellschaft für Natur und Um­welt im Kulturbund der DDR am 29.05.1983\nExkursion durch das Naturschutzgebiet „Nordspitze Peißnitz“\nTreffpunkt: Peißnitzhaus\nDauer: ca. 3 Stunden
URL:https://www.web-conzept-mn.de/event/exkursion-durch-das-naturschutzgebiet-nordspitze-peissnitz-anlaesslich-des-41-jahrestages-der-gruendung-der-patenschaftsgruppe-peissnitz/
LOCATION:Peißnitz\, Halle (Saale)
END:VEVENT
END:VCALENDAR